Workbook

Sheet Suvestinė
B1: 2019
B2: Rodiklis | C2: Reikšmė
B3: Premjerų skaičius | C3: 288
B4: Lietuviškų filmų premjerų skaičius | C4: 27
B5: Bendras filmų skaičius | C5: 383
B6: Bendros pajamos | C6: 22513443
B7: Bendras žiūrovų skaičius | C7: 4152014
B9: Filmų dalis rinkoje, %
B10: Kategorija | C10: Pajamos | D10: Žiūrovų skaičius | E10: Pajamos % | F10: Žiūrovų skaičius % | G10: Filmų skaičius
B11: Lietuva | C11: 4436478.2 | D11: 798570 | E11: 19.706 | F11: 19.233 | G11: 39
B12: Europa | C12: 3601514.9 | D12: 715523 | E12: 15.997 | F12: 17.233 | G12: 179
B13: JAV | C13: 13437729 | D13: 2434276 | E13: 59.688 | F13: 58.629 | G13: 139
B14: Kita | C14: 1037721 | D14: 203645 | E14: 4.609 | F14: 4.905 | G14: 26
B15: Total | C15: =SUBTOTAL(109,Table1[Pajamos]) -> 22513443 | D15: =SUBTOTAL(109,Table1[Žiūrovų skaičius]) -> 4152014 | E15: =SUBTOTAL(109,Table1[Pajamos %]) -> 100 | F15: =SUBTOTAL(109,Table1[Žiūrovų skaičius %]) -> 100 | G15: =SUBTOTAL(109,Table1[Filmų skaičius]) -> 383
B47: Pasiskirstymas pagal platintojus
A48: Eil. nr | B48: Platintojas | C48: Pajamos | D48: Žiūrovų skaičius | E48: Filmų skaičius | F48: Pajamos % | G48: Žiūrovų skaičius %
A49: =IF(B49<>"",ROWS($B$49:B49),"") -> 1 | B49: ACME Film | C49: 3994570.5 | D49: 747325 | E49: 62 | F49: 17.743 | G49: 17.999
A50: =IF(B50<>"",ROWS($B$49:B50),"") -> 2 | B50: Theatrical Film Distribution / WDSMPI | C50: 3277230.9 | D50: 602354 | E50: 16 | F50: 14.557 | G50: 14.508
A51: =IF(B51<>"",ROWS($B$49:B51),"") -> 3 | B51: NCG Distribution / Universal Pictures International | C51: 3087735.5 | D51: 594602 | E51: 22 | F51: 13.715 | G51: 14.321
A52: =IF(B52<>"",ROWS($B$49:B52),"") -> 4 | B52: ACME Film / WB | C52: 2402079.6 | D52: 407913 | E52: 17 | F52: 10.67 | G52: 9.824
A53: =IF(B53<>"",ROWS($B$49:B53),"") -> 5 | B53: ACME Film / SONY | C53: 2065427.6 | D53: 370780 | E53: 16 | F53: 9.174 | G53: 8.93
A54: =IF(B54<>"",ROWS($B$49:B54),"") -> 6 | B54: Stambus planas | C54: 1259261.9 | D54: 204860 | E54: 1 | F54: 5.593 | G54: 4.934
A55: =IF(B55<>"",ROWS($B$49:B55),"") -> 7 | B55: Theatrical Film Distribution / 20th Century Fox | C55: 1207412.6 | D55: 203565 | E55: 11 | F55: 5.363 | G55: 4.903
A56: =IF(B56<>"",ROWS($B$49:B56),"") -> 8 | B56: Garsų pasaulio įrašai | C56: 1052516 | D56: 208583 | E56: 36 | F56: 4.675 | G56: 5.024
A57: =IF(B57<>"",ROWS($B$49:B57),"") -> 9 | B57: Singing fish | C57: 948534.97 | D57: 160486 | E57: 2 | F57: 4.213 | G57: 3.865
A58: =IF(B58<>"",ROWS($B$49:B58),"") -> 10 | B58: VLG Film | C58: 455461.36 | D58: 84140 | E58: 25 | F58: 2.023 | G58: 2.026
A59: =IF(B59<>"",ROWS($B$49:B59),"") -> 11 | B59: NCG Distribution / Paramount Pictures | C59: 397213.93 | D59: 73388 | E59: 6 | F59: 1.764 | G59: 1.768
A60: =IF(B60<>"",ROWS($B$49:B60),"") -> 12 | B60: Best Film | C60: 348147.99 | D60: 67207 | E60: 17 | F60: 1.546 | G60: 1.619
... A87: =IF(B87<>"",ROWS($B$49:B87),"") -> 39 | B87: TV Manija | C87: 128 | D87: 22 | E87: 1 | F87: 0.001 | G87: 0.001
A88: Total | C88: =SUBTOTAL(109,Table18[Pajamos]) -> 22513443 | D88: =SUBTOTAL(109,Table18[Žiūrovų skaičius]) -> 4152014 | E88: =SUBTOTAL(109,Table18[Filmų skaičius]) -> 383 | F88: =SUBTOTAL(109,Table18[Pajamos %]) -> 100 | G88: =SUBTOTAL(109,Table18[Žiūrovų skaičius %]) -> 100.004
A90: LT TOP
A91: Eil. Nr. | B91: Filmo pavadinimas | C91: Pajamos | D91: Žiūrovų skaičius | E91: Premjeros data | F91: Platintojas
A92: 1 | B92: Pats sau milijonierius | C92: 1259261.9 | D92: 204860 | E92: 43756 | F92: Stambus planas
A93: 2 | B93: Ir visi jų vyrai | C93: 690896.43 | D93: 121123 | E93: 43490 | F93: ACME Film
A94: 3 | B94: Pasmerkti. Kauno romanas | C94: 508888.97 | D94: 88763 | E94: 43518 | F94: Singing fish
A95: 4 | B95: Pasmerkti. Pajūrio džiazas | C95: 439646 | D95: 71723 | E95: 43791 | F95: Singing fish
A96: 5 | B96: Tarp mūsų, mergaičių | C96: 310830 | D96: 55189 | E96: 43462 | F96: Vabalo filmai
A97: 6 | B97: Valstybės Paslaptis | C97: 214476.02 | D97: 40040 | E97: 43567 | F97: ACME Film
A98: 7 | B98: Purpurinis rūkas | C98: 159978 | D98: 33038 | E98: 43504 | F98: Garsų pasaulio įrašai
A99: 8 | B99: Vestuvės | C99: 147514.5 | D99: 28122 | E99: 43686 | F99: Film Jam
...

Sheet Platintojų pasiskirtsymas
A1: Platintojas | B1: Filmo pavadinimas | C1: Pajamos | D1: Žiūrovų skaičius | E1: Premjeros data
A2: ACME Film | B2: Ir visi jų vyrai (Ir visi jų vyrai) | C2: 690896.43 | D2: 121123 | E2: 43490
B3: Žalioji knyga (Green Book) | C3: 304190.17 | D3: 54065 | E3: 43476
B4: Valstybės Paslaptis (Valstybės Paslaptis) | C4: 214476.02 | D4: 40040 | E4: 43567
B5: Aferistės (Hustlers) | C5: 172848.23 | D5: 29426 | E5: 43728
B6: Džonas Vikas 3 (John Wick 3: Parabellum) | C6: 151688.56 | D6: 26568 | E6: 43602
B7: Šuns tikslas 2 (Molly and Max (A Dog's Journey)) | C7: 150180.3 | D7: 30268 | E7: 43721
B8: Karalienės Korgis (Queens Corgi) | C8: 132100.65 | D8: 29596 | E8: 43546
B9: Bjaurios lėlės (Uglydolls) | C9: 125008.15 | D9: 29389 | E9: 43651
B10: Ištraukti peiliai (Knives Out) | C10: 121148.23 | D10: 20321 | E10: 43798
B11: Midvėjaus mūšis (Midway) | C11: 118498.46 | D11: 18708 | E11: 43777
B12: Mirties APPS'AS (Countdown) | C12: 103691.94 | D12: 17123 | E12: 43763
B13: Aviuko Šono filmas. Fermagedonas (Shaun the Sheep 2 (Shaun the Sheep Movie: Farmageddon)) | C13: 95803.43 | D13: 19929 | E13: 43784
B14: Tarp pilkų debesų (Ashes in the Snow) | C14: 94829.69 | D14: 21205 | E14: 43385
... B63: Balerina (2017) (Ballerina (2017)) | C63: 52 | D63: 26 | E63: 42748
A64: ACME Film Total | B64: =COUNTA(B2:B63) -> 62 | C64: 3994570.5 | D64: 747325
A65: Theatrical Film Distribution / WDSMPI | B65: Liūtas karalius (The Lion King) | C65: 815863.31 | D65: 154363 | E65: 43665
B66: Keršytojai. Pabaiga (Avengers: Endgame) | C66: 566244.72 | D66: 92523 | E66: 43581
B67: Ledo šalis 2 (Frozen 2) | C67: 511960.65 | D67: 99784 | E67: 43824
B68: Ralfas griovėjas 2 (Ralph Breaks the Internet: Wreck-It Ralph 2) | C68: 294601.92 | D68: 60636 | E68: 43476
B69: Žaislų istorija 4 (Toy Story 4) | C69: 253767.05 | D69: 53554 | E69: 43686
B70: Žvaigždžių karai. Skaivokerio iškilimas (Star Wars: The Rise of Skywalker) | C70: 231368.27 | D70: 35098 | E70: 43817
B71: Kapitonė Marvel (Captain Marvel) | C71: 191799.39 | D71: 30738 | E71: 43532
B72: Piktadarės istorija 2 (Maleficent: Mistress of Evil) | C72: 177754.66 | D72: 30814 | E72: 43763
B73: Stiklas (Glass) | C73: 116290.15 | D73: 20542 | E73: 43483
B74: Aladinas (Aladdin) | C74: 81013.3 | D74: 16381 | E74: 43609
B75: Merė Popins grįžta (Mary Poppins Returns) | C75: 19331.06 | D75: 3958 | E75: 43462
B76: Dambis (Dumbo) | C76: 15134.02 | D76: 3041 | E76: 43553
B77: Nerealieji 2 (Incredibles 2) | C77: 798.5 | D77: 442 | E77: 43315
... B80: Ratai 3 (Cars 3) | C80: 76 | D80: 38 | E80: 42944
A81: Theatrical Film Distribution / WDSMPI Total | B81: =COUNTA(B65:B80) -> 16 | C81: 3277230.9 | D81: 602354
A82: NCG Distribution / Universal Pictures International | B82: Kaip prisijaukinti slibiną 3 (How to Train Your Dragon: The Hidden World) | C82: 674097.78 | D82: 134218 | E82: 43532
B83: Slaptas augintinių gyvenimas 2 (Secret Life of Pets 2) | C83: 522172.51 | D83: 111307 | E83: 43616
B84: Greiti ir įsiutę: Hobsas ir Šo (Fast & Furious Presents: Hobbs & Shaw) | C84: 402092.74 | D84: 65917 | E84: 43679
B85: Sniego vaikis (Abominable) | C85: 355396.31 | D85: 72111 | E85: 43742
B86: Adamsų šeimynėlė (The Addams Family) | C86: 290507.9 | D86: 58444 | E86: 43798
B87: Afera (The Hustle) | C87: 180540.41 | D87: 31707 | E87: 43630
B88: Last Christmas (Last Christmas) | C88: 130457.35 | D88: 20724 | E88: 43805
B89: Mes (Us) | C89: 104837.54 | D89: 17933 | E89: 43546
B90: Grinčas (The Grinch) | C90: 93200.27 | D90: 21250 | E90: 43434
...

Sheet 2019
A1: 2019
A2: Lietuvos kino teatruose rodytų filmų TOP
A5: Eil. Nr. | B5: Filmo pavadinimas | C5: Filmo pavadinimas originalo kalba | D5: Kilmės šalis | E5: Pajamos | F5: Žiūrovų skaičius | G5: Kopijų skaičius | H5: Premjeros data | I5: Platintojas
A6: =IF(B6<>"",ROWS($B$6:B6),"") -> 1 | B6: Pats sau milijonierius | C6: Pats sau milijonierius | D6: LT | E6: 1259261.9 | F6: 204860 | G6: 20 | H6: 43756 | I6: Stambus planas
A7: =IF(B7<>"",ROWS($B$6:B7),"") -> 2 | B7: Džokeris | C7: Joker | D7: US, CA | E7: 982355.81 | F7: 155986 | G7: 17 | H7: 43742 | I7: ACME Film / WB
A8: =IF(B8<>"",ROWS($B$6:B8),"") -> 3 | B8: Liūtas karalius | C8: The Lion King | D8: US | E8: 815863.31 | F8: 154363 | G8: 31 | H8: 43665 | I8: Theatrical Film Distribution / WDSMPI
A9: =IF(B9<>"",ROWS($B$6:B9),"") -> 4 | B9: Ir visi jų vyrai | C9: Ir visi jų vyrai | D9: LT | E9: 690896.43 | F9: 121123 | G9: 18 | H9: 43490 | I9: ACME Film
A10: =IF(B10<>"",ROWS($B$6:B10),"") -> 5 | B10: Kaip prisijaukinti slibiną 3 | C10: How to Train Your Dragon: The Hidden World | D10: US | E10: 674097.78 | F10: 134218 | G10: 19 | H10: 43532 | I10: NCG Distribution / Universal Pictures International
A11: =IF(B11<>"",ROWS($B$6:B11),"") -> 6 | B11: Keršytojai. Pabaiga | C11: Avengers: Endgame | D11: US | E11: 566244.72 | F11: 92523 | G11: 25 | H11: 43581 | I11: Theatrical Film Distribution / WDSMPI
A12: =IF(B12<>"",ROWS($B$6:B12),"") -> 7 | B12: Slaptas augintinių gyvenimas 2 | C12: Secret Life of Pets 2 | D12: US | E12: 522172.51 | F12: 111307 | G12: 19 | H12: 43616 | I12: NCG Distribution / Universal Pictures International
A13: =IF(B13<>"",ROWS($B$6:B13),"") -> 8 | B13: Ledo šalis 2 | C13: Frozen 2 | D13: US | E13: 511960.65 | F13: 99784 | G13: 32 | H13: 43824 | I13: Theatrical Film Distribution / WDSMPI
A14: =IF(B14<>"",ROWS($B$6:B14),"") -> 9 | B14: Pasmerkti. Kauno romanas | C14: Pasmerkti. Kauno romanas | D14: LT | E14: 508888.97 | F14: 88763 | G14: 18 | H14: 43518 | I14: Singing fish
A15: =IF(B15<>"",ROWS($B$6:B15),"") -> 10 | B15: Vieną kartą Holivude | C15: Once Upon a Time... in Hollywood | D15: US, UK, CN | E15: 457353.87 | F15: 76044 | G15: 17 | H15: 43693 | I15: ACME Film / SONY
A16: =IF(B16<>"",ROWS($B$6:B16),"") -> 11 | B16: Pasmerkti. Pajūrio džiazas | C16: Pasmerkti. Pajūrio džiazas | D16: LT | E16: 439646 | F16: 71723 | G16: 19 | H16: 43791 | I16: Singing fish
A17: =IF(B17<>"",ROWS($B$6:B17),"") -> 12 | B17: Greiti ir įsiutę: Hobsas ir Šo | C17: Fast & Furious Presents: Hobbs & Shaw | D17: US | E17: 402092.74 | F17: 65917 | G17: 14 | H17: 43679 | I17: NCG Distribution / Universal Pictures International
A18: =IF(B18<>"",ROWS($B$6:B18),"") -> 13 | B18: Sniego vaikis | C18: Abominable | D18: CN, US | E18: 355396.31 | F18: 72111 | G18: 17 | H18: 43742 | I18: NCG Distribution / Universal Pictures International
A19: =IF(B19<>"",ROWS($B$6:B19),"") -> 14 | B19: Džiumandži: Kitas lygis | C19: Jumanji: The Next level (Jumanji 2) | D19: US | E19: 336961.86 | F19: 53687 | G19: 14 | H19: 43805 | I19: ACME Film / SONY
A20: =IF(B20<>"",ROWS($B$6:B20),"") -> 15 | B20: Piktieji paukščiai. Filmas 2 | C20: The Angry Birds Movie 2 | D20: FI, US | E20: 332052.93 | F20: 70356 | G20: 17 | H20: 43700 | I20: ACME Film / SONY
A21: =IF(B21<>"",ROWS($B$6:B21),"") -> 16 | B21: Žmogus-Voras: Toli nuo namų | C21: Spiderman Far From Home | D21: US | E21: 318759.05 | F21: 52884 | G21: 12 | H21: 43651 | I21: ACME Film / SONY
A22: =IF(B22<>"",ROWS($B$6:B22),"") -> 17 | B22: Tarp mūsų, mergaičių | C22: Tarp mūsų, mergaičių | D22: LT | E22: 310830 | F22: 55189 | G22: 14 | H22: 43462 | I22: Vabalo filmai
A23: =IF(B23<>"",ROWS($B$6:B23),"") -> 18 | B23: Žalioji knyga | C23: Green Book | D23: US | E23: 304190.17 | F23: 54065 | G23: 13 | H23: 43476 | I23: ACME Film
A24: =IF(B24<>"",ROWS($B$6:B24),"") -> 19 | B24: Ralfas griovėjas 2 | C24: Ralph Breaks the Internet: Wreck-It Ralph 2 | D24: US | E24: 294601.92 | F24: 60636 | G24: 33 | H24: 43476 | I24: Theatrical Film Distribution / WDSMPI
A25: =IF(B25<>"",ROWS($B$6:B25),"") -> 20 | B25: Adamsų šeimynėlė | C25: The Addams Family | D25: US | E25: 290507.9 | F25: 58444 | G25: 16 | H25: 43798 | I25: NCG Distribution / Universal Pictures International
A26: =IF(B26<>"",ROWS($B$6:B26),"") -> 21 | B26: Bohemijos rapsodija | C26: Bohemian Rhapsody | D26: UK, US | E26: 283544.82 | F26: 48800 | G26: 15 | H26: 43406 | I26: Theatrical Film Distribution / 20th Century Fox
A27: =IF(B27<>"",ROWS($B$6:B27),"") -> 22 | B27: TAS: Antroji dalis | C27: IT 2 | D27: US | E27: 257825.38 | F27: 40827 | G27: 15 | H27: 43714 | I27: ACME Film / WB
A28: =IF(B28<>"",ROWS($B$6:B28),"") -> 23 | B28: Žaislų istorija 4 | C28: Toy Story 4 | D28: US | E28: 253767.05 | F28: 53554 | G28: 31 | H28: 43686 | I28: Theatrical Film Distribution / WDSMPI
A29: =IF(B29<>"",ROWS($B$6:B29),"") -> 24 | B29: Anabelė 3 | C29: Annabelle Comes Home (Annabelle 3) | D29: US | E29: 251803.73 | F29: 41145 | G29: 11 | H29: 43658 | I29: ACME Film / WB
A30: =IF(B30<>"",ROWS($B$6:B30),"") -> 25 | B30: Žvaigždžių karai. Skaivokerio iškilimas | C30: Star Wars: The Rise of Skywalker | D30: US | E30: 231368.27 | F30: 35098 | G30: 25 | H30: 43817 | I30: Theatrical Film Distribution / WDSMPI
A31: =IF(B31<>"",ROWS($B$6:B31),"") -> 26 | B31: Ad Astra | C31: Ad Astra | D31: US | E31: 219559.02 | F31: 35233 | G31: 16 | H31: 43728 | I31: Theatrical Film Distribution / 20th Century Fox
A32: =IF(B32<>"",ROWS($B$6:B32),"") -> 27 | B32: Valstybės Paslaptis | C32: Valstybės Paslaptis | D32: LT | E32: 214476.02 | F32: 40040 | G32: 17 | H32: 43567 | I32: ACME Film
A33: =IF(B33<>"",ROWS($B$6:B33),"") -> 28 | B33: Lego filmas 2 | C33: Lego Movie 2 | D33: DK, NO, AU, US | E33: 195989.4 | F33: 42556 | G33: 17 | H33: 43504 | I33: ACME Film / WB
A34: =IF(B34<>"",ROWS($B$6:B34),"") -> 29 | B34: Kapitonė Marvel | C34: Captain Marvel | D34: US, AU | E34: 191799.39 | F34: 30738 | G34: 26 | H34: 43532 | I34: Theatrical Film Distribution / WDSMPI
A35: =IF(B35<>"",ROWS($B$6:B35),"") -> 30 | B35: Alita. Kovos angelas | C35: Alita: Battle Angel | D35: US | E35: 181750.65 | F35: 29680 | G35: 27 | H35: 43511 | I35: Theatrical Film Distribution / 20th Century Fox
A36: =IF(B36<>"",ROWS($B$6:B36),"") -> 31 | B36: Afera | C36: The Hustle | D36: US | E36: 180540.41 | F36: 31707 | G36: 14 | H36: 43630 | I36: NCG Distribution / Universal Pictures International
A37: =IF(B37<>"",ROWS($B$6:B37),"") -> 32 | B37: Piktadarės istorija 2 | C37: Maleficent: Mistress of Evil | D37: US | E37: 177754.66 | F37: 30814 | G37: 23 | H37: 43763 | I37: Theatrical Film Distribution / WDSMPI
A38: =IF(B38<>"",ROWS($B$6:B38),"") -> 33 | B38: Aferistės | C38: Hustlers | D38: US | E38: 172848.23 | F38: 29426 | G38: 10 | H38: 43728 | I38: ACME Film
A39: =IF(B39<>"",ROWS($B$6:B39),"") -> 34 | B39: Belos kelionė namo | C39: Dog's Way Home | D39: US | E39: 171853.01 | F39: 37528 | G39: 17 | H39: 43490 | I39: ACME Film / SONY
A40: =IF(B40<>"",ROWS($B$6:B40),"") -> 35 | B40: Pabėgimo kambarys | C40: Escape Room | D40: ZA, US | E40: 171047.81 | F40: 29354 | G40: 15 | H40: 43469 | I40: ACME Film / SONY
A41: =IF(B41<>"",ROWS($B$6:B41),"") -> 36 | B41: Le Manas'66. Plento karaliai | C41: Ford v. Ferrari | D41: US | E41: 163396.22 | F41: 26691 | G41: 16 | H41: 43794 | I41: Theatrical Film Distribution / 20th Century Fox
A42: =IF(B42<>"",ROWS($B$6:B42),"") -> 37 | B42: Vyrai juodais drabužiais: Pasaulinė grėsmė | C42: Men in Black International | D42: US | E42: 161939.43 | F42: 28188 | G42: 15 | H42: 43630 | I42: ACME Film / SONY
...

Sheet Sausis
A1: ='2019'!A1 -> 2019
A2: ='2019'!A2 -> Lietuvos kino teatruose rodytų filmų TOP
A3: Sausis
A5: Eil. Nr. | B5: Filmo pavadinimas | C5: Filmo pavadinimas originalo kalba | D5: Kilmės šalis | E5: Pajamos | F5: Žiūrovų skaičius | G5: Kopijų skaičius | H5: Premjeros data | I5: Platintojas
A6: =IF(B6<>"",ROWS($B$6:B6),"") -> 1 | B6: Tarp mūsų, mergaičių | C6: Tarp mūsų, mergaičių | D6: LT | E6: 308057 | F6: 54705 | G6: 14 | H6: 43462 | I6: Vabalo filmai
A7: =IF(B7<>"",ROWS($B$6:B7),"") -> 2 | B7: Ralfas griovėjas 2 | C7: Ralph Breaks the Internet: Wreck-It Ralph 2 | D7: US | E7: 216689.52 | F7: 43621 | G7: 33 | H7: 43476 | I7: Theatrical Film Distribution / WDSMPI
A8: =IF(B8<>"",ROWS($B$6:B8),"") -> 3 | B8: Bohemijos rapsodija | C8: Bohemian Rhapsody | D8: UK, US | E8: 202225.49 | F8: 34871 | G8: 15 | H8: 43406 | I8: Theatrical Film Distribution / 20th Century Fox
A9: =IF(B9<>"",ROWS($B$6:B9),"") -> 4 | B9: Pabėgimo kambarys | C9: Escape Room | D9: ZA, US | E9: 158691.16 | F9: 27258 | G9: 15 | H9: 43469 | I9: ACME Film / SONY
A10: =IF(B10<>"",ROWS($B$6:B10),"") -> 5 | B10: Ir visi jų vyrai | C10: Ir visi jų vyrai | D10: LT | E10: 150315.45 | F10: 26695 | G10: 18 | H10: 43490 | I10: ACME Film
A11: =IF(B11<>"",ROWS($B$6:B11),"") -> 6 | B11: Žalioji knyga | C11: Green Book | D11: US | E11: 130966 | F11: 23888 | G11: 13 | H11: 43476 | I11: ACME Film
A12: =IF(B12<>"",ROWS($B$6:B12),"") -> 7 | B12: Akvamenas | C12: Aquaman | D12: US, AU | E12: 112325.6 | F12: 18384 | G12: 11 | H12: 43455 | I12: ACME Film / WB
A13: =IF(B13<>"",ROWS($B$6:B13),"") -> 8 | B13: Grinčas | C13: The Grinch | D13: US | E13: 86860.47 | F13: 18083 | G13: 12 | H13: 43434 | I13: NCG Distribution / Universal Pictures International
A14: =IF(B14<>"",ROWS($B$6:B14),"") -> 9 | B14: Stiklas | C14: Glass | D14: US | E14: 85855.31 | F14: 15347 | G14: 16 | H14: 43483 | I14: Theatrical Film Distribution / WDSMPI
A15: =IF(B15<>"",ROWS($B$6:B15),"") -> 10 | B15: Pašėlęs policininkas: Naujametinis nesusipratimas | C15: Полицейский с Рублёвки. Новогодний беспредел | D15: RU | E15: 80823 | F15: 13178 | G15: 5 | H15: 43469 | I15: ACME Film
A16: =IF(B16<>"",ROWS($B$6:B16),"") -> 11 | B16: Kurjeris | C16: Mule | D16: US | E16: 72339.36 | F16: 12711 | G16: 11 | H16: 43469 | I16: ACME Film / WB
A17: =IF(B17<>"",ROWS($B$6:B17),"") -> 12 | B17: Silvio | C17: Loro | D17: IT, FR | E17: 71671 | F17: 12637 | G17: 11 | H17: 43469 | I17: A-one Films
... A36: =IF(B36<>"",ROWS($B$6:B36),"") -> 31 | B36: Šaltasis karas | C36: Zimna wojna | D36: PL | E36: 7264 | F36: 1450 | G36: 3 | H36: 43434 | I36: Garsų pasaulio įrašai
A37: =IF(B37<>"",ROWS($B$6:B37),"") -> 32 | B37: Sukeisti Kalėdų seneliai | C37: Santa Swap | E37: 7008.4 | F37: 1562 | G37: 4 | H37: 43455 | I37: Travolta
A38: =IF(B38<>"",ROWS($B$6:B38),"") -> 33 | B38: Tranzitas | C38: Transit | D38: DE, FR | E38: 6986.1 | F38: 1885 | G38: 8 | H38: 43483 | I38: A-one Films
A39: =IF(B39<>"",ROWS($B$6:B39),"") -> 34 | B39: Antrasis šansas | C39: Second Act | D39: US | E39: 5882.73 | F39: 1053 | G39: 2 | H39: 43448 | I39: ACME Film
A40: =IF(B40<>"",ROWS($B$6:B40),"") -> 35 | B40: C‘est La Vie | C40: C‘est La Vie | D40: FR | E40: 4579 | F40: 665 | G40: 2 | H40: 43021 | I40: Garsų pasaulio įrašai
A41: =IF(B41<>"",ROWS($B$6:B41),"") -> 36 | B41: Tabaluga | C41: Tabaluga | D41: DE | E41: 3765 | F41: 1092 | G41: 1 | H41: 43441 | I41: Garsų pasaulio įrašai
A42: =IF(B42<>"",ROWS($B$6:B42),"") -> 37 | B42: Melagiai | C42: Melagiai | D42: LT | E42: 3729 | F42: 311 | G42: 4 | H42: 43413 | I42: Film Jam
A43: =IF(B43<>"",ROWS($B$6:B43),"") -> 38 | B43: Per tave vienos bėdos | C43: En liberte! | D43: FR | E43: 3562 | F43: 760 | G43: 3 | H43: 43448 | I43: Garsų pasaulio įrašai
A44: =IF(B44<>"",ROWS($B$6:B44),"") -> 39 | B44: Hanos Greis Egzorcizmas | C44: Possession of Hannah Grace | D44: US | E44: 3003.65 | F44: 488 | G44: 2 | H44: 43441 | I44: ACME Film / SONY
A45: =IF(B45<>"",ROWS($B$6:B45),"") -> 40 | B45: Astridos Lindgren jaunystė | C45: Unga Astrid | D45: SE, DK | E45: 2890.75 | F45: 972 | G45: 9 | H45: 43448 | I45: Estinfilm
A46: =IF(B46<>"",ROWS($B$6:B46),"") -> 41 | B46: Fantastiniai gyvūnai: Grindelvaldo piktadarystės | C46: Fantastic Beasts: Crimes of Grindelwald | D46: UK, US | E46: 2746.44 | F46: 461 | G46: 2 | H46: 43420 | I46: ACME Film / WB
A47: =IF(B47<>"",ROWS($B$6:B47),"") -> 42 | B47: Namas, kurį pastatė Džekas | C47: The House that Jack built | D47: DK, FR, DE | E47: 1641.3 | F47: 395 | G47: 6 | H47: 43434 | I47: Estinfilm
A48: =IF(B48<>"",ROWS($B$6:B48),"") -> 43 | B48: Apgaulinga ramybė | C48: Serenity | D48: US | E48: 1554.2 | F48: 286 | G48: 1 | H48: 43497 | I48: ACME Film
A49: =IF(B49<>"",ROWS($B$6:B49),"") -> 44 | B49: Drąsusis elniukas Eliotas | C49: Elliot The Littlest Reindeer | D49: CA | E49: 1370.58 | F49: 373 | G49: 4 | H49: 43427 | I49: Theatrical Film Distribution
... A70: =IF(B70<>"",ROWS($B$6:B70),"") -> 65 | B70: Floridos projektas | C70: The Florida Project | D70: US | E70: 345 | F70: 123 | G70: 1 | H70: 43196 | I70: A-one films
A71: =IF(B71<>"",ROWS($B$6:B88),"") -> 83 | B71: Izabelė ir jos vyrai | C71: Un beau soleil intérieur | D71: FR, BE | E71: 329 | F71: 71 | G71: 1 | H71: 43392 | I71: Best Film
A72: =IF(B72<>"",ROWS($B$6:B72),"") -> 67 | B72: Ekskursantė | C72: Ekskursantė | D72: LT | E72: 320 | F72: 160 | G72: 1 | H72: 41544 | I72: Cinemark
A73: =IF(B73<>"",ROWS($B$6:B73),"") -> 68 | B73: Noriu būti savimi (dokumentinių filmų programa) | C73: Noriu būti savimi (dokumentinių filmų programa) | D73: TBA | E73: 251 | F73: 62 | G73: 1 | H73: 42693 | I73: Skalvijos kino centras
A74: =IF(B74<>"",ROWS($B$6:B74),"") -> 69 | B74: Jaunikis ant balto žirgo | C74: Le Retour du Héros | D74: FR, BE | E74: 206 | F74: 38 | G74: 1 | H74: 43322 | I74: Best Film
A75: =IF(B75<>"",ROWS($B$6:B75),"") -> 70 | B75: Tamsta Varlius | C75: Meester Kikker | D75: NL | E75: 202 | F75: 101 | G75: 1 | H75: 42654 | I75: Skalvijos kino centras
A76: =IF(B76<>"",ROWS($B$6:B76),"") -> 71 | B76: Apsireiškimas | C76: L‘apparition | D76: FR, BE | E76: 200 | F76: 50 | G76: 1 | H76: 43350 | I76: Best Film
A77: =IF(B77<>"",ROWS($B$6:B77),"") -> 72 | B77: Kaimynė šnipė | C77: Next Door Spy | D77: DK | E77: 180 | F77: 90 | G77: 1 | H77: 43015 | I77: Skalvijos kino centras
A78: =IF(B78<>"",ROWS($B$6:B78),"") -> 73 | B78: Aukso žirgas | C78: Golden Horse | D78: LT, LV, LU, DK | E78: 140 | F78: 70 | G78: 1 | H78: 41985 | I78: ACME Film
A79: =IF(B79<>"",ROWS($B$6:B79),"") -> 74 | B79: Didžioji skruzdėlyčių karalystė | C79: Minuscule, Valley of the Lost Ants | D79: FR | E79: 134 | F79: 67 | G79: 1 | H79: 41691 | I79: ACME Film
...

Sheet Vasaris
A1: ='2019'!A1 -> 2019
A2: ='2019'!A2 -> Lietuvos kino teatruose rodytų filmų TOP
A3: Vasaris
A5: Eil. Nr. | B5: Filmo pavadinimas | C5: Filmo pavadinimas originalo kalba | D5: Kilmės šalis | E5: Pajamos | F5: Žiūrovų skaičius | G5: Kopijų skaičius | H5: Premjeros data | I5: Platintojas
A6: =IF(B6<>"",ROWS($B$6:B6),"") -> 1 | B6: Ir visi jų vyrai | C6: Ir visi jų vyrai | D6: LT | E6: 390351.57 | F6: 67474 | G6: 17 | H6: 43490 | I6: ACME Film
A7: =IF(B7<>"",ROWS($B$6:B7),"") -> 2 | B7: Pasmerkti. Kauno romanas | C7: Pasmerkti. Kauno romanas | D7: LT | E7: 197800 | F7: 35718 | G7: 18 | H7: 43518 | I7: Singing fish
A8: =IF(B8<>"",ROWS($B$6:B8),"") -> 3 | B8: Lego filmas 2 | C8: Lego Movie 2 | D8: DK, NO, AU, US | E8: 155950.08 | F8: 34070 | G8: 17 | H8: 43504 | I8: ACME Film / WB
A9: =IF(B9<>"",ROWS($B$6:B9),"") -> 4 | B9: Purpurinis rūkas | C9: Purpurinis rūkas | D9: LT | E9: 144734 | F9: 29346 | G9: 20 | H9: 43504 | I9: Garsų pasaulio įrašai
A10: =IF(B10<>"",ROWS($B$6:B10),"") -> 5 | B10: Alita. Kovos angelas | C10: Alita: Battle Angel | D10: US | E10: 144161.13 | F10: 23669 | G10: 27 | H10: 43511 | I10: Theatrical Film Distribution / 20th Century Fox
A11: =IF(B11<>"",ROWS($B$6:B11),"") -> 6 | B11: Žalioji knyga | C11: Green Book | D11: US | E11: 115280.57 | F11: 20196 | G11: 10 | H11: 43476 | I11: ACME Film
A12: =IF(B12<>"",ROWS($B$6:B12),"") -> 7 | B12: Belos kelionė namo | C12: Dog's Way Home | D12: US | E12: 104426.77 | F12: 23142 | G12: 12 | H12: 43490 | I12: ACME Film / SONY
A13: =IF(B13<>"",ROWS($B$6:B13),"") -> 8 | B13: Bohemijos rapsodija | C13: Bohemian Rhapsody | D13: UK, US | E13: 72329.87 | F13: 12229 | G13: 11 | H13: 43406 | I13: Theatrical Film Distribution / 20th Century Fox
A14: =IF(B14<>"",ROWS($B$6:B14),"") -> 9 | B14: Ralfas griovėjas 2 | C14: Ralph Breaks the Internet: Wreck-It Ralph 2 | D14: US | E14: 66068.75 | F14: 13829 | G14: 19 | H14: 43476 | I14: Theatrical Film Distribution / WDSMPI
A15: =IF(B15<>"",ROWS($B$6:B15),"") -> 10 | B15: Apgaulinga ramybė | C15: Serenity | D15: US | E15: 47142.89 | F15: 8240 | G15: 14 | H15: 43497 | I15: ACME Film
A16: =IF(B16<>"",ROWS($B$6:B16),"") -> 11 | B16: Septynios vakarienės | C16: Семь ужинов | D16: RU | E16: 41984.99 | F16: 7316 | G16: 7 | H16: 43511 | I16: ACME Film
A17: =IF(B17<>"",ROWS($B$6:B17),"") -> 12 | B17: Mirties diena 2 | C17: Happy Death Day 2U | D17: US | E17: 40994 | F17: 7388 | G17: 13 | H17: 43511 | I17: NCG Distribution / Universal Pictures International
... A72: =IF(B72<>"",ROWS($B$6:B72),"") -> 67 | B72: Asteriksas: Stebuklingojo gėrimo paslaptis | C72: Asterix - The Secret of the Magic Potion | D72: FR | E72: 30 | F72: 12 | G72: 1 | H72: 43469 | I72: ACME Film
E73: =SUBTOTAL(109,Table3_Vasaris[Pajamos]) -> 1999552.9 | F73: =SUBTOTAL(109,Table3_Vasaris[Žiūrovų skaičius]) -> 378526

Sheet Kovas
A1: ='2019'!A1 -> 2019
A2: ='2019'!A2 -> Lietuvos kino teatruose rodytų filmų TOP
A3: Kovas
A5: Eil. Nr. | B5: Filmo pavadinimas | C5: Filmo pavadinimas originalo kalba | D5: Kilmės šalis | E5: Pajamos | F5: Žiūrovų skaičius | G5: Kopijų skaičius | H5: Premjeros data | I5: Platintojas
A6: =IF(B6<>"",ROWS($B$6:B6),"") -> 1 | B6: Kaip prisijaukinti slibiną 3 | C6: How to Train Your Dragon: The Hidden World | D6: US | E6: 555906.54 | F6: 108230 | G6: 19 | H6: 43532 | I6: NCG Distribution / Universal Pictures International
A7: =IF(B7<>"",ROWS($B$6:B7),"") -> 2 | B7: Pasmerkti. Kauno romanas | C7: Pasmerkti. Kauno romanas | D7: LT | E7: 296706 | F7: 50075 | G7: 18 | H7: 43518 | I7: Singing fish
A8: =IF(B8<>"",ROWS($B$6:B8),"") -> 3 | B8: Kapitonė Marvel | C8: Captain Marvel | D8: US, AU | E8: 187028.43 | F8: 29873 | G8: 26 | H8: 43532 | I8: Theatrical Film Distribution , WDSMPI
A9: =IF(B9<>"",ROWS($B$6:B9),"") -> 4 | B9: Ir visi jų vyrai | C9: Ir visi jų vyrai | D9: LT | E9: 144522.7 | F9: 25823 | G9: 10 | H9: 43490 | I9: ACME Film
A10: =IF(B10<>"",ROWS($B$6:B10),"") -> 5 | B10: Arktis. Įkalinti ledynuose | C10: Arctic | D10: IS | E10: 127442.98 | F10: 21765 | G10: 15 | H10: 43525 | I10: Best Film
A11: =IF(B11<>"",ROWS($B$6:B11),"") -> 6 | B11: Mes | C11: Us | D11: US | E11: 78811.83 | F11: 13158 | G11: 13 | H11: 43546 | I11: NCG Distribution / Universal Pictures International
A12: =IF(B12<>"",ROWS($B$6:B12),"") -> 7 | B12: Kurskas | C12: Kursk | D12: BE, LX | E12: 68503.53 | F12: 12319 | G12: 15 | H12: 43539 | I12: ACME Film
A13: =IF(B13<>"",ROWS($B$6:B13),"") -> 8 | B13: Karalienės Korgis | C13: Queens Corgi | D13: BE | E13: 61005.35 | F13: 13445 | G13: 16 | H13: 43546 | I13: ACME Film
A14: =IF(B14<>"",ROWS($B$6:B14),"") -> 9 | B14: Žalioji knyga | C14: Green Book | D14: US | E14: 54905.9 | F14: 9392 | G14: 8 | H14: 43476 | I14: ACME Film
A15: =IF(B15<>"",ROWS($B$6:B15),"") -> 10 | B15: Nes ji yra moteris | C15: On the Basis of Sex | D15: US | E15: 54202.33 | F15: 9492 | G15: 13 | H15: 43532 | I15: ACME Film
A16: =IF(B16<>"",ROWS($B$6:B16),"") -> 11 | B16: Lego filmas 2 | C16: Lego Movie 2 | D16: DK, NO, AU, US | E16: 39679.72 | F16: 8320 | G16: 11 | H16: 43504 | I16: ACME Film , WB
A17: =IF(B17<>"",ROWS($B$6:B17),"") -> 12 | B17: Alita. Kovos angelas | C17: Alita: Battle Angel | D17: US | E17: 37589.52 | F17: 6011 | G17: 13 | H17: 43511 | I17: Theatrical Film Distribution / 20th Century Fox
... A76: =IF(B76<>"",ROWS($B$6:B76),"") -> 71 | B76: Ką pašnibždėjo pelėda (Trumpukų programa) | C76: Ką pašnibždėjo pelėda (Trumpukų programa) | D76: TBA | E76: 62 | F76: 33 | G76: 1 | H76: 42749 | I76: Skalvijos kino centras
E77: =SUBTOTAL(109,Table3_Vasaris5[Pajamos]) -> 2094249.6 | F77: =SUBTOTAL(109,Table3_Vasaris5[Žiūrovų skaičius]) -> 388878 | I77: =SUBTOTAL(103,Table3_Vasaris5[Platintojas]) -> 71

Sheet Balandis
A1: ='2019'!A1 -> 2019
A2: ='2019'!A2 -> Lietuvos kino teatruose rodytų filmų TOP
A3: Balandis
A5: Eil. Nr. | B5: Filmo pavadinimas | C5: Filmo pavadinimas originalo kalba | D5: Kilmės šalis | E5: Pajamos | F5: Žiūrovų skaičius | G5: Kopijų skaičius | H5: Premjeros data | I5: Platintojas
A6: =IF(B6<>"",ROWS($B$6:B6),"") -> 1 | B6: Keršytojai. Pabaiga | C6: Avengers: Endgame | D6: US | E6: 304725.34 | F6: 49525 | G6: 25 | H6: 43581 | I6: Theatrical Film Distribution / WDSMPI
A7: =IF(B7<>"",ROWS($B$6:B7),"") -> 2 | B7: Valstybės Paslaptis | C7: Valstybės Paslaptis | D7: LT | E7: 161087.3 | F7: 29604 | G7: 17 | H7: 43567 | I7: ACME Film
A8: =IF(B8<>"",ROWS($B$6:B8),"") -> 3 | B8: After | C8: After. Kai mes susitikom | D8: US | E8: 127530 | F8: 23997 | G8: 16 | H8: 43567 | I8: Garsų pasaulio įrašai
A9: =IF(B9<>"",ROWS($B$6:B9),"") -> 4 | B9: Kaip prisijaukinti slibiną 3 | C9: How to Train Your Dragon: The Hidden World | D9: US | E9: 92873.99 | F9: 20530 | G9: 10 | H9: 43532 | I9: NCG Distribution / Universal Pictures International
A10: =IF(B10<>"",ROWS($B$6:B10),"") -> 5 | B10: Shazam | C10: Shazam | D10: US | E10: 90465.41 | F10: 16425 | G10: 10 | H10: 43560 | I10: ACME Film / WB
A11: =IF(B11<>"",ROWS($B$6:B11),"") -> 6 | B11: Išgyventi vasarą | C11: Išgyventi vasarą | D11: LT | E11: 72490 | F11: 13786 | G11: 22 | H11: 43574 | I11: Europos kinas
A12: =IF(B12<>"",ROWS($B$6:B12),"") -> 7 | B12: Stebuklų parkas | C12: Wonder Park | D12: US | E12: 70669.53 | F12: 15690 | G12: 17 | H12: 43567 | I12: NCG Distribution / Paramount Pictures
A13: =IF(B13<>"",ROWS($B$6:B13),"") -> 8 | B13: Gyvulėlių kapinės | C13: Pet Sematary | D13: US | E13: 57924.64 | F13: 10139 | G13: 13 | H13: 43560 | I13: NCG Distribution / Paramount Pictures
A14: =IF(B14<>"",ROWS($B$6:B14),"") -> 9 | B14: Karalienės Korgis | C14: Queens Corgi | D14: BE | E14: 56697.6 | F14: 13097 | G14: 12 | H14: 43546 | I14: ACME Film
A15: =IF(B15<>"",ROWS($B$6:B15),"") -> 10 | B15: Verkiančios moters prakeiksmas | C15: Curse of La Llorona | D15: US | E15: 51431.56 | F15: 8742 | G15: 10 | H15: 43574 | I15: ACME Film / WB
A16: =IF(B16<>"",ROWS($B$6:B16),"") -> 11 | B16: Mija ir baltasis liūtas | C16: Mia and the White Lions | D16: FR, DE, ZA | E16: 49388.94 | F16: 12101 | G16: 15 | H16: 43560 | I16: ACME Film
A17: =IF(B17<>"",ROWS($B$6:B17),"") -> 12 | B17: Mes | C17: Us | D17: US | E17: 25964.71 | F17: 4767 | G17: 8 | H17: 43546 | I17: NCG Distribution / Universal Pictures International
... A90: =IF(B90<>"",ROWS($B$6:B90),"") -> 85 | B90: Greta | C90: Widow (Greta) | D90: EI, US | E90: 12 | F90: 3 | G90: 1 | H90: 43525 | I90: ACME Film
E91: =SUBTOTAL(109,Table3_Balandis[Pajamos]) -> 1461722.9 | F91: =SUBTOTAL(109,Table3_Balandis[Žiūrovų skaičius]) -> 281990

Sheet Gegužė
A1: ='2019'!A1 -> 2019
A2: ='2019'!A2 -> Lietuvos kino teatruose rodytų filmų TOP
A3: Gegužė
A5: Eil. Nr. | B5: Filmo pavadinimas | C5: Filmo pavadinimas originalo kalba | D5: Kilmės šalis | E5: Pajamos | F5: Žiūrovų skaičius | G5: Kopijų skaičius | H5: Premjeros data | I5: Platintojas
A6: =IF(B6<>"",ROWS($B$6:B6),"") -> 1 | B6: Keršytojai. Pabaiga | C6: Avengers: Endgame | D6: US | E6: 236918.46 | F6: 38759 | G6: 23 | H6: 43581 | I6: Theatrical Film Distribution / WDSMPI
A7: =IF(B7<>"",ROWS($B$6:B7),"") -> 2 | B7: Pokemon Detektyvas Pikachu | C7: Pokemon Detective Pikachu | D7: US, JP, CA | E7: 143127.59 | F7: 27627 | G7: 13 | H7: 43595 | I7: ACME Film / WB
A8: =IF(B8<>"",ROWS($B$6:B8),"") -> 3 | B8: Džonas Vikas 3 | C8: John Wick 3: Parabellum | D8: US | E8: 112088.75 | F8: 19737 | G8: 14 | H8: 43602 | I8: ACME Film
A9: =IF(B9<>"",ROWS($B$6:B9),"") -> 4 | B9: Mumbajaus viešbutis | C9: Hotel Mumbai | D9: AU, US, IN | E9: 76455.41 | F9: 14341 | G9: 11 | H9: 43595 | I9: Travolta
A10: =IF(B10<>"",ROWS($B$6:B10),"") -> 5 | B10: Didžioji kelionė | C10: Big Trip | D10: RU, US | E10: 63724.6 | F10: 14699 | G10: 16 | H10: 43588 | I10: ACME Film
A11: =IF(B11<>"",ROWS($B$6:B11),"") -> 6 | B11: Išgyventi vasarą | C11: Išgyventi vasarą | D11: LT | E11: 61798.59 | F11: 11285 | G11: 15 | H11: 43574 | I11: Europos kinas
A12: =IF(B12<>"",ROWS($B$6:B12),"") -> 7 | B12: Be šansų | C12: Flarsky (Long Shot) | D12: US | E12: 59511.76 | F12: 10823 | G12: 15 | H12: 43588 | I12: ACME Film
A13: =IF(B13<>"",ROWS($B$6:B13),"") -> 8 | B13: Trys žingsniai iki tavęs | C13: Five Feet Apart | D13: US | E13: 56499.97 | F13: 10235 | G13: 15 | H13: 43588 | I13: NCG Distribution
A14: =IF(B14<>"",ROWS($B$6:B14),"") -> 9 | B14: Valstybės Paslaptis | C14: Valstybės Paslaptis | D14: LT | E14: 49976.37 | F14: 9334 | G14: 9 | H14: 43567 | I14: ACME Film
A15: =IF(B15<>"",ROWS($B$6:B15),"") -> 10 | B15: Aladinas | C15: Aladdin | D15: US | E15: 44436.02 | F15: 9297 | G15: 13 | H15: 43609 | I15: Theatrical Film Distribution / WDSMPI
A16: =IF(B16<>"",ROWS($B$6:B16),"") -> 11 | B16: Apsėstasis | C16: The Prodigy | D16: US | E16: 30383.27 | F16: 5487 | G16: 13 | H16: 43595 | I16: VLG Film
A17: =IF(B17<>"",ROWS($B$6:B17),"") -> 12 | B17: Slaptas augintinių gyvenimas 2 | C17: Secret Life of Pets 2 | D17: US | E17: 30159.82 | F17: 6373 | G17: 19 | H17: 43616 | I17: NCG Distribution / Universal Pictures International
A18: =IF(B18<>"",ROWS($B$6:B18),"") -> 13 | B18: Ričardas atsisveikina | C18: Richard Says Goodbye | D18: US | E18: 25968 | F18: 5277 | G18: 15 | H18: 43602 | I18: Garsų pasaulio įrašai
A19: =IF(B19<>"",ROWS($B$6:B19),"") -> 14 | B19: Kaip prisijaukinti slibiną 3 | C19: How to Train Your Dragon: The Hidden World | D19: US | E19: 24034.89 | F19: 5071 | G19: 8 | H19: 43532 | I19: NCG Distribution / Universal Pictures International
A20: =IF(B20<>"",ROWS($B$6:B20),"") -> 15 | B20: Stebuklų parkas | C20: Wonder Park | D20: US | E20: 22427.02 | F20: 5119 | G20: 10 | H20: 43567 | I20: NCG Distribution / Paramount Pictures
... A102: =IF(B102<>"",ROWS($B$6:B102),"") -> 97 | B102: Ralfas griovėjas 2 | C102: Ralph Breaks the Internet: Wreck-It Ralph 2 | D102: US | E102: 4 | F102: 2 | G102: 1 | H102: 43476 | I102: Theatrical Film Distribution / WDSMPI
E103: =SUBTOTAL(109,Table3_Gegužė[Pajamos]) -> 1267325.2 | F103: =SUBTOTAL(109,Table3_Gegužė[Žiūrovų skaičius]) -> 242813

Sheet Birželis
A1: ='2019'!A1 -> 2019
A2: ='2019'!A2 -> Lietuvos kino teatruose rodytų filmų TOP
A3: Birželis
A5: Eil. Nr. | B5: Filmo pavadinimas | C5: Filmo pavadinimas originalo kalba | D5: Kilmės šalis | E5: Pajamos | F5: Žiūrovų skaičius | G5: Kopijų skaičius | H5: Premjeros data | I5: Platintojas
A6: =IF(B6<>"",ROWS($B$6:B6),"") -> 1 | B6: Slaptas augintinių gyvenimas 2 | C6: Secret Life of Pets 2 | D6: US | E6: 305122.08 | F6: 64886 | G6: 19 | H6: 43616 | I6: NCG Distribution / Universal Pictures International
A7: =IF(B7<>"",ROWS($B$6:B7),"") -> 2 | B7: Vyrai juodais drabužiais: Pasaulinė grėsmė | C7: Men in Black International | D7: US | E7: 113555.57 | F7: 19941 | G7: 15 | H7: 43630 | I7: ACME Film / SONY
A8: =IF(B8<>"",ROWS($B$6:B8),"") -> 3 | B8: Afera | C8: The Hustle | D8: US | E8: 100350 | F8: 18386 | G8: 14 | H8: 43630 | I8: NCG Distribution / Universal Pictures International
A9: =IF(B9<>"",ROWS($B$6:B9),"") -> 4 | B9: Rocketman | C9: Rocketman | D9: UK, US | E9: 88966.21 | F9: 16536 | G9: 17 | H9: 43623 | I9: NCG Distribution / Paramount Pictures
A10: =IF(B10<>"",ROWS($B$6:B10),"") -> 5 | B10: Godzila 2: Monstrų karalius | C10: Godzilla2: King of the Monsters | D10: US, JP | E10: 69661.83 | F10: 12674 | G10: 15 | H10: 43616 | I10: ACME Film / WB
A11: =IF(B11<>"",ROWS($B$6:B11),"") -> 6 | B11: Iksmenai. Tamsusis Feniksas | C11: X-Men: Dark Phoenix | D11: US | E11: 58816.36 | F11: 10524 | G11: 14 | H11: 43623 | I11: Theatrical Film Distribution / 20th Century Fox
A12: =IF(B12<>"",ROWS($B$6:B12),"") -> 7 | B12: Džonas Vikas 3 | C12: John Wick 3: Parabellum | D12: US | E12: 34525.39 | F12: 6001 | G12: 9 | H12: 43602 | I12: ACME Film
A13: =IF(B13<>"",ROWS($B$6:B13),"") -> 8 | B13: Aladinas | C13: Aladdin | D13: US | E13: 33264.7 | F13: 6392 | G13: 9 | H13: 43609 | I13: Theatrical Film Distribution / WDSMPI
A14: =IF(B14<>"",ROWS($B$6:B14),"") -> 9 | B14: Vaikų žaidimai | C14: Childs Play | D14: US | E14: 29578.25 | F14: 5711 | G14: 14 | H14: 43637 | I14: ACME Film
A15: =IF(B15<>"",ROWS($B$6:B15),"") -> 10 | B15: Pūkuota šnipė | C15: Marnie’s World | D15: DE, BE | E15: 29123 | F15: 7273 | G15: 17 | H15: 43637 | I15: Garsų pasaulio įrašai
A16: =IF(B16<>"",ROWS($B$6:B16),"") -> 11 | B16: Mumbajaus viešbutis | C16: Hotel Mumbai | D16: AU, US, IN | E16: 26726.79 | F16: 4721 | G16: 4 | H16: 43595 | I16: Travolta
A17: =IF(B17<>"",ROWS($B$6:B17),"") -> 12 | B17: Skausmas ir šlovė | C17: Dolor y gloria | D17: ES | E17: 20862.41 | F17: 4005 | G17: 13 | H17: 43630 | I17: VLG Film
A18: =IF(B18<>"",ROWS($B$6:B18),"") -> 13 | B18: Ma | C18: Ma | D18: US | E18: 17212.55 | F18: 3013 | G18: 11 | H18: 43616 | I18: NCG Distribution / Universal Pictures International
A19: =IF(B19<>"",ROWS($B$6:B19),"") -> 14 | B19: Pokemon Detektyvas Pikachu | C19: Pokemon Detective Pikachu | D19: US, JP, CA | E19: 16655.36 | F19: 3242 | G19: 8 | H19: 43595 | I19: ACME Film / WB
A20: =IF(B20<>"",ROWS($B$6:B20),"") -> 15 | B20: Avelės ir vilkai 2 | C20: Sheep and Wolves: Pig Deal (Sheep and Wolves 2) | D20: RU | E20: 16428.65 | F20: 4003 | G20: 15 | H20: 43630 | I20: ACME Film
A21: =IF(B21<>"",ROWS($B$6:B21),"") -> 16 | B21: Anna | C21: Anna | D21: US, FR | E21: 15332.5 | F21: 2653 | G21: 13 | H21: 43644 | I21: ACME Film
A22: =IF(B22<>"",ROWS($B$6:B22),"") -> 17 | B22: Dar vakar | C22: Yesterday | D22: UK, US | E22: 12809.87 | F22: 2233 | G22: 15 | H22: 43644 | I22: NCG Distribution / Universal Pictures International
A23: =IF(B23<>"",ROWS($B$6:B23),"") -> 18 | B23: AŠ iš kitos veidrodžio pusės | C23: Unheimlich perfekte Freunde | D23: DE | E23: 8408.33 | F23: 2331 | G23: 6 | H23: 43602 | I23: Travolta
A24: =IF(B24<>"",ROWS($B$6:B24),"") -> 19 | B24: Second Hand | C24: Second Hand | D24: LT, IE, CH | E24: 7609.73 | F24: 2555 | G24: 22 | H24: 43616 | I24: Ultra Nominum
A25: =IF(B25<>"",ROWS($B$6:B25),"") -> 20 | B25: Mūsų pirmosios atostogos | C25: Premières vacances | D25: FR | E25: 6838.29 | F25: 1206 | G25: 7 | H25: 43644 | I25: Kino pasaka
A26: =IF(B26<>"",ROWS($B$6:B26),"") -> 21 | B26: Nuodinga rožė | C26: Poison Rose | D26: US, IT | E26: 5961.44 | F26: 1089 | G26: 10 | H26: 43623 | I26: Theatrical Film Distribution
A27: =IF(B27<>"",ROWS($B$6:B27),"") -> 22 | B27: Ričardas atsisveikina | C27: Richard Says Goodbye | D27: US | E27: 5662 | F27: 986 | G27: 6 | H27: 43602 | I27: Garsų pasaulio įrašai
A28: =IF(B28<>"",ROWS($B$6:B28),"") -> 23 | B28: Keršytojai. Pabaiga | C28: Avengers: Endgame | D28: US | E28: 5565.94 | F28: 914 | G28: 4 | H28: 43581 | I28: Theatrical Film Distribution / WDSMPI
A29: =IF(B29<>"",ROWS($B$6:B29),"") -> 24 | B29: Falkonai | C29: Víti í Vestmannaeyjum | D29: IS | E29: 5503.5 | F29: 2754 | G29: 1 | H29: 43574 | I29: KC Garsas
A30: =IF(B30<>"",ROWS($B$6:B30),"") -> 25 | B30: Kovotoja | C30: Vechtmeisje | D30: NL | E30: 4112 | F30: 2464 | G30: 1 | H30: 43534 | I30: KC Garsas
A31: =IF(B31<>"",ROWS($B$6:B31),"") -> 26 | B31: Išgyventi vasarą | C31: Išgyventi vasarą | D31: LT | E31: 3778 | F31: 787 | G31: 3 | H31: 43574 | I31: Europos kinas
A32: =IF(B32<>"",ROWS($B$6:B32),"") -> 27 | B32: Domino | C32: Domino | D32: DK, FR, IT, BE, NL | E32: 3702.01 | F32: 781 | G32: 14 | H32: 43637 | I32: Theatrical Film Distribution
A33: =IF(B33<>"",ROWS($B$6:B33),"") -> 28 | B33: Valstybės Paslaptis | C33: Valstybės Paslaptis | D33: LT | E33: 2604.25 | F33: 812 | G33: 2 | H33: 43567 | I33: ACME Film
A34: =IF(B34<>"",ROWS($B$6:B34),"") -> 29 | B34: Virš debesų | C34: Выше неба | D34: RU | E34: 2549 | F34: 439 | G34: 4 | H34: 43644 | I34: VLG Film
A35: =IF(B35<>"",ROWS($B$6:B35),"") -> 30 | B35: Bjaurios lėlės | C35: Uglydolls | D35: US | E35: 2342.25 | F35: 495 | G35: 6 | H35: 43651 | I35: ACME Film
A36: =IF(B36<>"",ROWS($B$6:B36),"") -> 31 | B36: Didelis blogas lapinas ir kitos istorijos | C36: Le grand méchant renard et autres contes... | D36: BE, FR | E36: 2249 | F36: 668 | G36: 1 | H36: 43379 | I36: Skalvijos kino centras
A37: =IF(B37<>"",ROWS($B$6:B37),"") -> 32 | B37: Devym kažkelinti | C37: Mid90s | D37: US | E37: 2194 | F37: 418 | G37: 8 | H37: 43602 | I37: A-one Films
A38: =IF(B38<>"",ROWS($B$6:B38),"") -> 33 | B38: Mirties blyksnis | C38: Untitled James Gunn (Brightburn) | D38: US | E38: 1870.56 | F38: 315 | G38: 7 | H38: 43609 | I38: ACME Film / SONY
A39: =IF(B39<>"",ROWS($B$6:B39),"") -> 34 | B39: Muzika tavo rankose | C39: Au bout des doigts | D39: FR | E39: 1830.69 | F39: 380 | G39: 9 | H39: 43644 | I39: Greta Garbo Films
A40: =IF(B40<>"",ROWS($B$6:B40),"") -> 35 | B40: Didžioji kelionė | C40: Big Trip | D40: RU, US | E40: 1586.18 | F40: 391 | G40: 5 | H40: 43588 | I40: ACME Film
A41: =IF(B41<>"",ROWS($B$6:B41),"") -> 36 | B41: Kaip prisijaukinti slibiną 3 | C41: How to Train Your Dragon: The Hidden World | D41: US | E41: 1282.36 | F41: 387 | G41: 8 | H41: 43532 | I41: NCG Distribution / Universal Pictures International
...

Sheet Liepa
A1: ='2019'!A1 -> 2019
A2: ='2019'!A2 -> Lietuvos kino teatruose rodytų filmų TOP
A3: Liepa
A5: Eil. Nr. | B5: Filmo pavadinimas | C5: Filmo pavadinimas originalo kalba | D5: Kilmės šalis | E5: Pajamos | F5: Žiūrovų skaičius | G5: Kopijų skaičius | H5: Premjeros data | I5: Platintojas
A6: =IF(B6<>"",ROWS($B$6:B6),"") -> 1 | B6: Liūtas karalius | C6: The Lion King | D6: US | E6: 456265.1 | F6: 83818 | G6: 31 | H6: 43665 | I6: Theatrical Film Distribution / WDSMPI
A7: =IF(B7<>"",ROWS($B$6:B7),"") -> 2 | B7: Žmogus-Voras: Toli nuo namų | C7: Spiderman Far From Home | D7: US | E7: 302000.93 | F7: 49978 | G7: 12 | H7: 43651 | I7: ACME Film / SONY
A8: =IF(B8<>"",ROWS($B$6:B8),"") -> 3 | B8: Anabelė 3 | C8: Annabelle Comes Home (Annabelle 3) | D8: US | E8: 203814.7 | F8: 33432 | G8: 11 | H8: 43658 | I8: ACME Film / WB
A9: =IF(B9<>"",ROWS($B$6:B9),"") -> 4 | B9: Slaptas augintinių gyvenimas 2 | C9: Secret Life of Pets 2 | D9: US | E9: 144223.61 | F9: 30838 | G9: 10 | H9: 43616 | I9: NCG Distribution / Universal Pictures International
A10: =IF(B10<>"",ROWS($B$6:B10),"") -> 5 | B10: Bjaurios lėlės | C10: Uglydolls | D10: US | E10: 109266.15 | F10: 25793 | G10: 11 | H10: 43651 | I10: ACME Film
A11: =IF(B11<>"",ROWS($B$6:B11),"") -> 6 | B11: Afera | C11: The Hustle | D11: US | E11: 73639.41 | F11: 12281 | G11: 8 | H11: 43630 | I11: NCG Distribution / Universal Pictures International
A12: =IF(B12<>"",ROWS($B$6:B12),"") -> 7 | B12: Saulės kultas | C12: Midsommar | D12: US, SE | E12: 51268.54 | F12: 9003 | G12: 16 | H12: 43651 | I12: VLG Film
A13: =IF(B13<>"",ROWS($B$6:B13),"") -> 8 | B13: Vyrai juodais drabužiais: Pasaulinė grėsmė | C13: Men in Black International | D13: US | E13: 47630.66 | F13: 8120 | G13: 11 | H13: 43630 | I13: ACME Film / SONY
A14: =IF(B14<>"",ROWS($B$6:B14),"") -> 9 | B14: Anna | C14: Anna | D14: US, FR | E14: 45198.08 | F14: 7774 | G14: 13 | H14: 43644 | I14: ACME Film
A15: =IF(B15<>"",ROWS($B$6:B15),"") -> 10 | B15: Pūkuota šnipė | C15: Marnie’s World | D15: DE, BE | E15: 32388 | F15: 8228 | G15: 7 | H15: 43637 | I15: Garsų pasaulio įrašai
A16: =IF(B16<>"",ROWS($B$6:B16),"") -> 11 | B16: Rocketman | C16: Rocketman | D16: UK, US | E16: 32052.08 | F16: 5541 | G16: 8 | H16: 43623 | I16: NCG Distribution / Paramount Pictures
A17: =IF(B17<>"",ROWS($B$6:B17),"") -> 12 | B17: Dar vakar | C17: Yesterday | D17: UK, US | E17: 32033.98 | F17: 5916 | G17: 15 | H17: 43644 | I17: NCG Distribution / Universal Pictures International
A18: =IF(B18<>"",ROWS($B$6:B18),"") -> 13 | B18: Stjuberis | C18: Stuber | D18: US | E18: 25562.27 | F18: 4576 | G18: 15 | H18: 43658 | I18: Theatrical Film Distribution / 20th Century Fox
A19: =IF(B19<>"",ROWS($B$6:B19),"") -> 14 | B19: Vagys melagiai | C19: Lying and Stealing | D19: US | E19: 19491.98 | F19: 3462 | G19: 12 | H19: 43665 | I19: ACME Film
A20: =IF(B20<>"",ROWS($B$6:B20),"") -> 15 | B20: Greiti ir įsiutę: Hobsas ir Šo | C20: Fast & Furious Presents: Hobbs & Shaw | D20: US | E20: 15477.74 | F20: 2435 | G20: 14 | H20: 43679 | I20: NCG Distribution / Universal Pictures International
A21: =IF(B21<>"",ROWS($B$6:B21),"") -> 16 | B21: Vaikų žaidimai | C21: Childs Play | D21: US | E21: 15193.54 | F21: 2581 | G21: 10 | H21: 43637 | I21: ACME Film
A22: =IF(B22<>"",ROWS($B$6:B22),"") -> 17 | B22: Aušros pažadas | C22: Promise at Dawn | D22: FR | E22: 14267.34 | F22: 2518 | G22: 13 | H22: 43672 | I22: Best Film
A23: =IF(B23<>"",ROWS($B$6:B23),"") -> 18 | B23: Keršytojai. Pabaiga | C23: Avengers: Endgame | D23: US | E23: 13569.96 | F23: 2307 | G23: 11 | H23: 43581 | I23: Theatrical Film Distribution / WDSMPI
A24: =IF(B24<>"",ROWS($B$6:B24),"") -> 19 | B24: Roboto vaikas | C24: I Am Mother (Mister Smith) | D24: AU | E24: 12512.37 | F24: 2175 | G24: 10 | H24: 43658 | I24: ACME Film
A25: =IF(B25<>"",ROWS($B$6:B25),"") -> 20 | B25: Mūsų pirmosios atostogos | C25: Premières vacances | D25: FR | E25: 10689.29 | F25: 1897 | G25: 5 | H25: 43644 | I25: Kino pasaka
A26: =IF(B26<>"",ROWS($B$6:B26),"") -> 21 | B26: Skausmas ir šlovė | C26: Dolor y gloria | D26: ES | E26: 8295 | F26: 1427 | G26: 6 | H26: 43630 | I26: VLG Film
A27: =IF(B27<>"",ROWS($B$6:B27),"") -> 22 | B27: Pavarotti | C27: Pavarotti | D27: UK, US | E27: 8184 | F27: 1671 | G27: 14 | H27: 43672 | I27: VLG Film
A28: =IF(B28<>"",ROWS($B$6:B28),"") -> 23 | B28: Kodėl mes kūrybingi? | C28: Why Are We Creative? | D28: DE | E28: 7843 | F28: 1511 | G28: 6 | H28: 43658 | I28: Best Film
A29: =IF(B29<>"",ROWS($B$6:B29),"") -> 24 | B29: Džonas Vikas 3 | C29: John Wick 3: Parabellum | D29: US | E29: 5074.42 | F29: 830 | G29: 2 | H29: 43602 | I29: ACME Film
A30: =IF(B30<>"",ROWS($B$6:B30),"") -> 25 | B30: Virš debesų | C30: Выше неба | D30: RU | E30: 4066.06 | F30: 716 | G30: 4 | H30: 43644 | I30: VLG Film
A31: =IF(B31<>"",ROWS($B$6:B31),"") -> 26 | B31: Muzika tavo rankose | C31: Au bout des doigts | D31: FR | E31: 3415.48 | F31: 790 | G31: 9 | H31: 43644 | I31: Greta Garbo Films
A32: =IF(B32<>"",ROWS($B$6:B32),"") -> 27 | B32: Aladinas | C32: Aladdin | D32: US | E32: 3312.58 | F32: 692 | G32: 1 | H32: 43609 | I32: Theatrical Film Distribution / WDSMPI
A33: =IF(B33<>"",ROWS($B$6:B33),"") -> 28 | B33: Godzila 2: Monstrų karalius | C33: Godzilla2: King of the Monsters | D33: US, JP | E33: 1952.19 | F33: 390 | G33: 3 | H33: 43616 | I33: ACME Film / WB
A34: =IF(B34<>"",ROWS($B$6:B34),"") -> 29 | B34: Avelės ir vilkai 2 | C34: Sheep and Wolves: Pig Deal (Sheep and Wolves 2) | D34: RU | E34: 1925.96 | F34: 527 | G34: 9 | H34: 43630 | I34: ACME Film
A35: =IF(B35<>"",ROWS($B$6:B35),"") -> 30 | B35: Iksmenai. Tamsusis Feniksas | C35: X-Men: Dark Phoenix | D35: US | E35: 1707 | F35: 310 | G35: 2 | H35: 43623 | I35: Theatrical Film Distribution / 20th Century Fox
A36: =IF(B36<>"",ROWS($B$6:B36),"") -> 31 | B36: Mumbajaus viešbutis | C36: Hotel Mumbai | D36: AU, US, IN | E36: 1562.8 | F36: 286 | G36: 2 | H36: 43595 | I36: Travolta
A37: =IF(B37<>"",ROWS($B$6:B37),"") -> 32 | B37: Kelionės namo | C37: Kelionės namo | D37: LT | E37: 907.2 | F37: 406 | G37: 7 | H37: 43539 | I37: Ultra Nominum
A38: =IF(B38<>"",ROWS($B$6:B38),"") -> 33 | B38: Valstybės Paslaptis | C38: Valstybės Paslaptis | D38: LT | E38: 783.1 | F38: 285 | G38: 2 | H38: 43567 | I38: ACME Film
A39: =IF(B39<>"",ROWS($B$6:B39),"") -> 34 | B39: Asteriksas: Stebuklingojo gėrimo paslaptis | C39: Asterix - The Secret of the Magic Potion | D39: FR | E39: 687.6 | F39: 382 | G39: 1 | H39: 43469 | I39: ACME Film
A40: =IF(B40<>"",ROWS($B$6:B40),"") -> 35 | B40: Mažoji pėda | C40: Smallfoot | D40: US | E40: 572.5 | F40: 304 | G40: 1 | H40: 43392 | I40: ACME Film / WB
A41: =IF(B41<>"",ROWS($B$6:B41),"") -> 36 | B41: Bulius Ferdinandas | C41: Ferdinand | D41: US | E41: 467 | F41: 249 | G41: 2 | H41: 43084 | I41: Theatrical Film Distribution / 20th Century Fox
...

Sheet Rugpjūtis
A1: ='2019'!A1 -> 2019
A2: ='2019'!A2 -> Lietuvos kino teatruose rodytų filmų TOP
A3: Rugpjūtis
A5: Eil. Nr. | B5: Filmo pavadinimas | C5: Filmo pavadinimas originalo kalba | D5: Kilmės šalis | E5: Pajamos | F5: Žiūrovų skaičius | G5: Kopijų skaičius | H5: Premjeros data | I5: Platintojas
A6: =IF(B6<>"",ROWS($B$6:B6),"") -> 1 | B6: Greiti ir įsiutę: Hobsas ir Šo | C6: Fast & Furious Presents: Hobbs & Shaw | D6: US | E6: 368939 | F6: 60429 | G6: 14 | H6: 43679 | I6: NCG Distribution / Universal Pictures International
A7: =IF(B7<>"",ROWS($B$6:B7),"") -> 2 | B7: Liūtas karalius | C7: The Lion King | D7: US | E7: 321488.68 | F7: 62850 | G7: 30 | H7: 43665 | I7: Theatrical Film Distribution / WDSMPI
A8: =IF(B8<>"",ROWS($B$6:B8),"") -> 3 | B8: Vieną kartą Holivude | C8: Once Upon a Time... in Hollywood | D8: US, UK, CN | E8: 312709 | F8: 52294 | G8: 17 | H8: 43693 | I8: ACME Film / SONY
A9: =IF(B9<>"",ROWS($B$6:B9),"") -> 4 | B9: Žaislų istorija 4 | C9: Toy Story 4 | D9: US | E9: 219050.86 | F9: 46217 | G9: 31 | H9: 43686 | I9: Theatrical Film Distribution / WDSMPI
A10: =IF(B10<>"",ROWS($B$6:B10),"") -> 5 | B10: Vestuvės | C10: Vestuvės | D10: LT | E10: 138323 | F10: 26118 | G10: 15 | H10: 43686 | I10: Film Jam
A11: =IF(B11<>"",ROWS($B$6:B11),"") -> 6 | B11: Piktieji paukščiai. Filmas 2 | C11: The Angry Birds Movie 2 | D11: FI, US | E11: 124780.06 | F11: 27414 | G11: 17 | H11: 43700 | I11: ACME Film / SONY
A12: =IF(B12<>"",ROWS($B$6:B12),"") -> 7 | B12: Čia buvo Saša | C12: Čia buvo Saša | D12: LT | E12: 78712.27 | F12: 14529 | G12: 15 | H12: 43693 | I12: Dansu films
A13: =IF(B13<>"",ROWS($B$6:B13),"") -> 8 | B13: Lietinga diena Niujorke | C13: A Rainy Day in New York | D13: US | E13: 76597.8 | F13: 13268 | G13: 15 | H13: 43679 | I13: ACME Film
A14: =IF(B14<>"",ROWS($B$6:B14),"") -> 9 | B14: Šiurpios istorijos pasakojimui tamsoje | C14: Scary Stories to Tell in the Dark | D14: CA, US | E14: 65643.25 | F14: 11351 | G14: 14 | H14: 43686 | I14: ACME Film
A15: =IF(B15<>"",ROWS($B$6:B15),"") -> 10 | B15: Slėpynės | C15: Ready Or Not | D15: US | E15: 50755.4 | F15: 10135 | G15: 14 | H15: 43700 | I15: Theatrical Film Distribution / 20th Century Fox
A16: =IF(B16<>"",ROWS($B$6:B16),"") -> 11 | B16: Anabelė 3 | C16: Annabelle Comes Home (Annabelle 3) | D16: US | E16: 47713.93 | F16: 7674 | G16: 7 | H16: 43658 | I16: ACME Film / WB
A17: =IF(B17<>"",ROWS($B$6:B17),"") -> 12 | B17: Slaptas augintinių gyvenimas 2 | C17: Secret Life of Pets 2 | D17: US | E17: 42597 | F17: 9190 | G17: 7 | H17: 43616 | I17: NCG Distribution / Universal Pictures International
A18: =IF(B18<>"",ROWS($B$6:B18),"") -> 13 | B18: Geri berniukai | C18: Good Boys | D18: US | E18: 36762 | F18: 7377 | G18: 14 | H18: 43700 | I18: NCG Distribution / Universal Pictures International
A19: =IF(B19<>"",ROWS($B$6:B19),"") -> 14 | B19: Žmogus-Voras: Toli nuo namų | C19: Spiderman Far From Home | D19: US | E19: 16758.12 | F19: 2906 | G19: 6 | H19: 43651 | I19: ACME Film / SONY
A20: =IF(B20<>"",ROWS($B$6:B20),"") -> 15 | B20: 47 metrai: įkalintos po vandeniu | C20: 47 Meters Down: Uncaged | D20: UK | E20: 15866 | F20: 2909 | G20: 6 | H20: 43693 | I20: VLG Film
A21: =IF(B21<>"",ROWS($B$6:B21),"") -> 16 | B21: Aušros pažadas | C21: Promise at Dawn | D21: FR | E21: 15535.83 | F21: 2982 | G21: 13 | H21: 43672 | I21: Best Film
A22: =IF(B22<>"",ROWS($B$6:B22),"") -> 17 | B22: Angelo apgultis | C22: Angel Has Fallen | D22: US | E22: 14175 | F22: 2418 | G22: 13 | H22: 43707 | I22: Garsų pasaulio įrašai
A23: =IF(B23<>"",ROWS($B$6:B23),"") -> 18 | B23: Bjaurios lėlės | C23: Uglydolls | D23: US | E23: 13399.75 | F23: 3101 | G23: 5 | H23: 43651 | I23: ACME Film
A24: =IF(B24<>"",ROWS($B$6:B24),"") -> 19 | B24: Saldi dienos pabaiga | C24: Dolce Fine Giornata | D24: PL | E24: 10369 | F24: 2026 | G24: 4 | H24: 43700 | I24: A-one films
A25: =IF(B25<>"",ROWS($B$6:B25),"") -> 20 | B25: Gernsio literatūros ir bulvių lupenų pyrago draugija | C25: Guernsey Literary and Potato Peel Pie Society | D25: UK, FR, US | E25: 7186.67 | F25: 1293 | G25: 9 | H25: 43679 | I25: Best Film
A26: =IF(B26<>"",ROWS($B$6:B26),"") -> 21 | B26: Afera | C26: The Hustle | D26: US | E26: 6551 | F26: 1040 | G26: 2 | H26: 43630 | I26: NCG Distribution / Universal Pictures International
A27: =IF(B27<>"",ROWS($B$6:B27),"") -> 22 | B27: Mano akių šviesa | C27: Light of My Life | D27: US | E27: 6183.05 | F27: 1340 | G27: 9 | H27: 43700 | I27: Travolta
A28: =IF(B28<>"",ROWS($B$6:B28),"") -> 23 | B28: Keršytojai. Pabaiga | C28: Avengers: Endgame | D28: US | E28: 5465.02 | F28: 1018 | G28: 9 | H28: 43581 | I28: Theatrical Film Distribution / WDSMPI
A29: =IF(B29<>"",ROWS($B$6:B29),"") -> 24 | B29: Pavarotti | C29: Pavarotti | D29: UK, US | E29: 5401 | F29: 1220 | G29: 14 | H29: 43672 | I29: VLG Film
A30: =IF(B30<>"",ROWS($B$6:B30),"") -> 25 | B30: Nijolė | C30: Nijolė | D30: LT, IT | E30: 4697.5 | F30: 1553 | G30: 10 | H30: 43697 | I30: Just a moment
A31: =IF(B31<>"",ROWS($B$6:B31),"") -> 26 | B31: Rocketman | C31: Rocketman | D31: UK, US | E31: 4230 | F31: 700 | G31: 1 | H31: 43623 | I31: NCG Distribution / Paramount Pictures
A32: =IF(B32<>"",ROWS($B$6:B32),"") -> 27 | B32: Mažulė, verta milijonų | C32: Driven | D32: US | E32: 3726.41 | F32: 663 | G32: 5 | H32: 43707 | I32: VLG Film
A33: =IF(B33<>"",ROWS($B$6:B33),"") -> 28 | B33: Vagys melagiai | C33: Lying and Stealing | D33: US | E33: 2711.94 | F33: 454 | G33: 3 | H33: 43665 | I33: ACME Film
A34: =IF(B34<>"",ROWS($B$6:B34),"") -> 29 | B34: Radviliada | C34: Radviliada | D34: LT | E34: 2677 | F34: 1866 | G34: 4 | H34: 41880 | I34: Ultra Nominum
A35: =IF(B35<>"",ROWS($B$6:B35),"") -> 30 | B35: Abigailė | C35: Эбигейл | D35: RU | E35: 2676.53 | F35: 494 | G35: 4 | H35: 43707 | I35: Top FilmBaltic
A36: =IF(B36<>"",ROWS($B$6:B36),"") -> 31 | B36: Duokit laisvę | C36: Give my liberty | D36: US | E36: 2247 | F36: 452 | G36: 4 | H36: 43679 | I36: A-one films
A37: =IF(B37<>"",ROWS($B$6:B37),"") -> 32 | B37: Damų laimė | C37: Les Dames | D37: CH | E37: 2214.34 | F37: 447 | G37: 10 | H37: 43707 | I37: Greta Garbo Films
A38: =IF(B38<>"",ROWS($B$6:B38),"") -> 33 | B38: Skausmas ir šlovė | C38: Dolor y gloria | D38: ES | E38: 2213 | F38: 440 | G38: 3 | H38: 43630 | I38: VLG Film
A39: =IF(B39<>"",ROWS($B$6:B39),"") -> 34 | B39: Laiko tiltai | C39: Laiko tiltai | D39: LT, LV, ES | E39: 1981 | F39: 857 | G39: 23 | H39: 43700 | I39: Ultra Nominum
A40: =IF(B40<>"",ROWS($B$6:B40),"") -> 35 | B40: Šokių kovos | C40: Битва | D40: RU | E40: 1901.35 | F40: 346 | G40: 6 | H40: 43707 | I40: ACME Film
A41: =IF(B41<>"",ROWS($B$6:B41),"") -> 36 | B41: Kodėl mes kūrybingi? | C41: Why Are We Creative? | D41: DE | E41: 1728 | F41: 326 | G41: 4 | H41: 43658 | I41: Best Film
...

Sheet Rugsėjis
A1: ='2019'!A1 -> 2019
A2: ='2019'!A2 -> Lietuvos kino teatruose rodytų filmų TOP
A3: Rugsėjis
A5: Eil. Nr. | B5: Filmo pavadinimas | C5: Filmo pavadinimas originalo kalba | D5: Kilmės šalis | E5: Pajamos | F5: Žiūrovų skaičius | G5: Kopijų skaičius | H5: Premjeros data | I5: Platintojas
A6: =IF(B6<>"",ROWS($B$6:B6),"") -> 1 | B6: TAS: Antroji dalis | C6: IT 2 | D6: US | E6: 247719.4 | F6: 38779 | G6: 15 | H6: 43714 | I6: ACME Film / WB
A7: =IF(B7<>"",ROWS($B$6:B7),"") -> 2 | B7: Piktieji paukščiai. Filmas 2 | C7: The Angry Birds Movie 2 | D7: FI, US | E7: 165332 | F7: 34210 | G7: 16 | H7: 43700 | I7: ACME Film / SONY
A8: =IF(B8<>"",ROWS($B$6:B8),"") -> 3 | B8: Ad Astra | C8: Ad Astra | D8: US | E8: 157349.28 | F8: 23870 | G8: 16 | H8: 43728 | I8: Theatrical Film Distribution / 20th Century Fox
A9: =IF(B9<>"",ROWS($B$6:B9),"") -> 4 | B9: Vieną kartą Holivude | C9: Once Upon a Time... in Hollywood | D9: US, UK, CN | E9: 127371.04 | F9: 20739 | G9: 12 | H9: 43693 | I9: ACME Film / SONY
A10: =IF(B10<>"",ROWS($B$6:B10),"") -> 5 | B10: Šuns tikslas 2 | C10: Molly and Max (A Dog's Journey) | D10: US | E10: 108353.6 | F10: 21199 | G10: 17 | H10: 43721 | I10: ACME Film
A11: =IF(B11<>"",ROWS($B$6:B11),"") -> 6 | B11: Aferistės | C11: Hustlers | D11: US | E11: 106493.41 | F11: 17054 | G11: 10 | H11: 43728 | I11: ACME Film
A12: =IF(B12<>"",ROWS($B$6:B12),"") -> 7 | B12: Dauntono Abatija | C12: Downton Abbey | D12: UK | E12: 46912.5 | F12: 7999 | G12: 16 | H12: 43721 | I12: NCG Distribution / Universal Pictures International
A13: =IF(B13<>"",ROWS($B$6:B13),"") -> 8 | B13: Nematoma | C13: Nematoma | D13: LT, LV, UA | E13: 40535.77 | F13: 7167 | G13: 22 | H13: 43728 | I13: VLG Film
A14: =IF(B14<>"",ROWS($B$6:B14),"") -> 9 | B14: Čia buvo Saša | C14: Čia buvo Saša | D14: LT | E14: 37867.09 | F14: 6949 | G14: 10 | H14: 43693 | I14: Dansu films
A15: =IF(B15<>"",ROWS($B$6:B15),"") -> 10 | B15: Raudonbatė ir 7 Nykštukai | C15: Red Shoes and the Seven Dwarfs | D15: KR | E15: 34892.14 | F15: 6982 | G15: 16 | H15: 43735 | I15: ACME Film
A16: =IF(B16<>"",ROWS($B$6:B16),"") -> 11 | B16: Liūtas karalius | C16: The Lion King | D16: US | E16: 34726.93 | F16: 6994 | G16: 13 | H16: 43665 | I16: Theatrical Film Distribution / WDSMPI
A17: =IF(B17<>"",ROWS($B$6:B17),"") -> 12 | B17: Žaislų istorija 4 | C17: Toy Story 4 | D17: US | E17: 33831.87 | F17: 7140 | G17: 13 | H17: 43686 | I17: Theatrical Film Distribution / WDSMPI
A18: =IF(B18<>"",ROWS($B$6:B18),"") -> 13 | B18: Gimtinė | C18: Motherland | D18: LT | E18: 28180.86 | F18: 5349 | G18: 18 | H18: 43714 | I18: ACME Film
A19: =IF(B19<>"",ROWS($B$6:B19),"") -> 14 | B19: Geri berniukai | C19: Good Boys | D19: US | E19: 27667 | F19: 4879 | G19: 9 | H19: 43700 | I19: NCG Distribution / Universal Pictures International
A20: =IF(B20<>"",ROWS($B$6:B20),"") -> 15 | B20: Slėpynės | C20: Ready Or Not | D20: US | E20: 25280.76 | F20: 4217 | G20: 9 | H20: 43700 | I20: Theatrical Film Distribution / 20th Century Fox
A21: =IF(B21<>"",ROWS($B$6:B21),"") -> 16 | B21: Rembo. Paskutinis kraujas | C21: Rambo V: Last Blood | D21: US | E21: 22898 | F21: 3791 | G21: 12 | H21: 43728 | I21: Garsų pasaulio įrašai
A22: =IF(B22<>"",ROWS($B$6:B22),"") -> 17 | B22: Angelo apgultis | C22: Angel Has Fallen | D22: US | E22: 22192 | F22: 4058 | G22: 14 | H22: 43707 | I22: Garsų pasaulio įrašai
A23: =IF(B23<>"",ROWS($B$6:B23),"") -> 18 | B23: Kur tu pradingai, Bernadeta? | C23: Where'd You Go, Bernadette | D23: US | E23: 21896.91 | F23: 4042 | G23: 19 | H23: 43714 | I23: VLG Film
A24: =IF(B24<>"",ROWS($B$6:B24),"") -> 19 | B24: Tėtušio milijonai | C24: Дорогой папа | D24: RU | E24: 20626 | F24: 3426 | G24: 8 | H24: 43721 | I24: Garsų pasaulio įrašai
A25: =IF(B25<>"",ROWS($B$6:B25),"") -> 20 | B25: Greiti ir įsiutę: Hobsas ir Šo | C25: Fast & Furious Presents: Hobbs & Shaw | D25: US | E25: 17676 | F25: 3053 | G25: 8 | H25: 43679 | I25: NCG Distribution / Universal Pictures International
A26: =IF(B26<>"",ROWS($B$6:B26),"") -> 21 | B26: (Ne) Tikros prancūziškos vestuvės 2 | C26: Qu'est-ce qu'on a fait au Bon Dieu? 2 | D26: FR | E26: 16164.2 | F26: 2768 | G26: 6 | H26: 43714 | I26: Kino pasaka
A27: =IF(B27<>"",ROWS($B$6:B27),"") -> 22 | B27: Informatorius | C27: Three Seconds (Informer) | D27: UK | E27: 11892.31 | F27: 1946 | G27: 11 | H27: 43735 | I27: ACME Film
A28: =IF(B28<>"",ROWS($B$6:B28),"") -> 23 | B28: Agentė | C28: Operative | D28: US, IL | E28: 9861 | F28: 1830 | G28: 12 | H28: 43714 | I28: Garsų pasaulio įrašai
A29: =IF(B29<>"",ROWS($B$6:B29),"") -> 24 | B29: Merė: laivo prakeiksmas | C29: Mary | D29: US | E29: 9507.92 | F29: 1551 | G29: 10 | H29: 43735 | I29: Best Film
A30: =IF(B30<>"",ROWS($B$6:B30),"") -> 25 | B30: Vestuvės | C30: Vestuvės | D30: LT | E30: 9191.5 | F30: 2004 | G30: 8 | H30: 43686 | I30: Film Jam
A31: =IF(B31<>"",ROWS($B$6:B31),"") -> 26 | B31: Keista tiesa | C31: Strange But True | D31: CA | E31: 8822.95 | F31: 1544 | G31: 12 | H31: 43721 | I31: Theatrical Film Distribution
A32: =IF(B32<>"",ROWS($B$6:B32),"") -> 27 | B32: Ar gali išsaugoti paslaptį | C32: Can you keep a secret? | D32: US | E32: 5684.78 | F32: 927 | G32: 12 | H32: 43735 | I32: VLG Film
A33: =IF(B33<>"",ROWS($B$6:B33),"") -> 28 | B33: Sniego vaikis | C33: Abominable | D33: CN, US | E33: 5581 | F33: 1046 | G33: 2 | H33: 43742 | I33: NCG Distribution / Universal Pictures International
A34: =IF(B34<>"",ROWS($B$6:B34),"") -> 29 | B34: Šokių kovos | C34: Битва | D34: RU | E34: 5324.76 | F34: 948 | G34: 7 | H34: 43707 | I34: ACME Film
A35: =IF(B35<>"",ROWS($B$6:B35),"") -> 30 | B35: Juodojo drakono pėdsakais | C35: Mystery of Iron Mask | D35: RU, CN | E35: 4947 | F35: 850 | G35: 16 | H35: 43735 | I35: Garsų pasaulio įrašai
