Workbook

Sheet Suvestinė
B1: 2019
B2: Rodiklis | C2: Reikšmė
B3: Premjerų skaičius | C3: 288
B4: Lietuviškų filmų premjerų skaičius | C4: 27
B5: Bendras filmų skaičius | C5: 383
B6: Bendros pajamos | C6: 22513443
B7: Bendras žiūrovų skaičius | C7: 4152014
B9: Filmų dalis rinkoje, %
B10: Kategorija | C10: Pajamos | D10: Žiūrovų skaičius | E10: Pajamos % | F10: Žiūrovų skaičius % | G10: Filmų skaičius
B11: Lietuva | C11: 4436478.2 | D11: 798570 | E11: 19.706 | F11: 19.233 | G11: 39
B12: Europa | C12: 3601514.9 | D12: 715523 | E12: 15.997 | F12: 17.233 | G12: 179
B13: JAV | C13: 13437729 | D13: 2434276 | E13: 59.688 | F13: 58.629 | G13: 139
B14: Kita | C14: 1037721 | D14: 203645 | E14: 4.609 | F14: 4.905 | G14: 26
B15: Total | C15: =SUBTOTAL(109,Table1[Pajamos]) -> 22513443 | D15: =SUBTOTAL(109,Table1[Žiūrovų skaičius]) -> 4152014 | E15: =SUBTOTAL(109,Table1[Pajamos %]) -> 100 | F15: =SUBTOTAL(109,Table1[Žiūrovų skaičius %]) -> 100 | G15: =SUBTOTAL(109,Table1[Filmų skaičius]) -> 383
B47: Pasiskirstymas pagal platintojus
A48: Eil. nr | B48: Platintojas | C48: Pajamos | D48: Žiūrovų skaičius | E48: Filmų skaičius | F48: Pajamos % | G48: Žiūrovų skaičius %
A49: =IF(B49<>"",ROWS($B$49:B49),"") -> 1 | B49: ACME Film | C49: 3994570.5 | D49: 747325 | E49: 62 | F49: 17.743 | G49: 17.999
A50: =IF(B50<>"",ROWS($B$49:B50),"") -> 2 | B50: Theatrical Film Distribution / WDSMPI | C50: 3277230.9 | D50: 602354 | E50: 16 | F50: 14.557 | G50: 14.508
A51: =IF(B51<>"",ROWS($B$49:B51),"") -> 3 | B51: NCG Distribution / Universal Pictures International | C51: 3087735.5 | D51: 594602 | E51: 22 | F51: 13.715 | G51: 14.321
A52: =IF(B52<>"",ROWS($B$49:B52),"") -> 4 | B52: ACME Film / WB | C52: 2402079.6 | D52: 407913 | E52: 17 | F52: 10.67 | G52: 9.824
A53: =IF(B53<>"",ROWS($B$49:B53),"") -> 5 | B53: ACME Film / SONY | C53: 2065427.6 | D53: 370780 | E53: 16 | F53: 9.174 | G53: 8.93
A54: =IF(B54<>"",ROWS($B$49:B54),"") -> 6 | B54: Stambus planas | C54: 1259261.9 | D54: 204860 | E54: 1 | F54: 5.593 | G54: 4.934
A55: =IF(B55<>"",ROWS($B$49:B55),"") -> 7 | B55: Theatrical Film Distribution / 20th Century Fox | C55: 1207412.6 | D55: 203565 | E55: 11 | F55: 5.363 | G55: 4.903
A56: =IF(B56<>"",ROWS($B$49:B56),"") -> 8 | B56: Garsų pasaulio įrašai | C56: 1052516 | D56: 208583 | E56: 36 | F56: 4.675 | G56: 5.024
A57: =IF(B57<>"",ROWS($B$49:B57),"") -> 9 | B57: Singing fish | C57: 948534.97 | D57: 160486 | E57: 2 | F57: 4.213 | G57: 3.865
A58: =IF(B58<>"",ROWS($B$49:B58),"") -> 10 | B58: VLG Film | C58: 455461.36 | D58: 84140 | E58: 25 | F58: 2.023 | G58: 2.026
A59: =IF(B59<>"",ROWS($B$49:B59),"") -> 11 | B59: NCG Distribution / Paramount Pictures | C59: 397213.93 | D59: 73388 | E59: 6 | F59: 1.764 | G59: 1.768
A60: =IF(B60<>"",ROWS($B$49:B60),"") -> 12 | B60: Best Film | C60: 348147.99 | D60: 67207 | E60: 17 | F60: 1.546 | G60: 1.619
... A87: =IF(B87<>"",ROWS($B$49:B87),"") -> 39 | B87: TV Manija | C87: 128 | D87: 22 | E87: 1 | F87: 0.001 | G87: 0.001
A88: Total | C88: =SUBTOTAL(109,Table18[Pajamos]) -> 22513443 | D88: =SUBTOTAL(109,Table18[Žiūrovų skaičius]) -> 4152014 | E88: =SUBTOTAL(109,Table18[Filmų skaičius]) -> 383 | F88: =SUBTOTAL(109,Table18[Pajamos %]) -> 100 | G88: =SUBTOTAL(109,Table18[Žiūrovų skaičius %]) -> 100.004
A90: LT TOP
A91: Eil. Nr. | B91: Filmo pavadinimas | C91: Pajamos | D91: Žiūrovų skaičius | E91: Premjeros data | F91: Platintojas
A92: 1 | B92: Pats sau milijonierius | C92: 1259261.9 | D92: 204860 | E92: 43756 | F92: Stambus planas
A93: 2 | B93: Ir visi jų vyrai | C93: 690896.43 | D93: 121123 | E93: 43490 | F93: ACME Film
A94: 3 | B94: Pasmerkti. Kauno romanas | C94: 508888.97 | D94: 88763 | E94: 43518 | F94: Singing fish
A95: 4 | B95: Pasmerkti. Pajūrio džiazas | C95: 439646 | D95: 71723 | E95: 43791 | F95: Singing fish
A96: 5 | B96: Tarp mūsų, mergaičių | C96: 310830 | D96: 55189 | E96: 43462 | F96: Vabalo filmai
A97: 6 | B97: Valstybės Paslaptis | C97: 214476.02 | D97: 40040 | E97: 43567 | F97: ACME Film
A98: 7 | B98: Purpurinis rūkas | C98: 159978 | D98: 33038 | E98: 43504 | F98: Garsų pasaulio įrašai
A99: 8 | B99: Vestuvės | C99: 147514.5 | D99: 28122 | E99: 43686 | F99: Film Jam
A100: 9 | B100: Išgyventi vasarą | C100: 139509.91 | D100: 26328 | E100: 43574 | F100: Europos kinas
A101: 10 | B101: Čia buvo Saša | C101: 120454.36 | D101: 22413 | E101: 43693 | F101: Dansu films

Sheet Platintojų pasiskirtsymas
A1: Platintojas | B1: Filmo pavadinimas | C1: Pajamos | D1: Žiūrovų skaičius | E1: Premjeros data
A2: ACME Film | B2: Ir visi jų vyrai (Ir visi jų vyrai) | C2: 690896.43 | D2: 121123 | E2: 43490
B3: Žalioji knyga (Green Book) | C3: 304190.17 | D3: 54065 | E3: 43476
B4: Valstybės Paslaptis (Valstybės Paslaptis) | C4: 214476.02 | D4: 40040 | E4: 43567
B5: Aferistės (Hustlers) | C5: 172848.23 | D5: 29426 | E5: 43728
B6: Džonas Vikas 3 (John Wick 3: Parabellum) | C6: 151688.56 | D6: 26568 | E6: 43602
B7: Šuns tikslas 2 (Molly and Max (A Dog's Journey)) | C7: 150180.3 | D7: 30268 | E7: 43721
B8: Karalienės Korgis (Queens Corgi) | C8: 132100.65 | D8: 29596 | E8: 43546
B9: Bjaurios lėlės (Uglydolls) | C9: 125008.15 | D9: 29389 | E9: 43651
B10: Ištraukti peiliai (Knives Out) | C10: 121148.23 | D10: 20321 | E10: 43798
B11: Midvėjaus mūšis (Midway) | C11: 118498.46 | D11: 18708 | E11: 43777
B12: Mirties APPS'AS (Countdown) | C12: 103691.94 | D12: 17123 | E12: 43763
B13: Aviuko Šono filmas. Fermagedonas (Shaun the Sheep 2 (Shaun the Sheep Movie: Farmageddon)) | C13: 95803.43 | D13: 19929 | E13: 43784
B14: Tarp pilkų debesų (Ashes in the Snow) | C14: 94829.69 | D14: 21205 | E14: 43385
... B63: Balerina (2017) (Ballerina (2017)) | C63: 52 | D63: 26 | E63: 42748
A64: ACME Film Total | B64: =COUNTA(B2:B63) -> 62 | C64: 3994570.5 | D64: 747325
A65: Theatrical Film Distribution / WDSMPI | B65: Liūtas karalius (The Lion King) | C65: 815863.31 | D65: 154363 | E65: 43665
B66: Keršytojai. Pabaiga (Avengers: Endgame) | C66: 566244.72 | D66: 92523 | E66: 43581
B67: Ledo šalis 2 (Frozen 2) | C67: 511960.65 | D67: 99784 | E67: 43824
B68: Ralfas griovėjas 2 (Ralph Breaks the Internet: Wreck-It Ralph 2) | C68: 294601.92 | D68: 60636 | E68: 43476
B69: Žaislų istorija 4 (Toy Story 4) | C69: 253767.05 | D69: 53554 | E69: 43686
B70: Žvaigždžių karai. Skaivokerio iškilimas (Star Wars: The Rise of Skywalker) | C70: 231368.27 | D70: 35098 | E70: 43817
B71: Kapitonė Marvel (Captain Marvel) | C71: 191799.39 | D71: 30738 | E71: 43532
B72: Piktadarės istorija 2 (Maleficent: Mistress of Evil) | C72: 177754.66 | D72: 30814 | E72: 43763
B73: Stiklas (Glass) | C73: 116290.15 | D73: 20542 | E73: 43483
B74: Aladinas (Aladdin) | C74: 81013.3 | D74: 16381 | E74: 43609
B75: Merė Popins grįžta (Mary Poppins Returns) | C75: 19331.06 | D75: 3958 | E75: 43462
B76: Dambis (Dumbo) | C76: 15134.02 | D76: 3041 | E76: 43553
B77: Nerealieji 2 (Incredibles 2) | C77: 798.5 | D77: 442 | E77: 43315
... B80: Ratai 3 (Cars 3) | C80: 76 | D80: 38 | E80: 42944
A81: Theatrical Film Distribution / WDSMPI Total | B81: =COUNTA(B65:B80) -> 16 | C81: 3277230.9 | D81: 602354
A82: NCG Distribution / Universal Pictures International | B82: Kaip prisijaukinti slibiną 3 (How to Train Your Dragon: The Hidden World) | C82: 674097.78 | D82: 134218 | E82: 43532
B83: Slaptas augintinių gyvenimas 2 (Secret Life of Pets 2) | C83: 522172.51 | D83: 111307 | E83: 43616
B84: Greiti ir įsiutę: Hobsas ir Šo (Fast & Furious Presents: Hobbs & Shaw) | C84: 402092.74 | D84: 65917 | E84: 43679
B85: Sniego vaikis (Abominable) | C85: 355396.31 | D85: 72111 | E85: 43742
B86: Adamsų šeimynėlė (The Addams Family) | C86: 290507.9 | D86: 58444 | E86: 43798
B87: Afera (The Hustle) | C87: 180540.41 | D87: 31707 | E87: 43630
B88: Last Christmas (Last Christmas) | C88: 130457.35 | D88: 20724 | E88: 43805
B89: Mes (Us) | C89: 104837.54 | D89: 17933 | E89: 43546
B90: Grinčas (The Grinch) | C90: 93200.27 | D90: 21250 | E90: 43434
B91: Geri berniukai (Good Boys) | C91: 65316 | D91: 12416 | E91: 43700
B92: Trys žingsniai iki tavęs (Five Feet Apart) | C92: 57374.22 | D92: 10387 | E92: 43588
B93: Dauntono Abatija (Downton Abbey) | C93: 51802.02 | D93: 8906 | E93: 43721
B94: Dar vakar (Yesterday) | C94: 44904.85 | D94: 8166 | E94: 43644
... B103: Helovinas (Halloween) | C103: 500 | D103: 70 | E103: 43399
A104: NCG Distribution / Universal Pictures International Total | B104: =COUNTA(B82:B103) -> 22 | C104: 3087735.5 | D104: 594602
A105: ACME Film / WB | B105: Džokeris (Joker) | C105: 982355.81 | D105: 155986 | E105: 43742
B106: TAS: Antroji dalis (IT 2) | C106: 257825.38 | D106: 40827 | E106: 43714
B107: Anabelė 3 (Annabelle Comes Home (Annabelle 3)) | C107: 251803.73 | D107: 41145 | E107: 43658
B108: Lego filmas 2 (Lego Movie 2) | C108: 195989.4 | D108: 42556 | E108: 43504
B109: Pokemon Detektyvas Pikachu (Pokemon Detective Pikachu) | C109: 159782.95 | D109: 30869 | E109: 43595
B110: Akvamenas (Aquaman) | C110: 123957.99 | D110: 20256 | E110: 43455
B111: Shazam (Shazam) | C111: 91510.04 | D111: 16620 | E111: 43560
B112: Godzila 2: Monstrų karalius (Godzilla2: King of the Monsters) | C112: 82963.78 | D112: 15126 | E112: 43616
B113: Daktaras miegas (Doctor Sleep) | C113: 81469.13 | D113: 13278 | E113: 43777
B114: Kurjeris (Mule) | C114: 72592.36 | D114: 12773 | E114: 43469
B115: Verkiančios moters prakeiksmas (Curse of La Llorona) | C115: 71104.39 | D115: 12198 | E115: 43574
B116: Saulė irgi žvaigždė (Sun is also a star) | C116: 14578.65 | D116: 2938 | E116: 43602
B117: Taip gimė žvaigždė (Star ir Born) | C117: 7009.97 | D117: 1384 | E117: 43378
... B121: Tas (It) | C121: 661 | D121: 157 | E121: 42986
A122: ACME Film / WB Total | B122: =COUNTA(B105:B121) -> 17 | C122: 2402079.6 | D122: 407913
A123: ACME Film / SONY | B123: Vieną kartą Holivude (Once Upon a Time in Hollywood) | C123: 457353.87 | D123: 76044 | E123: 43693
B124: Džiumandži: Kitas lygis (Jumanji: The Next level (Jumanji 2)) | C124: 336961.86 | D124: 53687 | E124: 43805
B125: Piktieji paukščiai. Filmas 2 (The Angry Birds Movie 2) | C125: 332052.93 | D125: 70356 | E125: 43700
B126: Žmogus-Voras: Toli nuo namų (Spiderman Far From Home) | C126: 318759.05 | D126: 52884 | E126: 43651
B127: Belos kelionė namo (Dog's Way Home) | C127: 171853.01 | D127: 37528 | E127: 43490
B128: Pabėgimo kambarys (Escape Room) | C128: 171047.81 | D128: 29354 | E128: 43469
B129: Vyrai juodais drabužiais: Pasaulinė grėsmė (Men in Black International) | C129: 161939.43 | D129: 28188 | E129: 43630
B130: Zombių žemė: Kontrolinis šūvis (Zombieland 2) | C130: 38815.51 | D130: 6766 | E130: 43763
B131: Žmogus voras: Į naują visatą (Spiderman into the Spiderverse) | C131: 21283.38 | D131: 4686 | E131: 43448
B132: Čarlio angelai (Charlie's Angels) | C132: 21191.73 | D132: 3850 | E132: 43784
B133: Mirties blyksnis (Untitled James Gunn (Brightburn)) | C133: 18573.37 | D133: 3813 | E133: 43609
B134: Šerlokas Holmsas ir darktaras Vatsonas (Holmes&Watson) | C134: 9982.85 | D134: 1768 | E134: 43462
B135: Hanos Greis Egzorcizmas (Possession of Hannah Grace) | C135: 3003.65 | D135: 488 | E135: 43441
... B138: Triušis Piteris (Peter Rabbit) | C138: 200 | D138: 108 | E138: 43182
A139: ACME Film / SONY Total | B139: =COUNTA(B123:B138) -> 16 | C139: 2065427.6 | D139: 370780
A140: Stambus planas | B140: Pats sau milijonierius (Pats sau milijonierius) | C140: 1259261.9 | D140: 204860 | E140: 43756
A141: Stambus planas Total | B141: =COUNTA(B140) -> 1 | C141: 1259261.9 | D141: 204860
A142: Theatrical Film Distribution / 20th Century Fox | B142: Bohemijos rapsodija (Bohemian Rhapsody) | C142: 283544.82 | D142: 48800 | E142: 43406
B143: Ad Astra (Ad Astra) | C143: 219559.02 | D143: 35233 | E143: 43728
B144: Alita. Kovos angelas (Alita: Battle Angel) | C144: 181750.65 | D144: 29680 | E144: 43511
B145: Le Manas'66. Plento karaliai (Ford v. Ferrari) | C145: 163396.22 | D145: 26691 | E145: 43794
B146: Terminatorius. Tamsus likimas (Terminator: Dark Fate) | C146: 112842.56 | D146: 17534 | E146: 43770
B147: Slėpynės (Ready Or Not) | C147: 76217.66 | D147: 14389 | E147: 43700
B148: Favoritė (The Favourite) | C148: 61746.18 | D148: 11625 | E148: 43483
B149: Iksmenai. Tamsusis Feniksas (X-Men: Dark Phoenix) | C149: 60523.36 | D149: 10834 | E149: 43623
B150: Stjuberis (Stuber) | C150: 25619.77 | D150: 4586 | E150: 43658
B151: Svetimi namai (The Aftermath) | C151: 21328.31 | D151: 3730 | E151: 43588
B152: Bulius Ferdinandas (Ferdinand) | C152: 884 | D152: 463 | E152: 43084
A153: Theatrical Film Distribution / 20th Century Fox Total | B153: =COUNTA(B142:B152) -> 11 | C153: 1207412.6 | D153: 203565
A154: Garsų pasaulio įrašai | B154: Purpurinis rūkas (Purpurinis rūkas) | C154: 159978 | D154: 33038 | E154: 43504
B155: After (After. Kai mes susitikom) | C155: 133127 | D155: 24944 | E155: 43567
B156: T-34 (T-34) | C156: 73473 | D156: 12866 | E156: 43111
B157: Snieguotos lenktynės (Racetime) | C157: 68461 | D157: 16312 | E157: 43518
B158: Pūkuota šnipė (Marnie’s World) | C158: 62661 | D158: 15882 | E158: 43637
B159: Monstrų atostogos (Legend of Hallowaiian) | C159: 58337 | D159: 13422 | E159: 43770
B160: Tarnas (Холоп) | C160: 51973 | D160: 8268 | E160: 43826
B161: Eglutės. Finalas (Ёлки Последние) | C161: 49020 | D161: 8867 | E161: 43462
B162: Angelo apgultis (Angel Has Fallen) | C162: 36367 | D162: 6476 | E162: 43707
B163: Ričardas atsisveikina (Richard Says Goodbye) | C163: 31630 | D163: 6263 | E163: 43602
...

Sheet 2019
A1: 2019
A2: Lietuvos kino teatruose rodytų filmų TOP
A5: Eil. Nr. | B5: Filmo pavadinimas | C5: Filmo pavadinimas originalo kalba | D5: Kilmės šalis | E5: Pajamos | F5: Žiūrovų skaičius | G5: Kopijų skaičius | H5: Premjeros data | I5: Platintojas
A6: =IF(B6<>"",ROWS($B$6:B6),"") -> 1 | B6: Pats sau milijonierius | C6: Pats sau milijonierius | D6: LT | E6: 1259261.9 | F6: 204860 | G6: 20 | H6: 43756 | I6: Stambus planas
A7: =IF(B7<>"",ROWS($B$6:B7),"") -> 2 | B7: Džokeris | C7: Joker | D7: US, CA | E7: 982355.81 | F7: 155986 | G7: 17 | H7: 43742 | I7: ACME Film / WB
A8: =IF(B8<>"",ROWS($B$6:B8),"") -> 3 | B8: Liūtas karalius | C8: The Lion King | D8: US | E8: 815863.31 | F8: 154363 | G8: 31 | H8: 43665 | I8: Theatrical Film Distribution / WDSMPI
A9: =IF(B9<>"",ROWS($B$6:B9),"") -> 4 | B9: Ir visi jų vyrai | C9: Ir visi jų vyrai | D9: LT | E9: 690896.43 | F9: 121123 | G9: 18 | H9: 43490 | I9: ACME Film
A10: =IF(B10<>"",ROWS($B$6:B10),"") -> 5 | B10: Kaip prisijaukinti slibiną 3 | C10: How to Train Your Dragon: The Hidden World | D10: US | E10: 674097.78 | F10: 134218 | G10: 19 | H10: 43532 | I10: NCG Distribution / Universal Pictures International
A11: =IF(B11<>"",ROWS($B$6:B11),"") -> 6 | B11: Keršytojai. Pabaiga | C11: Avengers: Endgame | D11: US | E11: 566244.72 | F11: 92523 | G11: 25 | H11: 43581 | I11: Theatrical Film Distribution / WDSMPI
A12: =IF(B12<>"",ROWS($B$6:B12),"") -> 7 | B12: Slaptas augintinių gyvenimas 2 | C12: Secret Life of Pets 2 | D12: US | E12: 522172.51 | F12: 111307 | G12: 19 | H12: 43616 | I12: NCG Distribution / Universal Pictures International
A13: =IF(B13<>"",ROWS($B$6:B13),"") -> 8 | B13: Ledo šalis 2 | C13: Frozen 2 | D13: US | E13: 511960.65 | F13: 99784 | G13: 32 | H13: 43824 | I13: Theatrical Film Distribution / WDSMPI
A14: =IF(B14<>"",ROWS($B$6:B14),"") -> 9 | B14: Pasmerkti. Kauno romanas | C14: Pasmerkti. Kauno romanas | D14: LT | E14: 508888.97 | F14: 88763 | G14: 18 | H14: 43518 | I14: Singing fish
A15: =IF(B15<>"",ROWS($B$6:B15),"") -> 10 | B15: Vieną kartą Holivude | C15: Once Upon a Time... in Hollywood | D15: US, UK, CN | E15: 457353.87 | F15: 76044 | G15: 17 | H15: 43693 | I15: ACME Film / SONY
A16: =IF(B16<>"",ROWS($B$6:B16),"") -> 11 | B16: Pasmerkti. Pajūrio džiazas | C16: Pasmerkti. Pajūrio džiazas | D16: LT | E16: 439646 | F16: 71723 | G16: 19 | H16: 43791 | I16: Singing fish
A17: =IF(B17<>"",ROWS($B$6:B17),"") -> 12 | B17: Greiti ir įsiutę: Hobsas ir Šo | C17: Fast & Furious Presents: Hobbs & Shaw | D17: US | E17: 402092.74 | F17: 65917 | G17: 14 | H17: 43679 | I17: NCG Distribution / Universal Pictures International
A18: =IF(B18<>"",ROWS($B$6:B18),"") -> 13 | B18: Sniego vaikis | C18: Abominable | D18: CN, US | E18: 355396.31 | F18: 72111 | G18: 17 | H18: 43742 | I18: NCG Distribution / Universal Pictures International
A19: =IF(B19<>"",ROWS($B$6:B19),"") -> 14 | B19: Džiumandži: Kitas lygis | C19: Jumanji: The Next level (Jumanji 2) | D19: US | E19: 336961.86 | F19: 53687 | G19: 14 | H19: 43805 | I19: ACME Film / SONY
A20: =IF(B20<>"",ROWS($B$6:B20),"") -> 15 | B20: Piktieji paukščiai. Filmas 2 | C20: The Angry Birds Movie 2 | D20: FI, US | E20: 332052.93 | F20: 70356 | G20: 17 | H20: 43700 | I20: ACME Film / SONY
A21: =IF(B21<>"",ROWS($B$6:B21),"") -> 16 | B21: Žmogus-Voras: Toli nuo namų | C21: Spiderman Far From Home | D21: US | E21: 318759.05 | F21: 52884 | G21: 12 | H21: 43651 | I21: ACME Film / SONY
A22: =IF(B22<>"",ROWS($B$6:B22),"") -> 17 | B22: Tarp mūsų, mergaičių | C22: Tarp mūsų, mergaičių | D22: LT | E22: 310830 | F22: 55189 | G22: 14 | H22: 43462 | I22: Vabalo filmai
A23: =IF(B23<>"",ROWS($B$6:B23),"") -> 18 | B23: Žalioji knyga | C23: Green Book | D23: US | E23: 304190.17 | F23: 54065 | G23: 13 | H23: 43476 | I23: ACME Film
A24: =IF(B24<>"",ROWS($B$6:B24),"") -> 19 | B24: Ralfas griovėjas 2 | C24: Ralph Breaks the Internet: Wreck-It Ralph 2 | D24: US | E24: 294601.92 | F24: 60636 | G24: 33 | H24: 43476 | I24: Theatrical Film Distribution / WDSMPI
A25: =IF(B25<>"",ROWS($B$6:B25),"") -> 20 | B25: Adamsų šeimynėlė | C25: The Addams Family | D25: US | E25: 290507.9 | F25: 58444 | G25: 16 | H25: 43798 | I25: NCG Distribution / Universal Pictures International
A26: =IF(B26<>"",ROWS($B$6:B26),"") -> 21 | B26: Bohemijos rapsodija | C26: Bohemian Rhapsody | D26: UK, US | E26: 283544.82 | F26: 48800 | G26: 15 | H26: 43406 | I26: Theatrical Film Distribution / 20th Century Fox
A27: =IF(B27<>"",ROWS($B$6:B27),"") -> 22 | B27: TAS: Antroji dalis | C27: IT 2 | D27: US | E27: 257825.38 | F27: 40827 | G27: 15 | H27: 43714 | I27: ACME Film / WB
A28: =IF(B28<>"",ROWS($B$6:B28),"") -> 23 | B28: Žaislų istorija 4 | C28: Toy Story 4 | D28: US | E28: 253767.05 | F28: 53554 | G28: 31 | H28: 43686 | I28: Theatrical Film Distribution / WDSMPI
A29: =IF(B29<>"",ROWS($B$6:B29),"") -> 24 | B29: Anabelė 3 | C29: Annabelle Comes Home (Annabelle 3) | D29: US | E29: 251803.73 | F29: 41145 | G29: 11 | H29: 43658 | I29: ACME Film / WB
A30: =IF(B30<>"",ROWS($B$6:B30),"") -> 25 | B30: Žvaigždžių karai. Skaivokerio iškilimas | C30: Star Wars: The Rise of Skywalker | D30: US | E30: 231368.27 | F30: 35098 | G30: 25 | H30: 43817 | I30: Theatrical Film Distribution / WDSMPI
A31: =IF(B31<>"",ROWS($B$6:B31),"") -> 26 | B31: Ad Astra | C31: Ad Astra | D31: US | E31: 219559.02 | F31: 35233 | G31: 16 | H31: 43728 | I31: Theatrical Film Distribution / 20th Century Fox
A32: =IF(B32<>"",ROWS($B$6:B32),"") -> 27 | B32: Valstybės Paslaptis | C32: Valstybės Paslaptis | D32: LT | E32: 214476.02 | F32: 40040 | G32: 17 | H32: 43567 | I32: ACME Film
A33: =IF(B33<>"",ROWS($B$6:B33),"") -> 28 | B33: Lego filmas 2 | C33: Lego Movie 2 | D33: DK, NO, AU, US | E33: 195989.4 | F33: 42556 | G33: 17 | H33: 43504 | I33: ACME Film / WB
A34: =IF(B34<>"",ROWS($B$6:B34),"") -> 29 | B34: Kapitonė Marvel | C34: Captain Marvel | D34: US, AU | E34: 191799.39 | F34: 30738 | G34: 26 | H34: 43532 | I34: Theatrical Film Distribution / WDSMPI
A35: =IF(B35<>"",ROWS($B$6:B35),"") -> 30 | B35: Alita. Kovos angelas | C35: Alita: Battle Angel | D35: US | E35: 181750.65 | F35: 29680 | G35: 27 | H35: 43511 | I35: Theatrical Film Distribution / 20th Century Fox
A36: =IF(B36<>"",ROWS($B$6:B36),"") -> 31 | B36: Afera | C36: The Hustle | D36: US | E36: 180540.41 | F36: 31707 | G36: 14 | H36: 43630 | I36: NCG Distribution / Universal Pictures International
A37: =IF(B37<>"",ROWS($B$6:B37),"") -> 32 | B37: Piktadarės istorija 2 | C37: Maleficent: Mistress of Evil | D37: US | E37: 177754.66 | F37: 30814 | G37: 23 | H37: 43763 | I37: Theatrical Film Distribution / WDSMPI
A38: =IF(B38<>"",ROWS($B$6:B38),"") -> 33 | B38: Aferistės | C38: Hustlers | D38: US | E38: 172848.23 | F38: 29426 | G38: 10 | H38: 43728 | I38: ACME Film
A39: =IF(B39<>"",ROWS($B$6:B39),"") -> 34 | B39: Belos kelionė namo | C39: Dog's Way Home | D39: US | E39: 171853.01 | F39: 37528 | G39: 17 | H39: 43490 | I39: ACME Film / SONY
A40: =IF(B40<>"",ROWS($B$6:B40),"") -> 35 | B40: Pabėgimo kambarys | C40: Escape Room | D40: ZA, US | E40: 171047.81 | F40: 29354 | G40: 15 | H40: 43469 | I40: ACME Film / SONY
A41: =IF(B41<>"",ROWS($B$6:B41),"") -> 36 | B41: Le Manas'66. Plento karaliai | C41: Ford v. Ferrari | D41: US | E41: 163396.22 | F41: 26691 | G41: 16 | H41: 43794 | I41: Theatrical Film Distribution / 20th Century Fox
A42: =IF(B42<>"",ROWS($B$6:B42),"") -> 37 | B42: Vyrai juodais drabužiais: Pasaulinė grėsmė | C42: Men in Black International | D42: US | E42: 161939.43 | F42: 28188 | G42: 15 | H42: 43630 | I42: ACME Film / SONY
A43: =IF(B43<>"",ROWS($B$6:B43),"") -> 38 | B43: Purpurinis rūkas | C43: Purpurinis rūkas | D43: LT | E43: 159978 | F43: 33038 | G43: 20 | H43: 43504 | I43: Garsų pasaulio įrašai
A44: =IF(B44<>"",ROWS($B$6:B44),"") -> 39 | B44: Pokemon Detektyvas Pikachu | C44: Pokemon Detective Pikachu | D44: US, JP, CA | E44: 159782.95 | F44: 30869 | G44: 13 | H44: 43595 | I44: ACME Film / WB
A45: =IF(B45<>"",ROWS($B$6:B45),"") -> 40 | B45: Džonas Vikas 3 | C45: John Wick 3: Parabellum | D45: US | E45: 151688.56 | F45: 26568 | G45: 14 | H45: 43602 | I45: ACME Film
A46: =IF(B46<>"",ROWS($B$6:B46),"") -> 41 | B46: Šuns tikslas 2 | C46: Molly and Max (A Dog's Journey) | D46: US | E46: 150180.3 | F46: 30268 | G46: 17 | H46: 43721 | I46: ACME Film
A47: =IF(B47<>"",ROWS($B$6:B47),"") -> 42 | B47: Vestuvės | C47: Vestuvės | D47: LT | E47: 147514.5 | F47: 28122 | G47: 15 | H47: 43686 | I47: Film Jam
A48: =IF(B48<>"",ROWS($B$6:B48),"") -> 43 | B48: Išgyventi vasarą | C48: Išgyventi vasarą | D48: LT | E48: 139509.91 | F48: 26328 | G48: 22 | H48: 43574 | I48: Europos kinas
A49: =IF(B49<>"",ROWS($B$6:B49),"") -> 44 | B49: After | C49: After. Kai mes susitikom | D49: US | E49: 133127 | F49: 24944 | G49: 16 | H49: 43567 | I49: Garsų pasaulio įrašai
A50: =IF(B50<>"",ROWS($B$6:B50),"") -> 45 | B50: Karalienės Korgis | C50: Queens Corgi | D50: BE | E50: 132100.65 | F50: 29596 | G50: 16 | H50: 43546 | I50: ACME Film
A51: =IF(B51<>"",ROWS($B$6:B51),"") -> 46 | B51: Last Christmas | C51: Last Christmas | D51: UK, US | E51: 130457.35 | F51: 20724 | G51: 16 | H51: 43805 | I51: NCG Distribution / Universal Pictures International
A52: =IF(B52<>"",ROWS($B$6:B52),"") -> 47 | B52: Rocketman | C52: Rocketman | D52: UK, US | E52: 128706.21 | F52: 23460 | G52: 17 | H52: 43623 | I52: NCG Distribution / Paramount Pictures
A53: =IF(B53<>"",ROWS($B$6:B53),"") -> 48 | B53: Arktis. Įkalinti ledynuose | C53: Arctic | D53: IS | E53: 128541.17 | F53: 21972 | G53: 15 | H53: 43525 | I53: Best Film
A54: =IF(B54<>"",ROWS($B$6:B54),"") -> 49 | B54: Bjaurios lėlės | C54: Uglydolls | D54: US | E54: 125008.15 | F54: 29389 | G54: 11 | H54: 43651 | I54: ACME Film
A55: =IF(B55<>"",ROWS($B$6:B55),"") -> 50 | B55: Akvamenas | C55: Aquaman | D55: US, AU | E55: 123957.99 | F55: 20256 | G55: 11 | H55: 43455 | I55: ACME Film / WB
A56: =IF(B56<>"",ROWS($B$6:B56),"") -> 51 | B56: Ištraukti peiliai | C56: Knives Out | D56: US | E56: 121148.23 | F56: 20321 | G56: 12 | H56: 43798 | I56: ACME Film
A57: =IF(B57<>"",ROWS($B$6:B57),"") -> 52 | B57: Čia buvo Saša | C57: Čia buvo Saša | D57: LT | E57: 120454.36 | F57: 22413 | G57: 15 | H57: 43693 | I57: Dansu films
A58: =IF(B58<>"",ROWS($B$6:B58),"") -> 53 | B58: Midvėjaus mūšis | C58: Midway | D58: US, CN | E58: 118498.46 | F58: 18708 | G58: 15 | H58: 43777 | I58: ACME Film
A59: =IF(B59<>"",ROWS($B$6:B59),"") -> 54 | B59: Stiklas | C59: Glass | D59: US | E59: 116290.15 | F59: 20542 | G59: 16 | H59: 43483 | I59: Theatrical Film Distribution / WDSMPI
A60: =IF(B60<>"",ROWS($B$6:B60),"") -> 55 | B60: Terminatorius. Tamsus likimas | C60: Terminator: Dark Fate | D60: US | E60: 112842.56 | F60: 17534 | G60: 6 | H60: 43770 | I60: Theatrical Film Distribution / 20th Century Fox
A61: =IF(B61<>"",ROWS($B$6:B61),"") -> 56 | B61: Mes | C61: Us | D61: US | E61: 104837.54 | F61: 17933 | G61: 13 | H61: 43546 | I61: NCG Distribution / Universal Pictures International
A62: =IF(B62<>"",ROWS($B$6:B62),"") -> 57 | B62: Mumbajaus viešbutis | C62: Hotel Mumbai | D62: AU, US, IN | E62: 104745 | F62: 19348 | G62: 11 | H62: 43595 | I62: Travolta
A63: =IF(B63<>"",ROWS($B$6:B63),"") -> 58 | B63: Mirties APPS'AS | C63: Countdown | D63: US | E63: 103691.94 | F63: 17123 | G63: 9 | H63: 43763 | I63: ACME Film
A64: =IF(B64<>"",ROWS($B$6:B64),"") -> 59 | B64: Aviuko Šono filmas. Fermagedonas | C64: Shaun the Sheep 2 (Shaun the Sheep Movie: Farmageddon) | D64: US, UK, FR | E64: 95803.43 | F64: 19929 | G64: 17 | H64: 43784 | I64: ACME Film
A65: =IF(B65<>"",ROWS($B$6:B65),"") -> 60 | B65: Tarp pilkų debesų | C65: Ashes in the Snow | D65: LT,UK | E65: 94829.69 | F65: 21205 | G65: 6 | H65: 43385 | I65: ACME Film
A66: =IF(B66<>"",ROWS($B$6:B66),"") -> 61 | B66: Stebuklų parkas | C66: Wonder Park | D66: US | E66: 93293.35 | F66: 20860 | G66: 17 | H66: 43567 | I66: NCG Distribution / Paramount Pictures
A67: =IF(B67<>"",ROWS($B$6:B67),"") -> 62 | B67: Grinčas | C67: The Grinch | D67: US | E67: 93200.27 | F67: 21250 | G67: 12 | H67: 43434 | I67: NCG Distribution / Universal Pictures International
A68: =IF(B68<>"",ROWS($B$6:B68),"") -> 63 | B68: Shazam | C68: Shazam | D68: US | E68: 91510.04 | F68: 16620 | G68: 10 | H68: 43560 | I68: ACME Film / WB
A69: =IF(B69<>"",ROWS($B$6:B69),"") -> 64 | B69: Pašėlęs policininkas: Naujametinis nesusipratimas 2 | C69: Полицейский с Рублевки. Новогодний беспредел 2 | D69: RU | E69: 90139.23 | F69: 14599 | G69: 8 | H69: 43812 | I69: ACME Film
A70: =IF(B70<>"",ROWS($B$6:B70),"") -> 65 | B70: Godzila 2: Monstrų karalius | C70: Godzilla2: King of the Monsters | D70: US, JP | E70: 82963.78 | F70: 15126 | G70: 15 | H70: 43616 | I70: ACME Film / WB
A71: =IF(B71<>"",ROWS($B$6:B71),"") -> 66 | B71: Daktaras miegas | C71: Doctor Sleep | D71: US | E71: 81469.13 | F71: 13278 | G71: 14 | H71: 43777 | I71: ACME Film / WB
A72: =IF(B72<>"",ROWS($B$6:B72),"") -> 67 | B72: Kurskas | C72: Kursk | D72: BE, LX | E72: 81275.33 | F72: 15050 | G72: 15 | H72: 43539 | I72: ACME Film
A73: =IF(B73<>"",ROWS($B$6:B73),"") -> 68 | B73: Aladinas | C73: Aladdin | D73: US | E73: 81013.3 | F73: 16381 | G73: 13 | H73: 43609 | I73: Theatrical Film Distribution / WDSMPI
A74: =IF(B74<>"",ROWS($B$6:B74),"") -> 69 | B74: Pašėlęs policininkas: Naujametinis nesusipratimas | C74: Полицейский с Рублёвки. Новогодний беспредел | D74: RU | E74: 80823 | F74: 13178 | G74: 5 | H74: 43469 | I74: ACME Film
A75: =IF(B75<>"",ROWS($B$6:B75),"") -> 70 | B75: Silvio | C75: Loro | D75: IT, FR | E75: 80102.95 | F75: 14013 | G75: 11 | H75: 43469 | I75: A-one Films
A76: =IF(B76<>"",ROWS($B$6:B76),"") -> 71 | B76: Lietinga diena Niujorke | C76: A Rainy Day in New York | D76: US | E76: 77923.3 | F76: 13507 | G76: 15 | H76: 43679 | I76: ACME Film
A77: =IF(B77<>"",ROWS($B$6:B77),"") -> 72 | B77: Dvynys | C77: Gemini Man | D77: US, CN | E77: 77347.2 | F77: 12306 | G77: 16 | H77: 43749 | I77: NCG Distribution / Paramount Pictures
A78: =IF(B78<>"",ROWS($B$6:B78),"") -> 73 | B78: Slėpynės | C78: Ready Or Not | D78: US | E78: 76217.66 | F78: 14389 | G78: 14 | H78: 43700 | I78: Theatrical Film Distribution / 20th Century Fox
A79: =IF(B79<>"",ROWS($B$6:B79),"") -> 74 | B79: T-34 | C79: T-34 | D79: RU | E79: 73473 | F79: 12866 | G79: 10 | H79: 43111 | I79: Garsų pasaulio įrašai
A80: =IF(B80<>"",ROWS($B$6:B80),"") -> 75 | B80: Kurjeris | C80: Mule | D80: US | E80: 72592.36 | F80: 12773 | G80: 11 | H80: 43469 | I80: ACME Film / WB
A81: =IF(B81<>"",ROWS($B$6:B81),"") -> 76 | B81: Šuniškas pokštas | C81: Trouble | D81: US, CA | E81: 71791.86 | F81: 15868 | G81: 16 | H81: 43749 | I81: ACME Film
A82: =IF(B82<>"",ROWS($B$6:B82),"") -> 77 | B82: Verkiančios moters prakeiksmas | C82: Curse of La Llorona | D82: US | E82: 71104.39 | F82: 12198 | G82: 10 | H82: 43574 | I82: ACME Film / WB
A83: =IF(B83<>"",ROWS($B$6:B83),"") -> 78 | B83: Snieguotos lenktynės | C83: Racetime | D83: CA | E83: 68461 | F83: 16312 | G83: 18 | H83: 43518 | I83: Garsų pasaulio įrašai
A84: =IF(B84<>"",ROWS($B$6:B84),"") -> 79 | B84: Didžioji kelionė | C84: Big Trip | D84: RU, US | E84: 66707.53 | F84: 15399 | G84: 5 | H84: 43588 | I84: ACME Film
A85: =IF(B85<>"",ROWS($B$6:B85),"") -> 80 | B85: Šiurpios istorijos pasakojimui tamsoje | C85: Scary Stories to Tell in the Dark | D85: CA, US | E85: 66527.48 | F85: 11543 | G85: 14 | H85: 43686 | I85: ACME Film
A86: =IF(B86<>"",ROWS($B$6:B86),"") -> 81 | B86: Laisvo elgesio močiutė 2: Pagyvenę keršytojai | C86: Бабушка легкого поведения 2. Престарелые Мстители | D86: RU | E86: 65381.05 | F86: 10828 | G86: 5 | H86: 43490 | I86: ACME Film
A87: =IF(B87<>"",ROWS($B$6:B87),"") -> 82 | B87: Geri berniukai | C87: Good Boys | D87: US | E87: 65316 | F87: 12416 | G87: 14 | H87: 43700 | I87: NCG Distribution / Universal Pictures International
A88: =IF(B88<>"",ROWS($B$6:B88),"") -> 83 | B88: Pūkuota šnipė | C88: Marnie’s World | D88: DE, BE | E88: 62661 | F88: 15882 | G88: 17 | H88: 43637 | I88: Garsų pasaulio įrašai
A89: =IF(B89<>"",ROWS($B$6:B89),"") -> 84 | B89: Manu. Gimęs skraidyti | C89: Manou the Swift | D89: DE | E89: 61919.21 | F89: 13881 | G89: 17 | H89: 43791 | I89: Best Film
A90: =IF(B90<>"",ROWS($B$6:B90),"") -> 85 | B90: Favoritė | C90: The Favourite | D90: IE, UK, US | E90: 61746.18 | F90: 11625 | G90: 17 | H90: 43483 | I90: Theatrical Film Distribution / 20th Century Fox
A91: =IF(B91<>"",ROWS($B$6:B91),"") -> 86 | B91: Nematoma | C91: Nematoma | D91: LT, LV, UA | E91: 61468.77 | F91: 11839 | G91: 22 | H91: 43728 | I91: VLG Film
A92: =IF(B92<>"",ROWS($B$6:B92),"") -> 87 | B92: Anna | C92: Anna | D92: US, FR | E92: 60638.76 | F92: 10445 | G92: 13 | H92: 43644 | I92: ACME Film
A93: =IF(B93<>"",ROWS($B$6:B93),"") -> 88 | B93: Iksmenai. Tamsusis Feniksas | C93: X-Men: Dark Phoenix | D93: US | E93: 60523.36 | F93: 10834 | G93: 14 | H93: 43623 | I93: Theatrical Film Distribution / 20th Century Fox
A94: =IF(B94<>"",ROWS($B$6:B94),"") -> 89 | B94: Be šansų | C94: Flarsky (Long Shot) | D94: US | E94: 60157.06 | F94: 10983 | G94: 15 | H94: 43588 | I94: ACME Film
A95: =IF(B95<>"",ROWS($B$6:B95),"") -> 90 | B95: Raudonbatė ir 7 Nykštukai | C95: Red Shoes and the Seven Dwarfs | D95: KR | E95: 59441.11 | F95: 12770 | G95: 16 | H95: 43735 | I95: ACME Film
A96: =IF(B96<>"",ROWS($B$6:B96),"") -> 91 | B96: Gyvulėlių kapinės | C96: Pet Sematary | D96: US | E96: 59080.62 | F96: 10360 | G96: 13 | H96: 43560 | I96: NCG Distribution / Paramount Pictures
A97: =IF(B97<>"",ROWS($B$6:B97),"") -> 92 | B97: Monstrų atostogos | C97: Legend of Hallowaiian | D97: US | E97: 58337 | F97: 13422 | G97: 18 | H97: 43770 | I97: Garsų pasaulio įrašai
A98: =IF(B98<>"",ROWS($B$6:B98),"") -> 93 | B98: Trys žingsniai iki tavęs | C98: Five Feet Apart | D98: US | E98: 57374.22 | F98: 10387 | G98: 15 | H98: 43588 | I98: NCG Distribution / Universal Pictures International
A99: =IF(B99<>"",ROWS($B$6:B99),"") -> 94 | B99: Mija ir baltasis liūtas | C99: Mia and the White Lions | D99: FR, DE, ZA | E99: 56089.76 | F99: 13590 | G99: 15 | H99: 43560 | I99: ACME Film
A100: =IF(B100<>"",ROWS($B$6:B100),"") -> 95 | B100: Sukeisti Kalėdų seneliai 2. Pamirštos kalėdos | C100: Santa Swap 2. Forgotten Christmas | D100: NO | E100: 55287.61 | F100: 13062 | G100: 16 | H100: 43819 | I100: Travolta
A101: =IF(B101<>"",ROWS($B$6:B101),"") -> 96 | B101: Nes ji yra moteris | C101: On the Basis of Sex | D101: US | E101: 54291.31 | F101: 9515 | G101: 13 | H101: 43532 | I101: ACME Film
A102: =IF(B102<>"",ROWS($B$6:B102),"") -> 97 | B102: Tarnas | C102: Холоп | D102: RU | E102: 51973 | F102: 8268 | G102: 7 | H102: 43826 | I102: Garsų pasaulio įrašai
...

Sheet Sausis
A1: ='2019'!A1 -> 2019
A2: ='2019'!A2 -> Lietuvos kino teatruose rodytų filmų TOP
A3: Sausis
A5: Eil. Nr. | B5: Filmo pavadinimas | C5: Filmo pavadinimas originalo kalba | D5: Kilmės šalis | E5: Pajamos | F5: Žiūrovų skaičius | G5: Kopijų skaičius | H5: Premjeros data | I5: Platintojas
A6: =IF(B6<>"",ROWS($B$6:B6),"") -> 1 | B6: Tarp mūsų, mergaičių | C6: Tarp mūsų, mergaičių | D6: LT | E6: 308057 | F6: 54705 | G6: 14 | H6: 43462 | I6: Vabalo filmai
A7: =IF(B7<>"",ROWS($B$6:B7),"") -> 2 | B7: Ralfas griovėjas 2 | C7: Ralph Breaks the Internet: Wreck-It Ralph 2 | D7: US | E7: 216689.52 | F7: 43621 | G7: 33 | H7: 43476 | I7: Theatrical Film Distribution / WDSMPI
A8: =IF(B8<>"",ROWS($B$6:B8),"") -> 3 | B8: Bohemijos rapsodija | C8: Bohemian Rhapsody | D8: UK, US | E8: 202225.49 | F8: 34871 | G8: 15 | H8: 43406 | I8: Theatrical Film Distribution / 20th Century Fox
A9: =IF(B9<>"",ROWS($B$6:B9),"") -> 4 | B9: Pabėgimo kambarys | C9: Escape Room | D9: ZA, US | E9: 158691.16 | F9: 27258 | G9: 15 | H9: 43469 | I9: ACME Film / SONY
A10: =IF(B10<>"",ROWS($B$6:B10),"") -> 5 | B10: Ir visi jų vyrai | C10: Ir visi jų vyrai | D10: LT | E10: 150315.45 | F10: 26695 | G10: 18 | H10: 43490 | I10: ACME Film
A11: =IF(B11<>"",ROWS($B$6:B11),"") -> 6 | B11: Žalioji knyga | C11: Green Book | D11: US | E11: 130966 | F11: 23888 | G11: 13 | H11: 43476 | I11: ACME Film
A12: =IF(B12<>"",ROWS($B$6:B12),"") -> 7 | B12: Akvamenas | C12: Aquaman | D12: US, AU | E12: 112325.6 | F12: 18384 | G12: 11 | H12: 43455 | I12: ACME Film / WB
A13: =IF(B13<>"",ROWS($B$6:B13),"") -> 8 | B13: Grinčas | C13: The Grinch | D13: US | E13: 86860.47 | F13: 18083 | G13: 12 | H13: 43434 | I13: NCG Distribution / Universal Pictures International
A14: =IF(B14<>"",ROWS($B$6:B14),"") -> 9 | B14: Stiklas | C14: Glass | D14: US | E14: 85855.31 | F14: 15347 | G14: 16 | H14: 43483 | I14: Theatrical Film Distribution / WDSMPI
A15: =IF(B15<>"",ROWS($B$6:B15),"") -> 10 | B15: Pašėlęs policininkas: Naujametinis nesusipratimas | C15: Полицейский с Рублёвки. Новогодний беспредел | D15: RU | E15: 80823 | F15: 13178 | G15: 5 | H15: 43469 | I15: ACME Film
A16: =IF(B16<>"",ROWS($B$6:B16),"") -> 11 | B16: Kurjeris | C16: Mule | D16: US | E16: 72339.36 | F16: 12711 | G16: 11 | H16: 43469 | I16: ACME Film / WB
A17: =IF(B17<>"",ROWS($B$6:B17),"") -> 12 | B17: Silvio | C17: Loro | D17: IT, FR | E17: 71671 | F17: 12637 | G17: 11 | H17: 43469 | I17: A-one Films
... A36: =IF(B36<>"",ROWS($B$6:B36),"") -> 31 | B36: Šaltasis karas | C36: Zimna wojna | D36: PL | E36: 7264 | F36: 1450 | G36: 3 | H36: 43434 | I36: Garsų pasaulio įrašai
A37: =IF(B37<>"",ROWS($B$6:B37),"") -> 32 | B37: Sukeisti Kalėdų seneliai | C37: Santa Swap | E37: 7008.4 | F37: 1562 | G37: 4 | H37: 43455 | I37: Travolta
A38: =IF(B38<>"",ROWS($B$6:B38),"") -> 33 | B38: Tranzitas | C38: Transit | D38: DE, FR | E38: 6986.1 | F38: 1885 | G38: 8 | H38: 43483 | I38: A-one Films
A39: =IF(B39<>"",ROWS($B$6:B39),"") -> 34 | B39: Antrasis šansas | C39: Second Act | D39: US | E39: 5882.73 | F39: 1053 | G39: 2 | H39: 43448 | I39: ACME Film
A40: =IF(B40<>"",ROWS($B$6:B40),"") -> 35 | B40: C‘est La Vie | C40: C‘est La Vie | D40: FR | E40: 4579 | F40: 665 | G40: 2 | H40: 43021 | I40: Garsų pasaulio įrašai
A41: =IF(B41<>"",ROWS($B$6:B41),"") -> 36 | B41: Tabaluga | C41: Tabaluga | D41: DE | E41: 3765 | F41: 1092 | G41: 1 | H41: 43441 | I41: Garsų pasaulio įrašai
A42: =IF(B42<>"",ROWS($B$6:B42),"") -> 37 | B42: Melagiai | C42: Melagiai | D42: LT | E42: 3729 | F42: 311 | G42: 4 | H42: 43413 | I42: Film Jam
A43: =IF(B43<>"",ROWS($B$6:B43),"") -> 38 | B43: Per tave vienos bėdos | C43: En liberte! | D43: FR | E43: 3562 | F43: 760 | G43: 3 | H43: 43448 | I43: Garsų pasaulio įrašai
A44: =IF(B44<>"",ROWS($B$6:B44),"") -> 39 | B44: Hanos Greis Egzorcizmas | C44: Possession of Hannah Grace | D44: US | E44: 3003.65 | F44: 488 | G44: 2 | H44: 43441 | I44: ACME Film / SONY
A45: =IF(B45<>"",ROWS($B$6:B45),"") -> 40 | B45: Astridos Lindgren jaunystė | C45: Unga Astrid | D45: SE, DK | E45: 2890.75 | F45: 972 | G45: 9 | H45: 43448 | I45: Estinfilm
A46: =IF(B46<>"",ROWS($B$6:B46),"") -> 41 | B46: Fantastiniai gyvūnai: Grindelvaldo piktadarystės | C46: Fantastic Beasts: Crimes of Grindelwald | D46: UK, US | E46: 2746.44 | F46: 461 | G46: 2 | H46: 43420 | I46: ACME Film / WB
A47: =IF(B47<>"",ROWS($B$6:B47),"") -> 42 | B47: Namas, kurį pastatė Džekas | C47: The House that Jack built | D47: DK, FR, DE | E47: 1641.3 | F47: 395 | G47: 6 | H47: 43434 | I47: Estinfilm
A48: =IF(B48<>"",ROWS($B$6:B48),"") -> 43 | B48: Apgaulinga ramybė | C48: Serenity | D48: US | E48: 1554.2 | F48: 286 | G48: 1 | H48: 43497 | I48: ACME Film
A49: =IF(B49<>"",ROWS($B$6:B49),"") -> 44 | B49: Drąsusis elniukas Eliotas | C49: Elliot The Littlest Reindeer | D49: CA | E49: 1370.58 | F49: 373 | G49: 4 | H49: 43427 | I49: Theatrical Film Distribution
... A70: =IF(B70<>"",ROWS($B$6:B70),"") -> 65 | B70: Floridos projektas | C70: The Florida Project | D70: US | E70: 345 | F70: 123 | G70: 1 | H70: 43196 | I70: A-one films
A71: =IF(B71<>"",ROWS($B$6:B88),"") -> 83 | B71: Izabelė ir jos vyrai | C71: Un beau soleil intérieur | D71: FR, BE | E71: 329 | F71: 71 | G71: 1 | H71: 43392 | I71: Best Film
A72: =IF(B72<>"",ROWS($B$6:B72),"") -> 67 | B72: Ekskursantė | C72: Ekskursantė | D72: LT | E72: 320 | F72: 160 | G72: 1 | H72: 41544 | I72: Cinemark
A73: =IF(B73<>"",ROWS($B$6:B73),"") -> 68 | B73: Noriu būti savimi (dokumentinių filmų programa) | C73: Noriu būti savimi (dokumentinių filmų programa) | D73: TBA | E73: 251 | F73: 62 | G73: 1 | H73: 42693 | I73: Skalvijos kino centras
A74: =IF(B74<>"",ROWS($B$6:B74),"") -> 69 | B74: Jaunikis ant balto žirgo | C74: Le Retour du Héros | D74: FR, BE | E74: 206 | F74: 38 | G74: 1 | H74: 43322 | I74: Best Film
A75: =IF(B75<>"",ROWS($B$6:B75),"") -> 70 | B75: Tamsta Varlius | C75: Meester Kikker | D75: NL | E75: 202 | F75: 101 | G75: 1 | H75: 42654 | I75: Skalvijos kino centras
A76: =IF(B76<>"",ROWS($B$6:B76),"") -> 71 | B76: Apsireiškimas | C76: L‘apparition | D76: FR, BE | E76: 200 | F76: 50 | G76: 1 | H76: 43350 | I76: Best Film
A77: =IF(B77<>"",ROWS($B$6:B77),"") -> 72 | B77: Kaimynė šnipė | C77: Next Door Spy | D77: DK | E77: 180 | F77: 90 | G77: 1 | H77: 43015 | I77: Skalvijos kino centras
A78: =IF(B78<>"",ROWS($B$6:B78),"") -> 73 | B78: Aukso žirgas | C78: Golden Horse | D78: LT, LV, LU, DK | E78: 140 | F78: 70 | G78: 1 | H78: 41985 | I78: ACME Film
A79: =IF(B79<>"",ROWS($B$6:B79),"") -> 74 | B79: Didžioji skruzdėlyčių karalystė | C79: Minuscule, Valley of the Lost Ants | D79: FR | E79: 134 | F79: 67 | G79: 1 | H79: 41691 | I79: ACME Film
A80: =IF(B80<>"",ROWS($B$6:B80),"") -> 75 | B80: Gerumo stebuklas | C80: Wonder | D80: US | E80: 132 | F80: 66 | G80: 1 | H80: 43056 | I80: ACME Film
A81: =IF(B81<>"",ROWS($B$6:B81),"") -> 76 | B81: Mulai | C81: Mulai | D81: LT | E81: 128 | F81: 22 | G81: 1 | H81: 43434 | I81: TV Manija
A82: =IF(B82<>"",ROWS($B$6:B82),"") -> 77 | B82: Baltoji iltis | C82: White Fang | D82: FR, US | E82: 125 | F82: 50 | G82: 1 | H82: 43413 | I82: Garsų pasaulio įrašai
A83: =IF(B83<>"",ROWS($B$6:B83),"") -> 78 | B83: Beatričės bučinys | C83: Sage femme | D83: FR | E83: 121 | F83: 53 | G83: 1 | H83: 42930 | I83: A-one films
... A88: =IF(B88<>"",ROWS($B$6:B88),"") -> 83 | B88: Visi nori Nikolės | C88: London Fields | D88: US, UK | E88: 24 | F88: 8 | G88: 1 | H88: 43364 | I88: Theatrical Film Distribution
E89: =SUBTOTAL(109,Table3[Pajamos]) -> 2294274.2 | F89: =SUBTOTAL(109,Table3[Žiūrovų skaičius]) -> 425554

Sheet Vasaris
A1: ='2019'!A1 -> 2019
A2: ='2019'!A2 -> Lietuvos kino teatruose rodytų filmų TOP
A3: Vasaris
A5: Eil. Nr. | B5: Filmo pavadinimas | C5: Filmo pavadinimas originalo kalba | D5: Kilmės šalis | E5: Pajamos | F5: Žiūrovų skaičius | G5: Kopijų skaičius | H5: Premjeros data | I5: Platintojas
A6: =IF(B6<>"",ROWS($B$6:B6),"") -> 1 | B6: Ir visi jų vyrai | C6: Ir visi jų vyrai | D6: LT | E6: 390351.57 | F6: 67474 | G6: 17 | H6: 43490 | I6: ACME Film
A7: =IF(B7<>"",ROWS($B$6:B7),"") -> 2 | B7: Pasmerkti. Kauno romanas | C7: Pasmerkti. Kauno romanas | D7: LT | E7: 197800 | F7: 35718 | G7: 18 | H7: 43518 | I7: Singing fish
A8: =IF(B8<>"",ROWS($B$6:B8),"") -> 3 | B8: Lego filmas 2 | C8: Lego Movie 2 | D8: DK, NO, AU, US | E8: 155950.08 | F8: 34070 | G8: 17 | H8: 43504 | I8: ACME Film / WB
A9: =IF(B9<>"",ROWS($B$6:B9),"") -> 4 | B9: Purpurinis rūkas | C9: Purpurinis rūkas | D9: LT | E9: 144734 | F9: 29346 | G9: 20 | H9: 43504 | I9: Garsų pasaulio įrašai
A10: =IF(B10<>"",ROWS($B$6:B10),"") -> 5 | B10: Alita. Kovos angelas | C10: Alita: Battle Angel | D10: US | E10: 144161.13 | F10: 23669 | G10: 27 | H10: 43511 | I10: Theatrical Film Distribution / 20th Century Fox
A11: =IF(B11<>"",ROWS($B$6:B11),"") -> 6 | B11: Žalioji knyga | C11: Green Book | D11: US | E11: 115280.57 | F11: 20196 | G11: 10 | H11: 43476 | I11: ACME Film
A12: =IF(B12<>"",ROWS($B$6:B12),"") -> 7 | B12: Belos kelionė namo | C12: Dog's Way Home | D12: US | E12: 104426.77 | F12: 23142 | G12: 12 | H12: 43490 | I12: ACME Film / SONY
A13: =IF(B13<>"",ROWS($B$6:B13),"") -> 8 | B13: Bohemijos rapsodija | C13: Bohemian Rhapsody | D13: UK, US | E13: 72329.87 | F13: 12229 | G13: 11 | H13: 43406 | I13: Theatrical Film Distribution / 20th Century Fox
A14: =IF(B14<>"",ROWS($B$6:B14),"") -> 9 | B14: Ralfas griovėjas 2 | C14: Ralph Breaks the Internet: Wreck-It Ralph 2 | D14: US | E14: 66068.75 | F14: 13829 | G14: 19 | H14: 43476 | I14: Theatrical Film Distribution / WDSMPI
A15: =IF(B15<>"",ROWS($B$6:B15),"") -> 10 | B15: Apgaulinga ramybė | C15: Serenity | D15: US | E15: 47142.89 | F15: 8240 | G15: 14 | H15: 43497 | I15: ACME Film
A16: =IF(B16<>"",ROWS($B$6:B16),"") -> 11 | B16: Septynios vakarienės | C16: Семь ужинов | D16: RU | E16: 41984.99 | F16: 7316 | G16: 7 | H16: 43511 | I16: ACME Film
A17: =IF(B17<>"",ROWS($B$6:B17),"") -> 12 | B17: Mirties diena 2 | C17: Happy Death Day 2U | D17: US | E17: 40994 | F17: 7388 | G17: 13 | H17: 43511 | I17: NCG Distribution / Universal Pictures International
... A72: =IF(B72<>"",ROWS($B$6:B72),"") -> 67 | B72: Asteriksas: Stebuklingojo gėrimo paslaptis | C72: Asterix - The Secret of the Magic Potion | D72: FR | E72: 30 | F72: 12 | G72: 1 | H72: 43469 | I72: ACME Film
E73: =SUBTOTAL(109,Table3_Vasaris[Pajamos]) -> 1999552.9 | F73: =SUBTOTAL(109,Table3_Vasaris[Žiūrovų skaičius]) -> 378526

Sheet Kovas
A1: ='2019'!A1 -> 2019
A2: ='2019'!A2 -> Lietuvos kino teatruose rodytų filmų TOP
A3: Kovas
A5: Eil. Nr. | B5: Filmo pavadinimas | C5: Filmo pavadinimas originalo kalba | D5: Kilmės šalis | E5: Pajamos | F5: Žiūrovų skaičius | G5: Kopijų skaičius | H5: Premjeros data | I5: Platintojas
A6: =IF(B6<>"",ROWS($B$6:B6),"") -> 1 | B6: Kaip prisijaukinti slibiną 3 | C6: How to Train Your Dragon: The Hidden World | D6: US | E6: 555906.54 | F6: 108230 | G6: 19 | H6: 43532 | I6: NCG Distribution / Universal Pictures International
A7: =IF(B7<>"",ROWS($B$6:B7),"") -> 2 | B7: Pasmerkti. Kauno romanas | C7: Pasmerkti. Kauno romanas | D7: LT | E7: 296706 | F7: 50075 | G7: 18 | H7: 43518 | I7: Singing fish
A8: =IF(B8<>"",ROWS($B$6:B8),"") -> 3 | B8: Kapitonė Marvel | C8: Captain Marvel | D8: US, AU | E8: 187028.43 | F8: 29873 | G8: 26 | H8: 43532 | I8: Theatrical Film Distribution , WDSMPI
A9: =IF(B9<>"",ROWS($B$6:B9),"") -> 4 | B9: Ir visi jų vyrai | C9: Ir visi jų vyrai | D9: LT | E9: 144522.7 | F9: 25823 | G9: 10 | H9: 43490 | I9: ACME Film
A10: =IF(B10<>"",ROWS($B$6:B10),"") -> 5 | B10: Arktis. Įkalinti ledynuose | C10: Arctic | D10: IS | E10: 127442.98 | F10: 21765 | G10: 15 | H10: 43525 | I10: Best Film
A11: =IF(B11<>"",ROWS($B$6:B11),"") -> 6 | B11: Mes | C11: Us | D11: US | E11: 78811.83 | F11: 13158 | G11: 13 | H11: 43546 | I11: NCG Distribution / Universal Pictures International
A12: =IF(B12<>"",ROWS($B$6:B12),"") -> 7 | B12: Kurskas | C12: Kursk | D12: BE, LX | E12: 68503.53 | F12: 12319 | G12: 15 | H12: 43539 | I12: ACME Film
A13: =IF(B13<>"",ROWS($B$6:B13),"") -> 8 | B13: Karalienės Korgis | C13: Queens Corgi | D13: BE | E13: 61005.35 | F13: 13445 | G13: 16 | H13: 43546 | I13: ACME Film
A14: =IF(B14<>"",ROWS($B$6:B14),"") -> 9 | B14: Žalioji knyga | C14: Green Book | D14: US | E14: 54905.9 | F14: 9392 | G14: 8 | H14: 43476 | I14: ACME Film
A15: =IF(B15<>"",ROWS($B$6:B15),"") -> 10 | B15: Nes ji yra moteris | C15: On the Basis of Sex | D15: US | E15: 54202.33 | F15: 9492 | G15: 13 | H15: 43532 | I15: ACME Film
A16: =IF(B16<>"",ROWS($B$6:B16),"") -> 11 | B16: Lego filmas 2 | C16: Lego Movie 2 | D16: DK, NO, AU, US | E16: 39679.72 | F16: 8320 | G16: 11 | H16: 43504 | I16: ACME Film , WB
A17: =IF(B17<>"",ROWS($B$6:B17),"") -> 12 | B17: Alita. Kovos angelas | C17: Alita: Battle Angel | D17: US | E17: 37589.52 | F17: 6011 | G17: 13 | H17: 43511 | I17: Theatrical Film Distribution / 20th Century Fox
... A76: =IF(B76<>"",ROWS($B$6:B76),"") -> 71 | B76: Ką pašnibždėjo pelėda (Trumpukų programa) | C76: Ką pašnibždėjo pelėda (Trumpukų programa) | D76: TBA | E76: 62 | F76: 33 | G76: 1 | H76: 42749 | I76: Skalvijos kino centras
E77: =SUBTOTAL(109,Table3_Vasaris5[Pajamos]) -> 2094249.6 | F77: =SUBTOTAL(109,Table3_Vasaris5[Žiūrovų skaičius]) -> 388878 | I77: =SUBTOTAL(103,Table3_Vasaris5[Platintojas]) -> 71

Sheet Balandis
A1: ='2019'!A1 -> 2019
A2: ='2019'!A2 -> Lietuvos kino teatruose rodytų filmų TOP
A3: Balandis
A5: Eil. Nr. | B5: Filmo pavadinimas | C5: Filmo pavadinimas originalo kalba | D5: Kilmės šalis | E5: Pajamos | F5: Žiūrovų skaičius | G5: Kopijų skaičius | H5: Premjeros data | I5: Platintojas
A6: =IF(B6<>"",ROWS($B$6:B6),"") -> 1 | B6: Keršytojai. Pabaiga | C6: Avengers: Endgame | D6: US | E6: 304725.34 | F6: 49525 | G6: 25 | H6: 43581 | I6: Theatrical Film Distribution / WDSMPI
A7: =IF(B7<>"",ROWS($B$6:B7),"") -> 2 | B7: Valstybės Paslaptis | C7: Valstybės Paslaptis | D7: LT | E7: 161087.3 | F7: 29604 | G7: 17 | H7: 43567 | I7: ACME Film
A8: =IF(B8<>"",ROWS($B$6:B8),"") -> 3 | B8: After | C8: After. Kai mes susitikom | D8: US | E8: 127530 | F8: 23997 | G8: 16 | H8: 43567 | I8: Garsų pasaulio įrašai
A9: =IF(B9<>"",ROWS($B$6:B9),"") -> 4 | B9: Kaip prisijaukinti slibiną 3 | C9: How to Train Your Dragon: The Hidden World | D9: US | E9: 92873.99 | F9: 20530 | G9: 10 | H9: 43532 | I9: NCG Distribution / Universal Pictures International
A10: =IF(B10<>"",ROWS($B$6:B10),"") -> 5 | B10: Shazam | C10: Shazam | D10: US | E10: 90465.41 | F10: 16425 | G10: 10 | H10: 43560 | I10: ACME Film / WB
A11: =IF(B11<>"",ROWS($B$6:B11),"") -> 6 | B11: Išgyventi vasarą | C11: Išgyventi vasarą | D11: LT | E11: 72490 | F11: 13786 | G11: 22 | H11: 43574 | I11: Europos kinas
A12: =IF(B12<>"",ROWS($B$6:B12),"") -> 7 | B12: Stebuklų parkas | C12: Wonder Park | D12: US | E12: 70669.53 | F12: 15690 | G12: 17 | H12: 43567 | I12: NCG Distribution / Paramount Pictures
A13: =IF(B13<>"",ROWS($B$6:B13),"") -> 8 | B13: Gyvulėlių kapinės | C13: Pet Sematary | D13: US | E13: 57924.64 | F13: 10139 | G13: 13 | H13: 43560 | I13: NCG Distribution / Paramount Pictures
A14: =IF(B14<>"",ROWS($B$6:B14),"") -> 9 | B14: Karalienės Korgis | C14: Queens Corgi | D14: BE | E14: 56697.6 | F14: 13097 | G14: 12 | H14: 43546 | I14: ACME Film
A15: =IF(B15<>"",ROWS($B$6:B15),"") -> 10 | B15: Verkiančios moters prakeiksmas | C15: Curse of La Llorona | D15: US | E15: 51431.56 | F15: 8742 | G15: 10 | H15: 43574 | I15: ACME Film / WB
A16: =IF(B16<>"",ROWS($B$6:B16),"") -> 11 | B16: Mija ir baltasis liūtas | C16: Mia and the White Lions | D16: FR, DE, ZA | E16: 49388.94 | F16: 12101 | G16: 15 | H16: 43560 | I16: ACME Film
A17: =IF(B17<>"",ROWS($B$6:B17),"") -> 12 | B17: Mes | C17: Us | D17: US | E17: 25964.71 | F17: 4767 | G17: 8 | H17: 43546 | I17: NCG Distribution / Universal Pictures International
... A90: =IF(B90<>"",ROWS($B$6:B90),"") -> 85 | B90: Greta | C90: Widow (Greta) | D90: EI, US | E90: 12 | F90: 3 | G90: 1 | H90: 43525 | I90: ACME Film
E91: =SUBTOTAL(109,Table3_Balandis[Pajamos]) -> 1461722.9 | F91: =SUBTOTAL(109,Table3_Balandis[Žiūrovų skaičius]) -> 281990

Sheet Gegužė
A1: ='2019'!A1 -> 2019
A2: ='2019'!A2 -> Lietuvos kino teatruose rodytų filmų TOP
A3: Gegužė
A5: Eil. Nr. | B5: Filmo pavadinimas | C5: Filmo pavadinimas originalo kalba | D5: Kilmės šalis | E5: Pajamos | F5: Žiūrovų skaičius | G5: Kopijų skaičius | H5: Premjeros data | I5: Platintojas
A6: =IF(B6<>"",ROWS($B$6:B6),"") -> 1 | B6: Keršytojai. Pabaiga | C6: Avengers: Endgame | D6: US | E6: 236918.46 | F6: 38759 | G6: 23 | H6: 43581 | I6: Theatrical Film Distribution / WDSMPI
A7: =IF(B7<>"",ROWS($B$6:B7),"") -> 2 | B7: Pokemon Detektyvas Pikachu | C7: Pokemon Detective Pikachu | D7: US, JP, CA | E7: 143127.59 | F7: 27627 | G7: 13 | H7: 43595 | I7: ACME Film / WB
A8: =IF(B8<>"",ROWS($B$6:B8),"") -> 3 | B8: Džonas Vikas 3 | C8: John Wick 3: Parabellum | D8: US | E8: 112088.75 | F8: 19737 | G8: 14 | H8: 43602 | I8: ACME Film
A9: =IF(B9<>"",ROWS($B$6:B9),"") -> 4 | B9: Mumbajaus viešbutis | C9: Hotel Mumbai | D9: AU, US, IN | E9: 76455.41 | F9: 14341 | G9: 11 | H9: 43595 | I9: Travolta
A10: =IF(B10<>"",ROWS($B$6:B10),"") -> 5 | B10: Didžioji kelionė | C10: Big Trip | D10: RU, US | E10: 63724.6 | F10: 14699 | G10: 16 | H10: 43588 | I10: ACME Film
A11: =IF(B11<>"",ROWS($B$6:B11),"") -> 6 | B11: Išgyventi vasarą | C11: Išgyventi vasarą | D11: LT | E11: 61798.59 | F11: 11285 | G11: 15 | H11: 43574 | I11: Europos kinas
A12: =IF(B12<>"",ROWS($B$6:B12),"") -> 7 | B12: Be šansų | C12: Flarsky (Long Shot) | D12: US | E12: 59511.76 | F12: 10823 | G12: 15 | H12: 43588 | I12: ACME Film
A13: =IF(B13<>"",ROWS($B$6:B13),"") -> 8 | B13: Trys žingsniai iki tavęs | C13: Five Feet Apart | D13: US | E13: 56499.97 | F13: 10235 | G13: 15 | H13: 43588 | I13: NCG Distribution
A14: =IF(B14<>"",ROWS($B$6:B14),"") -> 9 | B14: Valstybės Paslaptis | C14: Valstybės Paslaptis | D14: LT | E14: 49976.37 | F14: 9334 | G14: 9 | H14: 43567 | I14: ACME Film
A15: =IF(B15<>"",ROWS($B$6:B15),"") -> 10 | B15: Aladinas | C15: Aladdin | D15: US | E15: 44436.02 | F15: 9297 | G15: 13 | H15: 43609 | I15: Theatrical Film Distribution / WDSMPI
A16: =IF(B16<>"",ROWS($B$6:B16),"") -> 11 | B16: Apsėstasis | C16: The Prodigy | D16: US | E16: 30383.27 | F16: 5487 | G16: 13 | H16: 43595 | I16: VLG Film
A17: =IF(B17<>"",ROWS($B$6:B17),"") -> 12 | B17: Slaptas augintinių gyvenimas 2 | C17: Secret Life of Pets 2 | D17: US | E17: 30159.82 | F17: 6373 | G17: 19 | H17: 43616 | I17: NCG Distribution / Universal Pictures International
A18: =IF(B18<>"",ROWS($B$6:B18),"") -> 13 | B18: Ričardas atsisveikina | C18: Richard Says Goodbye | D18: US | E18: 25968 | F18: 5277 | G18: 15 | H18: 43602 | I18: Garsų pasaulio įrašai
A19: =IF(B19<>"",ROWS($B$6:B19),"") -> 14 | B19: Kaip prisijaukinti slibiną 3 | C19: How to Train Your Dragon: The Hidden World | D19: US | E19: 24034.89 | F19: 5071 | G19: 8 | H19: 43532 | I19: NCG Distribution / Universal Pictures International
A20: =IF(B20<>"",ROWS($B$6:B20),"") -> 15 | B20: Stebuklų parkas | C20: Wonder Park | D20: US | E20: 22427.02 | F20: 5119 | G20: 10 | H20: 43567 | I20: NCG Distribution / Paramount Pictures
... A102: =IF(B102<>"",ROWS($B$6:B102),"") -> 97 | B102: Ralfas griovėjas 2 | C102: Ralph Breaks the Internet: Wreck-It Ralph 2 | D102: US | E102: 4 | F102: 2 | G102: 1 | H102: 43476 | I102: Theatrical Film Distribution / WDSMPI
E103: =SUBTOTAL(109,Table3_Gegužė[Pajamos]) -> 1267325.2 | F103: =SUBTOTAL(109,Table3_Gegužė[Žiūrovų skaičius]) -> 242813

Sheet Birželis
A1: ='2019'!A1 -> 2019
A2: ='2019'!A2 -> Lietuvos kino teatruose rodytų filmų TOP
A3: Birželis
A5: Eil. Nr. | B5: Filmo pavadinimas | C5: Filmo pavadinimas originalo kalba | D5: Kilmės šalis | E5: Pajamos | F5: Žiūrovų skaičius | G5: Kopijų skaičius | H5: Premjeros data | I5: Platintojas
A6: =IF(B6<>"",ROWS($B$6:B6),"") -> 1 | B6: Slaptas augintinių gyvenimas 2 | C6: Secret Life of Pets 2 | D6: US | E6: 305122.08 | F6: 64886 | G6: 19 | H6: 43616 | I6: NCG Distribution / Universal Pictures International
A7: =IF(B7<>"",ROWS($B$6:B7),"") -> 2 | B7: Vyrai juodais drabužiais: Pasaulinė grėsmė | C7: Men in Black International | D7: US | E7: 113555.57 | F7: 19941 | G7: 15 | H7: 43630 | I7: ACME Film / SONY
A8: =IF(B8<>"",ROWS($B$6:B8),"") -> 3 | B8: Afera | C8: The Hustle | D8: US | E8: 100350 | F8: 18386 | G8: 14 | H8: 43630 | I8: NCG Distribution / Universal Pictures International
A9: =IF(B9<>"",ROWS($B$6:B9),"") -> 4 | B9: Rocketman | C9: Rocketman | D9: UK, US | E9: 88966.21 | F9: 16536 | G9: 17 | H9: 43623 | I9: NCG Distribution / Paramount Pictures
A10: =IF(B10<>"",ROWS($B$6:B10),"") -> 5 | B10: Godzila 2: Monstrų karalius | C10: Godzilla2: King of the Monsters | D10: US, JP | E10: 69661.83 | F10: 12674 | G10: 15 | H10: 43616 | I10: ACME Film / WB
A11: =IF(B11<>"",ROWS($B$6:B11),"") -> 6 | B11: Iksmenai. Tamsusis Feniksas | C11: X-Men: Dark Phoenix | D11: US | E11: 58816.36 | F11: 10524 | G11: 14 | H11: 43623 | I11: Theatrical Film Distribution / 20th Century Fox
A12: =IF(B12<>"",ROWS($B$6:B12),"") -> 7 | B12: Džonas Vikas 3 | C12: John Wick 3: Parabellum | D12: US | E12: 34525.39 | F12: 6001 | G12: 9 | H12: 43602 | I12: ACME Film
A13: =IF(B13<>"",ROWS($B$6:B13),"") -> 8 | B13: Aladinas | C13: Aladdin | D13: US | E13: 33264.7 | F13: 6392 | G13: 9 | H13: 43609 | I13: Theatrical Film Distribution / WDSMPI
A14: =IF(B14<>"",ROWS($B$6:B14),"") -> 9 | B14: Vaikų žaidimai | C14: Childs Play | D14: US | E14: 29578.25 | F14: 5711 | G14: 14 | H14: 43637 | I14: ACME Film
A15: =IF(B15<>"",ROWS($B$6:B15),"") -> 10 | B15: Pūkuota šnipė | C15: Marnie’s World | D15: DE, BE | E15: 29123 | F15: 7273 | G15: 17 | H15: 43637 | I15: Garsų pasaulio įrašai
A16: =IF(B16<>"",ROWS($B$6:B16),"") -> 11 | B16: Mumbajaus viešbutis | C16: Hotel Mumbai | D16: AU, US, IN | E16: 26726.79 | F16: 4721 | G16: 4 | H16: 43595 | I16: Travolta
A17: =IF(B17<>"",ROWS($B$6:B17),"") -> 12 | B17: Skausmas ir šlovė | C17: Dolor y gloria | D17: ES | E17: 20862.41 | F17: 4005 | G17: 13 | H17: 43630 | I17: VLG Film
A18: =IF(B18<>"",ROWS($B$6:B18),"") -> 13 | B18: Ma | C18: Ma | D18: US | E18: 17212.55 | F18: 3013 | G18: 11 | H18: 43616 | I18: NCG Distribution / Universal Pictures International
A19: =IF(B19<>"",ROWS($B$6:B19),"") -> 14 | B19: Pokemon Detektyvas Pikachu | C19: Pokemon Detective Pikachu | D19: US, JP, CA | E19: 16655.36 | F19: 3242 | G19: 8 | H19: 43595 | I19: ACME Film / WB
A20: =IF(B20<>"",ROWS($B$6:B20),"") -> 15 | B20: Avelės ir vilkai 2 | C20: Sheep and Wolves: Pig Deal (Sheep and Wolves 2) | D20: RU | E20: 16428.65 | F20: 4003 | G20: 15 | H20: 43630 | I20: ACME Film
A21: =IF(B21<>"",ROWS($B$6:B21),"") -> 16 | B21: Anna | C21: Anna | D21: US, FR | E21: 15332.5 | F21: 2653 | G21: 13 | H21: 43644 | I21: ACME Film
A22: =IF(B22<>"",ROWS($B$6:B22),"") -> 17 | B22: Dar vakar | C22: Yesterday | D22: UK, US | E22: 12809.87 | F22: 2233 | G22: 15 | H22: 43644 | I22: NCG Distribution / Universal Pictures International
A23: =IF(B23<>"",ROWS($B$6:B23),"") -> 18 | B23: AŠ iš kitos veidrodžio pusės | C23: Unheimlich perfekte Freunde | D23: DE | E23: 8408.33 | F23: 2331 | G23: 6 | H23: 43602 | I23: Travolta
A24: =IF(B24<>"",ROWS($B$6:B24),"") -> 19 | B24: Second Hand | C24: Second Hand | D24: LT, IE, CH | E24: 7609.73 | F24: 2555 | G24: 22 | H24: 43616 | I24: Ultra Nominum
A25: =IF(B25<>"",ROWS($B$6:B25),"") -> 20 | B25: Mūsų pirmosios atostogos | C25: Premières vacances | D25: FR | E25: 6838.29 | F25: 1206 | G25: 7 | H25: 43644 | I25: Kino pasaka
A26: =IF(B26<>"",ROWS($B$6:B26),"") -> 21 | B26: Nuodinga rožė | C26: Poison Rose | D26: US, IT | E26: 5961.44 | F26: 1089 | G26: 10 | H26: 43623 | I26: Theatrical Film Distribution
A27: =IF(B27<>"",ROWS($B$6:B27),"") -> 22 | B27: Ričardas atsisveikina | C27: Richard Says Goodbye | D27: US | E27: 5662 | F27: 986 | G27: 6 | H27: 43602 | I27: Garsų pasaulio įrašai
A28: =IF(B28<>"",ROWS($B$6:B28),"") -> 23 | B28: Keršytojai. Pabaiga | C28: Avengers: Endgame | D28: US | E28: 5565.94 | F28: 914 | G28: 4 | H28: 43581 | I28: Theatrical Film Distribution / WDSMPI
A29: =IF(B29<>"",ROWS($B$6:B29),"") -> 24 | B29: Falkonai | C29: Víti í Vestmannaeyjum | D29: IS | E29: 5503.5 | F29: 2754 | G29: 1 | H29: 43574 | I29: KC Garsas
A30: =IF(B30<>"",ROWS($B$6:B30),"") -> 25 | B30: Kovotoja | C30: Vechtmeisje | D30: NL | E30: 4112 | F30: 2464 | G30: 1 | H30: 43534 | I30: KC Garsas
A31: =IF(B31<>"",ROWS($B$6:B31),"") -> 26 | B31: Išgyventi vasarą | C31: Išgyventi vasarą | D31: LT | E31: 3778 | F31: 787 | G31: 3 | H31: 43574 | I31: Europos kinas
A32: =IF(B32<>"",ROWS($B$6:B32),"") -> 27 | B32: Domino | C32: Domino | D32: DK, FR, IT, BE, NL | E32: 3702.01 | F32: 781 | G32: 14 | H32: 43637 | I32: Theatrical Film Distribution
A33: =IF(B33<>"",ROWS($B$6:B33),"") -> 28 | B33: Valstybės Paslaptis | C33: Valstybės Paslaptis | D33: LT | E33: 2604.25 | F33: 812 | G33: 2 | H33: 43567 | I33: ACME Film
A34: =IF(B34<>"",ROWS($B$6:B34),"") -> 29 | B34: Virš debesų | C34: Выше неба | D34: RU | E34: 2549 | F34: 439 | G34: 4 | H34: 43644 | I34: VLG Film
A35: =IF(B35<>"",ROWS($B$6:B35),"") -> 30 | B35: Bjaurios lėlės | C35: Uglydolls | D35: US | E35: 2342.25 | F35: 495 | G35: 6 | H35: 43651 | I35: ACME Film
A36: =IF(B36<>"",ROWS($B$6:B36),"") -> 31 | B36: Didelis blogas lapinas ir kitos istorijos | C36: Le grand méchant renard et autres contes... | D36: BE, FR | E36: 2249 | F36: 668 | G36: 1 | H36: 43379 | I36: Skalvijos kino centras
A37: =IF(B37<>"",ROWS($B$6:B37),"") -> 32 | B37: Devym kažkelinti | C37: Mid90s | D37: US | E37: 2194 | F37: 418 | G37: 8 | H37: 43602 | I37: A-one Films
A38: =IF(B38<>"",ROWS($B$6:B38),"") -> 33 | B38: Mirties blyksnis | C38: Untitled James Gunn (Brightburn) | D38: US | E38: 1870.56 | F38: 315 | G38: 7 | H38: 43609 | I38: ACME Film / SONY
A39: =IF(B39<>"",ROWS($B$6:B39),"") -> 34 | B39: Muzika tavo rankose | C39: Au bout des doigts | D39: FR | E39: 1830.69 | F39: 380 | G39: 9 | H39: 43644 | I39: Greta Garbo Films
A40: =IF(B40<>"",ROWS($B$6:B40),"") -> 35 | B40: Didžioji kelionė | C40: Big Trip | D40: RU, US | E40: 1586.18 | F40: 391 | G40: 5 | H40: 43588 | I40: ACME Film
A41: =IF(B41<>"",ROWS($B$6:B41),"") -> 36 | B41: Kaip prisijaukinti slibiną 3 | C41: How to Train Your Dragon: The Hidden World | D41: US | E41: 1282.36 | F41: 387 | G41: 8 | H41: 43532 | I41: NCG Distribution / Universal Pictures International
A42: =IF(B42<>"",ROWS($B$6:B42),"") -> 37 | B42: Nyndorfo karalienė | C42: Königin von Niendorf | D42: DE | E42: 1201 | F42: 862 | G42: 1 | H42: 43216 | I42: KC Garsas
A43: =IF(B43<>"",ROWS($B$6:B43),"") -> 38 | B43: Tamsta Varlius | C43: Meester Kikker | D43: NL | E43: 1092 | F43: 316 | G43: 1 | H43: 42654 | I43: Skalvijos kino centras
A44: =IF(B44<>"",ROWS($B$6:B44),"") -> 39 | B44: Arčiau debesų | C44: Cloudboy | D44: BG, SE, NL, NO | E44: 1078 | F44: 279 | G44: 1 | H44: 42988 | I44: Skalvijos kino centras
A45: =IF(B45<>"",ROWS($B$6:B45),"") -> 40 | B45: Ralfas griovėjas 2 | C45: Ralph Breaks the Internet: Wreck-It Ralph 2 | D45: US | E45: 1013 | F45: 609 | G45: 4 | H45: 43476 | I45: Theatrical Film Distribution / WDSMPI
A46: =IF(B46<>"",ROWS($B$6:B46),"") -> 41 | B46: Išklausyk! (Programa vaikams) | C46: Luister | D46: NL | E46: 940 | F46: 188 | G46: 1 | H46: 43366 | I46: Skalvijos kino centras
A47: =IF(B47<>"",ROWS($B$6:B47),"") -> 42 | B47: Tobulas vyras | C47: L'homme fidèle | D47: FR | E47: 908.9 | F47: 150 | G47: 1 | H47: 43588 | I47: Kino pasaka
... A93: =IF(B93<>"",ROWS($B$6:B93),"") -> 88 | B93: Saulė irgi žvaigždė | C93: Sun is also a star | D93: US | E93: 9 | F93: 5 | G93: 1 | H93: 43602 | I93: ACME Film / WB
E94: =SUBTOTAL(109,Table3_Birželis[Pajamos]) -> 1082950.8 | F94: =SUBTOTAL(109,Table3_Birželis[Žiūrovų skaičius]) -> 218737

Sheet Liepa
A1: ='2019'!A1 -> 2019
A2: ='2019'!A2 -> Lietuvos kino teatruose rodytų filmų TOP
A3: Liepa
A5: Eil. Nr. | B5: Filmo pavadinimas | C5: Filmo pavadinimas originalo kalba | D5: Kilmės šalis | E5: Pajamos | F5: Žiūrovų skaičius | G5: Kopijų skaičius | H5: Premjeros data | I5: Platintojas
A6: =IF(B6<>"",ROWS($B$6:B6),"") -> 1 | B6: Liūtas karalius | C6: The Lion King | D6: US | E6: 456265.1 | F6: 83818 | G6: 31 | H6: 43665 | I6: Theatrical Film Distribution / WDSMPI
A7: =IF(B7<>"",ROWS($B$6:B7),"") -> 2 | B7: Žmogus-Voras: Toli nuo namų | C7: Spiderman Far From Home | D7: US | E7: 302000.93 | F7: 49978 | G7: 12 | H7: 43651 | I7: ACME Film / SONY
A8: =IF(B8<>"",ROWS($B$6:B8),"") -> 3 | B8: Anabelė 3 | C8: Annabelle Comes Home (Annabelle 3) | D8: US | E8: 203814.7 | F8: 33432 | G8: 11 | H8: 43658 | I8: ACME Film / WB
A9: =IF(B9<>"",ROWS($B$6:B9),"") -> 4 | B9: Slaptas augintinių gyvenimas 2 | C9: Secret Life of Pets 2 | D9: US | E9: 144223.61 | F9: 30838 | G9: 10 | H9: 43616 | I9: NCG Distribution / Universal Pictures International
A10: =IF(B10<>"",ROWS($B$6:B10),"") -> 5 | B10: Bjaurios lėlės | C10: Uglydolls | D10: US | E10: 109266.15 | F10: 25793 | G10: 11 | H10: 43651 | I10: ACME Film
A11: =IF(B11<>"",ROWS($B$6:B11),"") -> 6 | B11: Afera | C11: The Hustle | D11: US | E11: 73639.41 | F11: 12281 | G11: 8 | H11: 43630 | I11: NCG Distribution / Universal Pictures International
A12: =IF(B12<>"",ROWS($B$6:B12),"") -> 7 | B12: Saulės kultas | C12: Midsommar | D12: US, SE | E12: 51268.54 | F12: 9003 | G12: 16 | H12: 43651 | I12: VLG Film
A13: =IF(B13<>"",ROWS($B$6:B13),"") -> 8 | B13: Vyrai juodais drabužiais: Pasaulinė grėsmė | C13: Men in Black International | D13: US | E13: 47630.66 | F13: 8120 | G13: 11 | H13: 43630 | I13: ACME Film / SONY
A14: =IF(B14<>"",ROWS($B$6:B14),"") -> 9 | B14: Anna | C14: Anna | D14: US, FR | E14: 45198.08 | F14: 7774 | G14: 13 | H14: 43644 | I14: ACME Film
A15: =IF(B15<>"",ROWS($B$6:B15),"") -> 10 | B15: Pūkuota šnipė | C15: Marnie’s World | D15: DE, BE | E15: 32388 | F15: 8228 | G15: 7 | H15: 43637 | I15: Garsų pasaulio įrašai
A16: =IF(B16<>"",ROWS($B$6:B16),"") -> 11 | B16: Rocketman | C16: Rocketman | D16: UK, US | E16: 32052.08 | F16: 5541 | G16: 8 | H16: 43623 | I16: NCG Distribution / Paramount Pictures
A17: =IF(B17<>"",ROWS($B$6:B17),"") -> 12 | B17: Dar vakar | C17: Yesterday | D17: UK, US | E17: 32033.98 | F17: 5916 | G17: 15 | H17: 43644 | I17: NCG Distribution / Universal Pictures International
A18: =IF(B18<>"",ROWS($B$6:B18),"") -> 13 | B18: Stjuberis | C18: Stuber | D18: US | E18: 25562.27 | F18: 4576 | G18: 15 | H18: 43658 | I18: Theatrical Film Distribution / 20th Century Fox
A19: =IF(B19<>"",ROWS($B$6:B19),"") -> 14 | B19: Vagys melagiai | C19: Lying and Stealing | D19: US | E19: 19491.98 | F19: 3462 | G19: 12 | H19: 43665 | I19: ACME Film
A20: =IF(B20<>"",ROWS($B$6:B20),"") -> 15 | B20: Greiti ir įsiutę: Hobsas ir Šo | C20: Fast & Furious Presents: Hobbs & Shaw | D20: US | E20: 15477.74 | F20: 2435 | G20: 14 | H20: 43679 | I20: NCG Distribution / Universal Pictures International
A21: =IF(B21<>"",ROWS($B$6:B21),"") -> 16 | B21: Vaikų žaidimai | C21: Childs Play | D21: US | E21: 15193.54 | F21: 2581 | G21: 10 | H21: 43637 | I21: ACME Film
A22: =IF(B22<>"",ROWS($B$6:B22),"") -> 17 | B22: Aušros pažadas | C22: Promise at Dawn | D22: FR | E22: 14267.34 | F22: 2518 | G22: 13 | H22: 43672 | I22: Best Film
A23: =IF(B23<>"",ROWS($B$6:B23),"") -> 18 | B23: Keršytojai. Pabaiga | C23: Avengers: Endgame | D23: US | E23: 13569.96 | F23: 2307 | G23: 11 | H23: 43581 | I23: Theatrical Film Distribution / WDSMPI
A24: =IF(B24<>"",ROWS($B$6:B24),"") -> 19 | B24: Roboto vaikas | C24: I Am Mother (Mister Smith) | D24: AU | E24: 12512.37 | F24: 2175 | G24: 10 | H24: 43658 | I24: ACME Film
A25: =IF(B25<>"",ROWS($B$6:B25),"") -> 20 | B25: Mūsų pirmosios atostogos | C25: Premières vacances | D25: FR | E25: 10689.29 | F25: 1897 | G25: 5 | H25: 43644 | I25: Kino pasaka
A26: =IF(B26<>"",ROWS($B$6:B26),"") -> 21 | B26: Skausmas ir šlovė | C26: Dolor y gloria | D26: ES | E26: 8295 | F26: 1427 | G26: 6 | H26: 43630 | I26: VLG Film
A27: =IF(B27<>"",ROWS($B$6:B27),"") -> 22 | B27: Pavarotti | C27: Pavarotti | D27: UK, US | E27: 8184 | F27: 1671 | G27: 14 | H27: 43672 | I27: VLG Film
A28: =IF(B28<>"",ROWS($B$6:B28),"") -> 23 | B28: Kodėl mes kūrybingi? | C28: Why Are We Creative? | D28: DE | E28: 7843 | F28: 1511 | G28: 6 | H28: 43658 | I28: Best Film
A29: =IF(B29<>"",ROWS($B$6:B29),"") -> 24 | B29: Džonas Vikas 3 | C29: John Wick 3: Parabellum | D29: US | E29: 5074.42 | F29: 830 | G29: 2 | H29: 43602 | I29: ACME Film
A30: =IF(B30<>"",ROWS($B$6:B30),"") -> 25 | B30: Virš debesų | C30: Выше неба | D30: RU | E30: 4066.06 | F30: 716 | G30: 4 | H30: 43644 | I30: VLG Film
A31: =IF(B31<>"",ROWS($B$6:B31),"") -> 26 | B31: Muzika tavo rankose | C31: Au bout des doigts | D31: FR | E31: 3415.48 | F31: 790 | G31: 9 | H31: 43644 | I31: Greta Garbo Films
A32: =IF(B32<>"",ROWS($B$6:B32),"") -> 27 | B32: Aladinas | C32: Aladdin | D32: US | E32: 3312.58 | F32: 692 | G32: 1 | H32: 43609 | I32: Theatrical Film Distribution / WDSMPI
A33: =IF(B33<>"",ROWS($B$6:B33),"") -> 28 | B33: Godzila 2: Monstrų karalius | C33: Godzilla2: King of the Monsters | D33: US, JP | E33: 1952.19 | F33: 390 | G33: 3 | H33: 43616 | I33: ACME Film / WB
A34: =IF(B34<>"",ROWS($B$6:B34),"") -> 29 | B34: Avelės ir vilkai 2 | C34: Sheep and Wolves: Pig Deal (Sheep and Wolves 2) | D34: RU | E34: 1925.96 | F34: 527 | G34: 9 | H34: 43630 | I34: ACME Film
A35: =IF(B35<>"",ROWS($B$6:B35),"") -> 30 | B35: Iksmenai. Tamsusis Feniksas | C35: X-Men: Dark Phoenix | D35: US | E35: 1707 | F35: 310 | G35: 2 | H35: 43623 | I35: Theatrical Film Distribution / 20th Century Fox
A36: =IF(B36<>"",ROWS($B$6:B36),"") -> 31 | B36: Mumbajaus viešbutis | C36: Hotel Mumbai | D36: AU, US, IN | E36: 1562.8 | F36: 286 | G36: 2 | H36: 43595 | I36: Travolta
A37: =IF(B37<>"",ROWS($B$6:B37),"") -> 32 | B37: Kelionės namo | C37: Kelionės namo | D37: LT | E37: 907.2 | F37: 406 | G37: 7 | H37: 43539 | I37: Ultra Nominum
A38: =IF(B38<>"",ROWS($B$6:B38),"") -> 33 | B38: Valstybės Paslaptis | C38: Valstybės Paslaptis | D38: LT | E38: 783.1 | F38: 285 | G38: 2 | H38: 43567 | I38: ACME Film
A39: =IF(B39<>"",ROWS($B$6:B39),"") -> 34 | B39: Asteriksas: Stebuklingojo gėrimo paslaptis | C39: Asterix - The Secret of the Magic Potion | D39: FR | E39: 687.6 | F39: 382 | G39: 1 | H39: 43469 | I39: ACME Film
A40: =IF(B40<>"",ROWS($B$6:B40),"") -> 35 | B40: Mažoji pėda | C40: Smallfoot | D40: US | E40: 572.5 | F40: 304 | G40: 1 | H40: 43392 | I40: ACME Film / WB
A41: =IF(B41<>"",ROWS($B$6:B41),"") -> 36 | B41: Bulius Ferdinandas | C41: Ferdinand | D41: US | E41: 467 | F41: 249 | G41: 2 | H41: 43084 | I41: Theatrical Film Distribution / 20th Century Fox
A42: =IF(B42<>"",ROWS($B$6:B42),"") -> 37 | B42: Bohemijos rapsodija | C42: Bohemian Rhapsody | D42: UK. US | E42: 435 | F42: 212 | G42: 1 | H42: 43406 | I42: Theatrical Film Distribution / 20th Century Fox
A43: =IF(B43<>"",ROWS($B$6:B43),"") -> 38 | B43: AŠ iš kitos veidrodžio pusės | C43: Unheimlich perfekte Freunde | D43: DE | E43: 434.83 | F43: 150 | G43: 3 | H43: 43602 | I43: Travolta
A44: =IF(B44<>"",ROWS($B$6:B44),"") -> 39 | B44: Vagiliautojai | C44: Manbiki kazoku | D44: JP | E44: 393.97 | F44: 84 | G44: 1 | H44: 43560 | I44: Europos kinas
A45: =IF(B45<>"",ROWS($B$6:B45),"") -> 40 | B45: Monstrų viešbutis 3: Atostogos | C45: Hotel Transylvania 3 | D45: US | E45: 368.5 | F45: 187 | G45: 1 | H45: 43294 | I45: ACME Film / SONY
A46: =IF(B46<>"",ROWS($B$6:B46),"") -> 41 | B46: Širdžių dama | C46: Dronningen | D46: DK, SE | E46: 338.09 | F46: 69 | G46: 1 | H46: 43560 | I46: Europos kinas
A47: =IF(B47<>"",ROWS($B$6:B47),"") -> 42 | B47: Ralfas griovėjas 2 | C47: Ralph Breaks the Internet: Wreck-It Ralph 2 | D47: US | E47: 313.5 | F47: 180 | G47: 1 | H47: 43476 | I47: Theatrical Film Distribution / WDSMPI
A48: =IF(B48<>"",ROWS($B$6:B48),"") -> 43 | B48: Mano mažoji sesutė Mirai | C48: Mirai no Mirai | D48: JP | E48: 311 | F48: 83 | G48: 1 | H48: 43560 | I48: Europos kinas
A49: =IF(B49<>"",ROWS($B$6:B49),"") -> 44 | B49: Snieguotos lenktynės | C49: Racetime | D49: CA | E49: 287 | F49: 148 | G49: 1 | H49: 43518 | I49: Garsų pasaulio įrašai
A50: =IF(B50<>"",ROWS($B$6:B50),"") -> 45 | B50: Princesė ir Drakonas | C50: Princess in Wonderland (Princess and the Dragon) | D50: RU | E50: 279.5 | F50: 174 | G50: 1 | H50: 43357 | I50: ACME Film
A51: =IF(B51<>"",ROWS($B$6:B51),"") -> 46 | B51: Taip gimė žvaigždė | C51: Star ir Born | D51: US | E51: 269 | F51: 133 | G51: 1 | H51: 43378 | I51: ACME Film / WB
A52: =IF(B52<>"",ROWS($B$6:B52),"") -> 47 | B52: Ir visi jų vyrai | C52: Ir visi jų vyrai | D52: LT | E52: 240.7 | F52: 83 | G52: 1 | H52: 43490 | I52: ACME Film
... A54: =IF(B54<>"",ROWS($B$6:B54),"") -> 49 | B54: Verkiančios moters prakeiksmas | C54: Curse of La Llorona | D54: US | E54: 231.76 | F54: 37 | G54: 1 | H54: 43574 | I54: ACME Film / WB
A55: =IF(B55<>"",ROWS($B$6:B55),"") -> 50 | B55: Triušis Piteris | C55: Peter Rabbit | D55: US | E55: 200 | F55: 108 | G55: 1 | H55: 43182 | I55: ACME Film / SONY
A56: =IF(B56<>"",ROWS($B$6:B56),"") -> 51 | B56: Išgyventi vasarą | C56: Išgyventi vasarą | D56: LT | E56: 197.19 | F56: 149 | G56: 3 | H56: 43574 | I56: Europos kinas
A57: =IF(B57<>"",ROWS($B$6:B57),"") -> 52 | B57: Emodži filmas | C57: Emoji | D57: US | E57: 192.5 | F57: 107 | G57: 1 | H57: 43330 | I57: ACME Film / SONY
A58: =IF(B58<>"",ROWS($B$6:B58),"") -> 53 | B58: Netikėta meilė | C58: El amor menos pensado | D58: AR | E58: 165.55 | F58: 37 | G58: 1 | H58: 43560 | I58: Europos kinas
A59: =IF(B59<>"",ROWS($B$6:B59),"") -> 54 | B59: Kafarnaumas | C59: Capernaum | D59: LB, FR, US | E59: 163.95 | F59: 36 | G59: 1 | H59: 43560 | I59: Europos kinas
A60: =IF(B60<>"",ROWS($B$6:B60),"") -> 55 | B60: Panikos ataka | C60: Atak Paniki | D60: PL | E60: 159.9 | F60: 34 | G60: 1 | H60: 43560 | I60: Europos kinas
A61: =IF(B61<>"",ROWS($B$6:B61),"") -> 56 | B61: Slaptas augintinių gyvenimas | C61: The Secret Life Of Pets | D61: US, JP | E61: 105.5 | F61: 62 | G61: 1 | H61: 42587 | I61: NCG Distribution / Universal Pictures International
A62: =IF(B62<>"",ROWS($B$6:B62),"") -> 57 | B62: Domino | C62: Domino | D62: DK, FR, IT, BE, NL | E62: 105.5 | F62: 30 | G62: 1 | H62: 43637 | I62: Theatrical Film Distribution
A63: =IF(B63<>"",ROWS($B$6:B63),"") -> 58 | B63: Vasara | C63: Лето | D63: RU | E63: 84.5 | F63: 19 | G63: 1 | H63: 43560 | I63: Europos kinas
A64: =IF(B64<>"",ROWS($B$6:B64),"") -> 59 | B64: Balta varna | C64: The White Crow | D64: UK, FR | E64: 83.5 | F64: 28 | G64: 1 | H64: 43581 | I64: Theatrical Film Distribution
A65: =IF(B65<>"",ROWS($B$6:B65),"") -> 60 | B65: Nerealieji 2 | C65: Incredibles 2 | D65: US | E65: 68 | F65: 40 | G65: 1 | H65: 43315 | I65: Theatrical Film Distribution / WDSMPI
A66: =IF(B66<>"",ROWS($B$6:B66),"") -> 61 | B66: Koko | C66: Coco | D66: US | E66: 66 | F66: 33 | G66: 1 | H66: 43105 | I66: Theatrical Film Distribution / WDSMPI
A67: =IF(B67<>"",ROWS($B$6:B67),"") -> 62 | B67: Maja | C67: Maya | D67: FR | E67: 63 | F67: 17 | G67: 1 | H67: 43560 | I67: Europos kinas
... A76: =IF(B76<>"",ROWS($B$6:B76),"") -> 71 | B76: Pasaulis priklauso tau | C76: Le monde est a toi | D76: FR | E76: 3.7 | F76: 1 | G76: 1 | H76: 43560 | I76: Europos kinas
E77: =SUBTOTAL(109,Table3_Liepa[Pajamos]) -> 1713471.8 | F77: =SUBTOTAL(109,Table3_Liepa[Žiūrovų skaičius]) -> 315880

Sheet Rugpjūtis
A1: ='2019'!A1 -> 2019
A2: ='2019'!A2 -> Lietuvos kino teatruose rodytų filmų TOP
A3: Rugpjūtis
A5: Eil. Nr. | B5: Filmo pavadinimas | C5: Filmo pavadinimas originalo kalba | D5: Kilmės šalis | E5: Pajamos | F5: Žiūrovų skaičius | G5: Kopijų skaičius | H5: Premjeros data | I5: Platintojas
A6: =IF(B6<>"",ROWS($B$6:B6),"") -> 1 | B6: Greiti ir įsiutę: Hobsas ir Šo | C6: Fast & Furious Presents: Hobbs & Shaw | D6: US | E6: 368939 | F6: 60429 | G6: 14 | H6: 43679 | I6: NCG Distribution / Universal Pictures International
A7: =IF(B7<>"",ROWS($B$6:B7),"") -> 2 | B7: Liūtas karalius | C7: The Lion King | D7: US | E7: 321488.68 | F7: 62850 | G7: 30 | H7: 43665 | I7: Theatrical Film Distribution / WDSMPI
A8: =IF(B8<>"",ROWS($B$6:B8),"") -> 3 | B8: Vieną kartą Holivude | C8: Once Upon a Time... in Hollywood | D8: US, UK, CN | E8: 312709 | F8: 52294 | G8: 17 | H8: 43693 | I8: ACME Film / SONY
A9: =IF(B9<>"",ROWS($B$6:B9),"") -> 4 | B9: Žaislų istorija 4 | C9: Toy Story 4 | D9: US | E9: 219050.86 | F9: 46217 | G9: 31 | H9: 43686 | I9: Theatrical Film Distribution / WDSMPI
A10: =IF(B10<>"",ROWS($B$6:B10),"") -> 5 | B10: Vestuvės | C10: Vestuvės | D10: LT | E10: 138323 | F10: 26118 | G10: 15 | H10: 43686 | I10: Film Jam
A11: =IF(B11<>"",ROWS($B$6:B11),"") -> 6 | B11: Piktieji paukščiai. Filmas 2 | C11: The Angry Birds Movie 2 | D11: FI, US | E11: 124780.06 | F11: 27414 | G11: 17 | H11: 43700 | I11: ACME Film / SONY
A12: =IF(B12<>"",ROWS($B$6:B12),"") -> 7 | B12: Čia buvo Saša | C12: Čia buvo Saša | D12: LT | E12: 78712.27 | F12: 14529 | G12: 15 | H12: 43693 | I12: Dansu films
A13: =IF(B13<>"",ROWS($B$6:B13),"") -> 8 | B13: Lietinga diena Niujorke | C13: A Rainy Day in New York | D13: US | E13: 76597.8 | F13: 13268 | G13: 15 | H13: 43679 | I13: ACME Film
A14: =IF(B14<>"",ROWS($B$6:B14),"") -> 9 | B14: Šiurpios istorijos pasakojimui tamsoje | C14: Scary Stories to Tell in the Dark | D14: CA, US | E14: 65643.25 | F14: 11351 | G14: 14 | H14: 43686 | I14: ACME Film
A15: =IF(B15<>"",ROWS($B$6:B15),"") -> 10 | B15: Slėpynės | C15: Ready Or Not | D15: US | E15: 50755.4 | F15: 10135 | G15: 14 | H15: 43700 | I15: Theatrical Film Distribution / 20th Century Fox
A16: =IF(B16<>"",ROWS($B$6:B16),"") -> 11 | B16: Anabelė 3 | C16: Annabelle Comes Home (Annabelle 3) | D16: US | E16: 47713.93 | F16: 7674 | G16: 7 | H16: 43658 | I16: ACME Film / WB
A17: =IF(B17<>"",ROWS($B$6:B17),"") -> 12 | B17: Slaptas augintinių gyvenimas 2 | C17: Secret Life of Pets 2 | D17: US | E17: 42597 | F17: 9190 | G17: 7 | H17: 43616 | I17: NCG Distribution / Universal Pictures International
A18: =IF(B18<>"",ROWS($B$6:B18),"") -> 13 | B18: Geri berniukai | C18: Good Boys | D18: US | E18: 36762 | F18: 7377 | G18: 14 | H18: 43700 | I18: NCG Distribution / Universal Pictures International
A19: =IF(B19<>"",ROWS($B$6:B19),"") -> 14 | B19: Žmogus-Voras: Toli nuo namų | C19: Spiderman Far From Home | D19: US | E19: 16758.12 | F19: 2906 | G19: 6 | H19: 43651 | I19: ACME Film / SONY
A20: =IF(B20<>"",ROWS($B$6:B20),"") -> 15 | B20: 47 metrai: įkalintos po vandeniu | C20: 47 Meters Down: Uncaged | D20: UK | E20: 15866 | F20: 2909 | G20: 6 | H20: 43693 | I20: VLG Film
A21: =IF(B21<>"",ROWS($B$6:B21),"") -> 16 | B21: Aušros pažadas | C21: Promise at Dawn | D21: FR | E21: 15535.83 | F21: 2982 | G21: 13 | H21: 43672 | I21: Best Film
A22: =IF(B22<>"",ROWS($B$6:B22),"") -> 17 | B22: Angelo apgultis | C22: Angel Has Fallen | D22: US | E22: 14175 | F22: 2418 | G22: 13 | H22: 43707 | I22: Garsų pasaulio įrašai
A23: =IF(B23<>"",ROWS($B$6:B23),"") -> 18 | B23: Bjaurios lėlės | C23: Uglydolls | D23: US | E23: 13399.75 | F23: 3101 | G23: 5 | H23: 43651 | I23: ACME Film
A24: =IF(B24<>"",ROWS($B$6:B24),"") -> 19 | B24: Saldi dienos pabaiga | C24: Dolce Fine Giornata | D24: PL | E24: 10369 | F24: 2026 | G24: 4 | H24: 43700 | I24: A-one films
A25: =IF(B25<>"",ROWS($B$6:B25),"") -> 20 | B25: Gernsio literatūros ir bulvių lupenų pyrago draugija | C25: Guernsey Literary and Potato Peel Pie Society | D25: UK, FR, US | E25: 7186.67 | F25: 1293 | G25: 9 | H25: 43679 | I25: Best Film
A26: =IF(B26<>"",ROWS($B$6:B26),"") -> 21 | B26: Afera | C26: The Hustle | D26: US | E26: 6551 | F26: 1040 | G26: 2 | H26: 43630 | I26: NCG Distribution / Universal Pictures International
A27: =IF(B27<>"",ROWS($B$6:B27),"") -> 22 | B27: Mano akių šviesa | C27: Light of My Life | D27: US | E27: 6183.05 | F27: 1340 | G27: 9 | H27: 43700 | I27: Travolta
A28: =IF(B28<>"",ROWS($B$6:B28),"") -> 23 | B28: Keršytojai. Pabaiga | C28: Avengers: Endgame | D28: US | E28: 5465.02 | F28: 1018 | G28: 9 | H28: 43581 | I28: Theatrical Film Distribution / WDSMPI
A29: =IF(B29<>"",ROWS($B$6:B29),"") -> 24 | B29: Pavarotti | C29: Pavarotti | D29: UK, US | E29: 5401 | F29: 1220 | G29: 14 | H29: 43672 | I29: VLG Film
A30: =IF(B30<>"",ROWS($B$6:B30),"") -> 25 | B30: Nijolė | C30: Nijolė | D30: LT, IT | E30: 4697.5 | F30: 1553 | G30: 10 | H30: 43697 | I30: Just a moment
A31: =IF(B31<>"",ROWS($B$6:B31),"") -> 26 | B31: Rocketman | C31: Rocketman | D31: UK, US | E31: 4230 | F31: 700 | G31: 1 | H31: 43623 | I31: NCG Distribution / Paramount Pictures
A32: =IF(B32<>"",ROWS($B$6:B32),"") -> 27 | B32: Mažulė, verta milijonų | C32: Driven | D32: US | E32: 3726.41 | F32: 663 | G32: 5 | H32: 43707 | I32: VLG Film
A33: =IF(B33<>"",ROWS($B$6:B33),"") -> 28 | B33: Vagys melagiai | C33: Lying and Stealing | D33: US | E33: 2711.94 | F33: 454 | G33: 3 | H33: 43665 | I33: ACME Film
A34: =IF(B34<>"",ROWS($B$6:B34),"") -> 29 | B34: Radviliada | C34: Radviliada | D34: LT | E34: 2677 | F34: 1866 | G34: 4 | H34: 41880 | I34: Ultra Nominum
A35: =IF(B35<>"",ROWS($B$6:B35),"") -> 30 | B35: Abigailė | C35: Эбигейл | D35: RU | E35: 2676.53 | F35: 494 | G35: 4 | H35: 43707 | I35: Top FilmBaltic
A36: =IF(B36<>"",ROWS($B$6:B36),"") -> 31 | B36: Duokit laisvę | C36: Give my liberty | D36: US | E36: 2247 | F36: 452 | G36: 4 | H36: 43679 | I36: A-one films
A37: =IF(B37<>"",ROWS($B$6:B37),"") -> 32 | B37: Damų laimė | C37: Les Dames | D37: CH | E37: 2214.34 | F37: 447 | G37: 10 | H37: 43707 | I37: Greta Garbo Films
A38: =IF(B38<>"",ROWS($B$6:B38),"") -> 33 | B38: Skausmas ir šlovė | C38: Dolor y gloria | D38: ES | E38: 2213 | F38: 440 | G38: 3 | H38: 43630 | I38: VLG Film
A39: =IF(B39<>"",ROWS($B$6:B39),"") -> 34 | B39: Laiko tiltai | C39: Laiko tiltai | D39: LT, LV, ES | E39: 1981 | F39: 857 | G39: 23 | H39: 43700 | I39: Ultra Nominum
A40: =IF(B40<>"",ROWS($B$6:B40),"") -> 35 | B40: Šokių kovos | C40: Битва | D40: RU | E40: 1901.35 | F40: 346 | G40: 6 | H40: 43707 | I40: ACME Film
A41: =IF(B41<>"",ROWS($B$6:B41),"") -> 36 | B41: Kodėl mes kūrybingi? | C41: Why Are We Creative? | D41: DE | E41: 1728 | F41: 326 | G41: 4 | H41: 43658 | I41: Best Film
A42: =IF(B42<>"",ROWS($B$6:B42),"") -> 37 | B42: Mano angelas | C42: Angel of Mine | D42: AU, US | E42: 1483.66 | F42: 280 | G42: 11 | H42: 43707 | I42: Theatrical Film Distribution
A43: =IF(B43<>"",ROWS($B$6:B43),"") -> 38 | B43: Bohemijos rapsodija | C43: Bohemian Rhapsody | D43: UK. US | E43: 1292 | F43: 285 | G43: 2 | H43: 43406 | I43: Theatrical Film Distribution / 20th Century Fox
A44: =IF(B44<>"",ROWS($B$6:B44),"") -> 39 | B44: Išgyventi vasarą | C44: Išgyventi vasarą | D44: LT | E44: 1246.13 | F44: 321 | G44: 6 | H44: 43574 | I44: Europos kinas
A45: =IF(B45<>"",ROWS($B$6:B45),"") -> 40 | B45: Pūkuota šnipė | C45: Marnie’s World | D45: DE, BE | E45: 1150 | F45: 381 | G45: 3 | H45: 43637 | I45: Garsų pasaulio įrašai
A46: =IF(B46<>"",ROWS($B$6:B46),"") -> 41 | B46: Nepaprasta Remio kelionė | C46: Rémi sans famille | D46: FR | E46: 940.66 | F46: 210 | G46: 8 | H46: 43707 | I46: Estinfilms
A47: =IF(B47<>"",ROWS($B$6:B47),"") -> 42 | B47: Monstrų viešbutis 3: Atostogos | C47: Hotel Transylvania 3 | D47: US | E47: 926.2 | F47: 471 | G47: 1 | H47: 43294 | I47: ACME Film / SONY
A48: =IF(B48<>"",ROWS($B$6:B48),"") -> 43 | B48: Ralfas griovėjas 2 | C48: Ralph Breaks the Internet: Wreck-It Ralph 2 | D48: US | E48: 785.3 | F48: 402 | G48: 3 | H48: 43476 | I48: Theatrical Film Distribution / WDSMPI
A49: =IF(B49<>"",ROWS($B$6:B49),"") -> 44 | B49: Vyrai juodais drabužiais: Pasaulinė grėsmė | C49: Men in Black International | D49: US | E49: 753.2 | F49: 127 | G49: 1 | H49: 43630 | I49: ACME Film / SONY
A50: =IF(B50<>"",ROWS($B$6:B50),"") -> 45 | B50: Drakoniuko Riešutėlio nuotykiai: atostogos džiunglėse | C50: Der kleine Drache Kokosnuss - Auf in den Dschungel! | D50: DE | E50: 529.23 | F50: 150 | G50: 2 | H50: 43574 | I50: Best Film
A51: =IF(B51<>"",ROWS($B$6:B51),"") -> 46 | B51: Bjaurusis aš 3 | C51: Despicable Me 3 | D51: US | E51: 331 | F51: 165 | G51: 1 | H51: 42916 | I51: NCG Distribution / Universal Pictures International
A52: =IF(B52<>"",ROWS($B$6:B52),"") -> 47 | B52: Grinčas | C52: The Grinch | D52: US | E52: 324 | F52: 167 | G52: 1 | H52: 43434 | I52: NCG Distribution / Universal Pictures International
A53: =IF(B53<>"",ROWS($B$6:B53),"") -> 48 | B53: Nerealieji 2 | C53: Incredibles 2 | D53: US | E53: 300 | F53: 150 | G53: 4 | H53: 43315 | I53: Theatrical Film Distribution / WDSMPI
A54: =IF(B54<>"",ROWS($B$6:B54),"") -> 49 | B54: Vasara | C54: Лето | D54: RU | E54: 253.5 | F54: 76 | G54: 4 | H54: 43560 | I54: Europos kinas
A55: =IF(B55<>"",ROWS($B$6:B55),"") -> 50 | B55: Koko | C55: Coco | D55: US | E55: 243.5 | F55: 129 | G55: 1 | H55: 43105 | I55: Theatrical Film Distribution / WDSMPI
A56: =IF(B56<>"",ROWS($B$6:B56),"") -> 51 | B56: Sengirė | C56: Sengirė | D56: LT | E56: 229 | F56: 63 | G56: 2 | H56: 43189 | I56: VšĮ Sengirė
A57: =IF(B57<>"",ROWS($B$6:B57),"") -> 52 | B57: Vagiliautojai | C57: Manbiki kazoku | D57: JP | E57: 208.47 | F57: 56 | G57: 2 | H57: 43560 | I57: Europos kinas
A58: =IF(B58<>"",ROWS($B$6:B58),"") -> 53 | B58: Lego filmas 2 | C58: Lego Movie 2 | D58: DK, NO, AU, US | E58: 194.4 | F58: 95 | G58: 1 | H58: 43504 | I58: ACME Film / WB
A59: =IF(B59<>"",ROWS($B$6:B59),"") -> 54 | B59: Asteriksas: Stebuklingojo gėrimo paslaptis | C59: Asterix - The Secret of the Magic Potion | D59: FR | E59: 180 | F59: 94 | G59: 1 | H59: 43469 | I59: ACME Film
A60: =IF(B60<>"",ROWS($B$6:B60),"") -> 55 | B60: Didžioji kelionė | C60: Big Trip | D60: RU, US | E60: 164 | F60: 36 | G60: 1 | H60: 43588 | I60: ACME Film
A61: =IF(B61<>"",ROWS($B$6:B61),"") -> 56 | B61: Žmogus voras: Į naują visatą | C61: Spiderman into the Spiderverse | D61: US | E61: 156.5 | F61: 77 | G61: 1 | H61: 43448 | I61: ACME Film / SONY
... A67: =IF(B67<>"",ROWS($B$6:B67),"") -> 62 | B67: Vasaros paukščiai | C67: Birds of Passage | D67: CO, DK, MX, DE, CH | E67: 116 | F67: 32 | G67: 2 | H67: 43560 | I67: Europos kinas
A68: =IF(B68<>"",ROWS($B$6:B68),"") -> 63 | B68: Anna | C68: Anna | D68: US, FR | E68: 108.18 | F68: 18 | G68: 1 | H68: 43644 | I68: ACME Film
A69: =IF(B69<>"",ROWS($B$6:B69),"") -> 64 | B69: Širdžių dama | C69: Dronningen | D69: DK, SE | E69: 108.09 | F69: 23 | G69: 1 | H69: 43560 | I69: Europos kinas
A70: =IF(B70<>"",ROWS($B$6:B70),"") -> 65 | B70: Panikos ataka | C70: Atak Paniki | D70: PL | E70: 90.9 | F70: 40 | G70: 2 | H70: 43560 | I70: Europos kinas
A71: =IF(B71<>"",ROWS($B$6:B71),"") -> 66 | B71: Balta varna | C71: The White Crow | D71: UK, FR | E71: 87 | F71: 28 | G71: 1 | H71: 43581 | I71: Theatrical Film Distribution
A72: =IF(B72<>"",ROWS($B$6:B72),"") -> 67 | B72: Bulius Ferdinandas | C72: Ferdinand | D72: US | E72: 74.5 | F72: 36 | G72: 2 | H72: 43084 | I72: Theatrical Film Distribution / 20th Century Fox
A73: =IF(B73<>"",ROWS($B$6:B73),"") -> 68 | B73: Taip gimė žvaigždė | C73: Star ir Born | D73: US | E73: 70 | F73: 35 | G73: 1 | H73: 43378 | I73: ACME Film / WB
A74: =IF(B74<>"",ROWS($B$6:B74),"") -> 69 | B74: Favoritė | C74: The Favourite | D74: IE, UK, US | E74: 68.5 | F74: 20 | G74: 1 | H74: 43483 | I74: Theatrical Film Distribution / 20th Century Fox
A75: =IF(B75<>"",ROWS($B$6:B75),"") -> 70 | B75: Dar vakar | C75: Yesterday | D75: UK, US | E75: 61 | F75: 17 | G75: 1 | H75: 43644 | I75: NCG Distribution / Universal Pictures International
A76: =IF(B76<>"",ROWS($B$6:B76),"") -> 71 | B76: Mes | C76: Us | D76: US | E76: 61 | F76: 8 | G76: 1 | H76: 43546 | I76: NCG Distribution / Universal Pictures International
A77: =IF(B77<>"",ROWS($B$6:B77),"") -> 72 | B77: Tarp pilkų debesų | C77: Ashes in the Snow | D77: LT,UK | E77: 58 | F77: 12 | G77: 1 | H77: 43385 | I77: ACME Film
A78: =IF(B78<>"",ROWS($B$6:B78),"") -> 73 | B78: Stjuberis | C78: Stuber | D78: US | E78: 57.5 | F78: 10 | G78: 2 | H78: 43658 | I78: Theatrical Film Distribution / 20th Century Fox
A79: =IF(B79<>"",ROWS($B$6:B79),"") -> 74 | B79: Kafarnaumas | C79: Capernaum | D79: LB, FR, US | E79: 49.95 | F79: 11 | G79: 1 | H79: 43560 | I79: Europos kinas
A80: =IF(B80<>"",ROWS($B$6:B80),"") -> 75 | B80: Balerina | C80: Ballerina | D80: FR, CA | E80: 44 | F80: 22 | G80: 1 | H80: 42748 | I80: ACME Film
... A83: =IF(B83<>"",ROWS($B$6:B83),"") -> 78 | B83: Valstybės Paslaptis | C83: Valstybės Paslaptis | D83: LT | E83: 25 | F83: 5 | G83: 1 | H83: 43567 | I83: ACME Film
E84: =SUBTOTAL(109,Table3_Rugpjūtis[Pajamos]) -> 2047452.9 | F84: =SUBTOTAL(109,Table3_Rugpjūtis[Žiūrovų skaičius]) -> 383959

Sheet Rugsėjis
A1: ='2019'!A1 -> 2019
A2: ='2019'!A2 -> Lietuvos kino teatruose rodytų filmų TOP
A3: Rugsėjis
A5: Eil. Nr. | B5: Filmo pavadinimas | C5: Filmo pavadinimas originalo kalba | D5: Kilmės šalis | E5: Pajamos | F5: Žiūrovų skaičius | G5: Kopijų skaičius | H5: Premjeros data | I5: Platintojas
A6: =IF(B6<>"",ROWS($B$6:B6),"") -> 1 | B6: TAS: Antroji dalis | C6: IT 2 | D6: US | E6: 247719.4 | F6: 38779 | G6: 15 | H6: 43714 | I6: ACME Film / WB
A7: =IF(B7<>"",ROWS($B$6:B7),"") -> 2 | B7: Piktieji paukščiai. Filmas 2 | C7: The Angry Birds Movie 2 | D7: FI, US | E7: 165332 | F7: 34210 | G7: 16 | H7: 43700 | I7: ACME Film / SONY
A8: =IF(B8<>"",ROWS($B$6:B8),"") -> 3 | B8: Ad Astra | C8: Ad Astra | D8: US | E8: 157349.28 | F8: 23870 | G8: 16 | H8: 43728 | I8: Theatrical Film Distribution / 20th Century Fox
A9: =IF(B9<>"",ROWS($B$6:B9),"") -> 4 | B9: Vieną kartą Holivude | C9: Once Upon a Time... in Hollywood | D9: US, UK, CN | E9: 127371.04 | F9: 20739 | G9: 12 | H9: 43693 | I9: ACME Film / SONY
A10: =IF(B10<>"",ROWS($B$6:B10),"") -> 5 | B10: Šuns tikslas 2 | C10: Molly and Max (A Dog's Journey) | D10: US | E10: 108353.6 | F10: 21199 | G10: 17 | H10: 43721 | I10: ACME Film
A11: =IF(B11<>"",ROWS($B$6:B11),"") -> 6 | B11: Aferistės | C11: Hustlers | D11: US | E11: 106493.41 | F11: 17054 | G11: 10 | H11: 43728 | I11: ACME Film
A12: =IF(B12<>"",ROWS($B$6:B12),"") -> 7 | B12: Dauntono Abatija | C12: Downton Abbey | D12: UK | E12: 46912.5 | F12: 7999 | G12: 16 | H12: 43721 | I12: NCG Distribution / Universal Pictures International
A13: =IF(B13<>"",ROWS($B$6:B13),"") -> 8 | B13: Nematoma | C13: Nematoma | D13: LT, LV, UA | E13: 40535.77 | F13: 7167 | G13: 22 | H13: 43728 | I13: VLG Film
A14: =IF(B14<>"",ROWS($B$6:B14),"") -> 9 | B14: Čia buvo Saša | C14: Čia buvo Saša | D14: LT | E14: 37867.09 | F14: 6949 | G14: 10 | H14: 43693 | I14: Dansu films
A15: =IF(B15<>"",ROWS($B$6:B15),"") -> 10 | B15: Raudonbatė ir 7 Nykštukai | C15: Red Shoes and the Seven Dwarfs | D15: KR | E15: 34892.14 | F15: 6982 | G15: 16 | H15: 43735 | I15: ACME Film
A16: =IF(B16<>"",ROWS($B$6:B16),"") -> 11 | B16: Liūtas karalius | C16: The Lion King | D16: US | E16: 34726.93 | F16: 6994 | G16: 13 | H16: 43665 | I16: Theatrical Film Distribution / WDSMPI
A17: =IF(B17<>"",ROWS($B$6:B17),"") -> 12 | B17: Žaislų istorija 4 | C17: Toy Story 4 | D17: US | E17: 33831.87 | F17: 7140 | G17: 13 | H17: 43686 | I17: Theatrical Film Distribution / WDSMPI
A18: =IF(B18<>"",ROWS($B$6:B18),"") -> 13 | B18: Gimtinė | C18: Motherland | D18: LT | E18: 28180.86 | F18: 5349 | G18: 18 | H18: 43714 | I18: ACME Film
A19: =IF(B19<>"",ROWS($B$6:B19),"") -> 14 | B19: Geri berniukai | C19: Good Boys | D19: US | E19: 27667 | F19: 4879 | G19: 9 | H19: 43700 | I19: NCG Distribution / Universal Pictures International
A20: =IF(B20<>"",ROWS($B$6:B20),"") -> 15 | B20: Slėpynės | C20: Ready Or Not | D20: US | E20: 25280.76 | F20: 4217 | G20: 9 | H20: 43700 | I20: Theatrical Film Distribution / 20th Century Fox
A21: =IF(B21<>"",ROWS($B$6:B21),"") -> 16 | B21: Rembo. Paskutinis kraujas | C21: Rambo V: Last Blood | D21: US | E21: 22898 | F21: 3791 | G21: 12 | H21: 43728 | I21: Garsų pasaulio įrašai
A22: =IF(B22<>"",ROWS($B$6:B22),"") -> 17 | B22: Angelo apgultis | C22: Angel Has Fallen | D22: US | E22: 22192 | F22: 4058 | G22: 14 | H22: 43707 | I22: Garsų pasaulio įrašai
A23: =IF(B23<>"",ROWS($B$6:B23),"") -> 18 | B23: Kur tu pradingai, Bernadeta? | C23: Where'd You Go, Bernadette | D23: US | E23: 21896.91 | F23: 4042 | G23: 19 | H23: 43714 | I23: VLG Film
A24: =IF(B24<>"",ROWS($B$6:B24),"") -> 19 | B24: Tėtušio milijonai | C24: Дорогой папа | D24: RU | E24: 20626 | F24: 3426 | G24: 8 | H24: 43721 | I24: Garsų pasaulio įrašai
A25: =IF(B25<>"",ROWS($B$6:B25),"") -> 20 | B25: Greiti ir įsiutę: Hobsas ir Šo | C25: Fast & Furious Presents: Hobbs & Shaw | D25: US | E25: 17676 | F25: 3053 | G25: 8 | H25: 43679 | I25: NCG Distribution / Universal Pictures International
A26: =IF(B26<>"",ROWS($B$6:B26),"") -> 21 | B26: (Ne) Tikros prancūziškos vestuvės 2 | C26: Qu'est-ce qu'on a fait au Bon Dieu? 2 | D26: FR | E26: 16164.2 | F26: 2768 | G26: 6 | H26: 43714 | I26: Kino pasaka
A27: =IF(B27<>"",ROWS($B$6:B27),"") -> 22 | B27: Informatorius | C27: Three Seconds (Informer) | D27: UK | E27: 11892.31 | F27: 1946 | G27: 11 | H27: 43735 | I27: ACME Film
A28: =IF(B28<>"",ROWS($B$6:B28),"") -> 23 | B28: Agentė | C28: Operative | D28: US, IL | E28: 9861 | F28: 1830 | G28: 12 | H28: 43714 | I28: Garsų pasaulio įrašai
A29: =IF(B29<>"",ROWS($B$6:B29),"") -> 24 | B29: Merė: laivo prakeiksmas | C29: Mary | D29: US | E29: 9507.92 | F29: 1551 | G29: 10 | H29: 43735 | I29: Best Film
A30: =IF(B30<>"",ROWS($B$6:B30),"") -> 25 | B30: Vestuvės | C30: Vestuvės | D30: LT | E30: 9191.5 | F30: 2004 | G30: 8 | H30: 43686 | I30: Film Jam
A31: =IF(B31<>"",ROWS($B$6:B31),"") -> 26 | B31: Keista tiesa | C31: Strange But True | D31: CA | E31: 8822.95 | F31: 1544 | G31: 12 | H31: 43721 | I31: Theatrical Film Distribution
A32: =IF(B32<>"",ROWS($B$6:B32),"") -> 27 | B32: Ar gali išsaugoti paslaptį | C32: Can you keep a secret? | D32: US | E32: 5684.78 | F32: 927 | G32: 12 | H32: 43735 | I32: VLG Film
A33: =IF(B33<>"",ROWS($B$6:B33),"") -> 28 | B33: Sniego vaikis | C33: Abominable | D33: CN, US | E33: 5581 | F33: 1046 | G33: 2 | H33: 43742 | I33: NCG Distribution / Universal Pictures International
A34: =IF(B34<>"",ROWS($B$6:B34),"") -> 29 | B34: Šokių kovos | C34: Битва | D34: RU | E34: 5324.76 | F34: 948 | G34: 7 | H34: 43707 | I34: ACME Film
A35: =IF(B35<>"",ROWS($B$6:B35),"") -> 30 | B35: Juodojo drakono pėdsakais | C35: Mystery of Iron Mask | D35: RU, CN | E35: 4947 | F35: 850 | G35: 16 | H35: 43735 | I35: Garsų pasaulio įrašai
A36: =IF(B36<>"",ROWS($B$6:B36),"") -> 31 | B36: Animus Animalis (istorija apie žmones, žvėris ir daiktus) (Animus Animalis (A story about People, Animals and Things)) | C36: Animus Animalis (istorija apie žmones, žvėris ir daiktus) (Animus Animalis (A story about People, Animals and Things)) | D36: LT | E36: 3874.29 | F36: 1259 | G36: 7 | H36: 43721 | I36: Meno avilys
A37: =IF(B37<>"",ROWS($B$6:B37),"") -> 32 | B37: Abigailė | C37: Эбигейл | D37: RU | E37: 3720 | F37: 735 | G37: 4 | H37: 43707 | I37: Top FilmBaltic
A38: =IF(B38<>"",ROWS($B$6:B38),"") -> 33 | B38: Damų laimė | C38: Les Dames | D38: CH | E38: 3624.68 | F38: 1211 | G38: 5 | H38: 43707 | I38: Greta Garbo Films
A39: =IF(B39<>"",ROWS($B$6:B39),"") -> 34 | B39: Medaus šalis | C39: Honeyland | D39: MK | E39: 3591.5 | F39: 747 | G39: 4 | H39: 43714 | I39: Kino pasaka
A40: =IF(B40<>"",ROWS($B$6:B40),"") -> 35 | B40: Nepaprasta Remio kelionė | C40: Rémi sans famille | D40: FR | E40: 3209.37 | F40: 708 | G40: 8 | H40: 43707 | I40: Estinfilms
A41: =IF(B41<>"",ROWS($B$6:B41),"") -> 36 | B41: Halstonas: šlovės ir nuopuolio istorija | C41: Halston | D41: US | E41: 2914.1 | F41: 566 | G41: 7 | H41: 43721 | I41: Greta Garbo Films
A42: =IF(B42<>"",ROWS($B$6:B42),"") -> 37 | B42: Zerovilis | C42: Zeroville | D42: US | E42: 2862.43 | F42: 532 | G42: 7 | H42: 43735 | I42: Travolta
A43: =IF(B43<>"",ROWS($B$6:B43),"") -> 38 | B43: Agnes apie Varda | C43: Agnes par Varda | D43: FR | E43: 2018.5 | F43: 523 | G43: 4 | H43: 43728 | I43: A-one Films
A44: =IF(B44<>"",ROWS($B$6:B44),"") -> 39 | B44: Aušros pažadas | C44: Promise at Dawn | D44: FR | E44: 1969.83 | F44: 440 | G44: 2 | H44: 43672 | I44: Best Film
A45: =IF(B45<>"",ROWS($B$6:B45),"") -> 40 | B45: Mano angelas | C45: Angel of Mine | D45: AU, US | E45: 1944.12 | F45: 375 | G45: 12 | H45: 43707 | I45: Theatrical Film Distribution
A46: =IF(B46<>"",ROWS($B$6:B46),"") -> 41 | B46: Mano akių šviesa | C46: Light of My Life | D46: US | E46: 1828.57 | F46: 360 | G46: 4 | H46: 43700 | I46: Travolta
... A49: =IF(B49<>"",ROWS($B$6:B49),"") -> 44 | B49: Pavarotti | C49: Pavarotti | D49: UK, US | E49: 1196 | F49: 300 | G49: 2 | H49: 43672 | I49: VLG Film
A50: =IF(B50<>"",ROWS($B$6:B50),"") -> 45 | B50: Lietinga diena Niujorke | C50: A Rainy Day in New York | D50: US | E50: 1063.5 | F50: 194 | G50: 2 | H50: 43679 | I50: ACME Film
A51: =IF(B51<>"",ROWS($B$6:B51),"") -> 46 | B51: Šiurpios istorijos pasakojimui tamsoje | C51: Scary Stories to Tell in the Dark | D51: CA, US | E51: 884.23 | F51: 192 | G51: 2 | H51: 43686 | I51: ACME Film
A52: =IF(B52<>"",ROWS($B$6:B52),"") -> 47 | B52: TAS | C52: IT | D52: US | E52: 661 | F52: 157 | G52: 2 | H52: 42986 | I52: ACME Film / WB
A53: =IF(B53<>"",ROWS($B$6:B53),"") -> 48 | B53: Odesa | C53: Одесса | D53: RU | E53: 648 | F53: 191 | G53: 2 | H53: 43714 | I53: Garsų pasaulio įrašai
A54: =IF(B54<>"",ROWS($B$6:B54),"") -> 49 | B54: Didelis blogas lapinas ir kitos istorijos | C54: Le grand méchant renard et autres contes... | D54: BE, FR | E54: 561 | F54: 267 | G54: 1 | H54: 43379 | I54: Skalvijos kino centras
A55: =IF(B55<>"",ROWS($B$6:B55),"") -> 50 | B55: Tarp pilkų debesų | C55: Ashes in the Snow | D55: LT,UK | E55: 560 | F55: 141 | G55: 1 | H55: 43385 | I55: ACME Film
A56: =IF(B56<>"",ROWS($B$6:B56),"") -> 51 | B56: Second Hand | C56: Second Hand | D56: LT, IE, CH | E56: 529.27 | F56: 310 | G56: 2 | H56: 43616 | I56: Ultra Nominum
A57: =IF(B57<>"",ROWS($B$6:B57),"") -> 52 | B57: Kodėl mes kūrybingi? | C57: Why Are We Creative? | D57: DE | E57: 459 | F57: 116 | G57: 3 | H57: 43658 | I57: Best Film
A58: =IF(B58<>"",ROWS($B$6:B58),"") -> 53 | B58: Tamsta Varlius | C58: Meester Kikker | D58: NL | E58: 426 | F58: 162 | G58: 1 | H58: 42654 | I58: Skalvijos kino centras
A59: =IF(B59<>"",ROWS($B$6:B59),"") -> 54 | B59: Anabelė 3 | C59: Annabelle Comes Home (Annabelle 3) | D59: US | E59: 275.1 | F59: 39 | G59: 1 | H59: 43658 | I59: ACME Film / WB
A60: =IF(B60<>"",ROWS($B$6:B60),"") -> 55 | B60: Kūdikis | C60: Pupille | D60: FR | E60: 199.98 | F60: 120 | G60: 1 | H60: 43588 | I60: Best Film
A61: =IF(B61<>"",ROWS($B$6:B61),"") -> 56 | B61: Kaimynė šnipė | C61: Next Door Spy | D61: DK | E61: 160 | F61: 84 | G61: 1 | H61: 43015 | I61: Skalvijos kino centras
A62: =IF(B62<>"",ROWS($B$6:B62),"") -> 57 | B62: Sengirė | C62: Sengirė | D62: LT | E62: 111 | F62: 31 | G62: 3 | H62: 43189 | I62: VšĮ Sengirė
A63: =IF(B63<>"",ROWS($B$6:B63),"") -> 58 | B63: Pakeliui į mokyklą | C63: Sur le Chemin de lʾécole | D63: FR, CN, ZA, BR, CO, | E63: 110 | F63: 55 | G63: 1 | H63: 42030 | I63: Skalvijos kino centras
A64: =IF(B64<>"",ROWS($B$6:B64),"") -> 59 | B64: Panelė Rūgštynė | C64: Jamais Contente | D64: FR | E64: 105 | F64: 35 | G64: 1 | H64: 42721 | I64: Skalvijos kino centras
A65: =IF(B65<>"",ROWS($B$6:B65),"") -> 60 | B65: Bulius Ferdinandas | C65: Ferdinand | D65: US | E65: 104 | F65: 52 | G65: 1 | H65: 43084 | I65: Theatrical Film Distribution / 20th Century Fox
A66: =IF(B66<>"",ROWS($B$6:B66),"") -> 61 | B66: Slaptas augintinių gyvenimas 2 | C66: Secret Life of Pets 2 | D66: US | E66: 70 | F66: 20 | G66: 1 | H66: 43616 | I66: NCG Distribution / Universal Pictures International
A67: =IF(B67<>"",ROWS($B$6:B67),"") -> 62 | B67: Rūgštus miškas | C67: ACID FOREST | D67: LT | E67: 29 | F67: 8 | G67: 1 | H67: 43560 | I67: Neon Realism
A68: =IF(B68<>"",ROWS($B$6:B68),"") -> 63 | B68: Grinčas | C68: The Grinch | D68: US | E68: 28 | F68: 17 | G68: 1 | H68: 43434 | I68: NCG Distribution / Universal Pictures International
A69: =IF(B69<>"",ROWS($B$6:B69),"") -> 64 | B69: Nerealieji 2 | C69: Incredibles 2 | D69: US | E69: 28 | F69: 14 | G69: 1 | H69: 43315 | I69: Theatrical Film Distribution / WDSMPI
A70: =IF(B70<>"",ROWS($B$6:B70),"") -> 65 | B70: Monstrų viešbutis 3: Atostogos | C70: Hotel Transylvania 3 | D70: US | E70: 18 | F70: 9 | G70: 1 | H70: 43294 | I70: ACME Film / SONY
A71: =IF(B71<>"",ROWS($B$6:B71),"") -> 66 | B71: Gernsio literatūros ir bulvių lupenų pyrago draugija | C71: Guernsey Literary and Potato Peel Pie Society | D71: UK, FR, US | E71: 10.67 | F71: 3 | G71: 1 | H71: 43679 | I71: Best Film
E72: =SUBTOTAL(109,Table3_Rugsėjis[Pajamos]) -> 1457183.1 | F72: =SUBTOTAL(109,Table3_Rugsėjis[Žiūrovų skaičius]) -> 257870

Sheet Spalis
A1: ='2019'!A1 -> 2019
A2: ='2019'!A2 -> Lietuvos kino teatruose rodytų filmų TOP
A3: Spalis
A5: Eil. Nr. | B5: Filmo pavadinimas | C5: Filmo pavadinimas originalo kalba | D5: Kilmės šalis | E5: Pajamos | F5: Žiūrovų skaičius | G5: Kopijų skaičius | H5: Premjeros data | I5: Platintojas
A6: =IF(B6<>"",ROWS($B$6:B6),"") -> 1 | B6: Džokeris | C6: Joker | D6: US, CA | E6: 811329.8 | F6: 128747 | G6: 17 | H6: 43742 | I6: ACME Film / WB
A7: =IF(B7<>"",ROWS($B$6:B7),"") -> 2 | B7: Pats sau milijonierius | C7: Pats sau milijonierius | D7: LT | E7: 761965.44 | F7: 123436 | G7: 20 | H7: 43756 | I7: Stambus planas
A8: =IF(B8<>"",ROWS($B$6:B8),"") -> 3 | B8: Sniego vaikis | C8: Abominable | D8: CN, US | E8: 257874.65 | F8: 52694 | G8: 17 | H8: 43742 | I8: NCG Distribution / Universal Pictures International
A9: =IF(B9<>"",ROWS($B$6:B9),"") -> 4 | B9: Piktadarės istorija 2 | C9: Maleficent: Mistress of Evil | D9: US | E9: 93949.39 | F9: 16443 | G9: 23 | H9: 43763 | I9: Theatrical Film Distribution / WDSMPI
A10: =IF(B10<>"",ROWS($B$6:B10),"") -> 5 | B10: Dvynys | C10: Gemini Man | D10: US, CN | E10: 76435 | F10: 12155 | G10: 16 | H10: 43749 | I10: NCG Distribution / Paramount Pictures
A11: =IF(B11<>"",ROWS($B$6:B11),"") -> 6 | B11: Aferistės | C11: Hustlers | D11: US | E11: 66354.82 | F11: 12372 | G11: 8 | H11: 43728 | I11: ACME Film
A12: =IF(B12<>"",ROWS($B$6:B12),"") -> 7 | B12: Ad Astra | C12: Ad Astra | D12: US | E12: 61505.24 | F12: 11250 | G12: 10 | H12: 43728 | I12: Theatrical Film Distribution / 20th Century Fox
A13: =IF(B13<>"",ROWS($B$6:B13),"") -> 8 | B13: Šuniškas pokštas | C13: Trouble | D13: US, CA | E13: 61496.96 | F13: 13777 | G13: 16 | H13: 43749 | I13: ACME Film
A14: =IF(B14<>"",ROWS($B$6:B14),"") -> 9 | B14: Mirties APPS'AS | C14: Countdown | D14: US | E14: 55126.36 | F14: 9308 | G14: 9 | H14: 43763 | I14: ACME Film
A15: =IF(B15<>"",ROWS($B$6:B15),"") -> 10 | B15: Piktieji paukščiai. Filmas 2 | C15: The Angry Birds Movie 2 | D15: FI, US | E15: 40302.93 | F15: 8387 | G15: 7 | H15: 43700 | I15: ACME Film / SONY
A16: =IF(B16<>"",ROWS($B$6:B16),"") -> 11 | B16: Šuns tikslas 2 | C16: Molly and Max (A Dog's Journey) | D16: US | E16: 39450.56 | F16: 8396 | G16: 8 | H16: 43721 | I16: ACME Film
A17: =IF(B17<>"",ROWS($B$6:B17),"") -> 12 | B17: PLAYMOBIL filmas | C17: Playmobil: The Movie | D17: FR, US | E17: 30341.85 | F17: 7247 | G17: 16 | H17: 43763 | I17: ACME Film
A18: =IF(B18<>"",ROWS($B$6:B18),"") -> 13 | B18: Zombių žemė: Kontrolinis šūvis | C18: Zombieland 2 | D18: US | E18: 29514.85 | F18: 5136 | G18: 13 | H18: 43763 | I18: ACME Film / SONY
A19: =IF(B19<>"",ROWS($B$6:B19),"") -> 14 | B19: Mažulė Džeksi | C19: Jexi (Lexi) | D19: US | E19: 28923.24 | F19: 5004 | G19: 13 | H19: 43749 | I19: ACME Film
A20: =IF(B20<>"",ROWS($B$6:B20),"") -> 15 | B20: Bėglys | C20: Герой | D20: RU | E20: 24597 | F20: 4105 | G20: 4 | H20: 43742 | I20: Garsų pasaulio įrašai
A21: =IF(B21<>"",ROWS($B$6:B21),"") -> 16 | B21: Raudonbatė ir 7 Nykštukai | C21: Red Shoes and the Seven Dwarfs | D21: KR | E21: 24402.97 | F21: 5754 | G21: 13 | H21: 43735 | I21: ACME Film
A22: =IF(B22<>"",ROWS($B$6:B22),"") -> 17 | B22: Kita tylos pusė | C22: Kita tylos pusė | D22: LT | E22: 22176 | F22: 4771 | G22: 17 | H22: 43742 | I22: Garsų pasaulio įrašai
A23: =IF(B23<>"",ROWS($B$6:B23),"") -> 18 | B23: Nematoma | C23: Nematoma | D23: LT, LV, UA | E23: 20536 | F23: 4584 | G23: 13 | H23: 43728 | I23: VLG Film
A24: =IF(B24<>"",ROWS($B$6:B24),"") -> 19 | B24: Aš esu Leonardo | C24: I, Leonardo | D24: IT | E24: 17942 | F24: 3203 | G24: 13 | H24: 43763 | I24: Best Film
A25: =IF(B25<>"",ROWS($B$6:B25),"") -> 20 | B25: Vieną kartą Holivude | C25: Once Upon a Time... in Hollywood | D25: US, UK, CN | E25: 15565.06 | F25: 2751 | G25: 5 | H25: 43693 | I25: ACME Film / SONY
A26: =IF(B26<>"",ROWS($B$6:B26),"") -> 21 | B26: Jie | C26: Haunt | D26: US | E26: 12071 | F26: 2231 | G26: 13 | H26: 43756 | I26: Garsų pasaulio įrašai
A27: =IF(B27<>"",ROWS($B$6:B27),"") -> 22 | B27: Merė: laivo prakeiksmas | C27: Mary | D27: US | E27: 11345.44 | F27: 2324 | G27: 4 | H27: 43735 | I27: Best Film
A28: =IF(B28<>"",ROWS($B$6:B28),"") -> 23 | B28: TAS: Antroji dalis | C28: IT 2 | D28: US | E28: 10105.98 | F28: 2048 | G28: 5 | H28: 43714 | I28: ACME Film / WB
A29: =IF(B29<>"",ROWS($B$6:B29),"") -> 24 | B29: Po vedybų | C29: After the wedding | D29: US | E29: 10097.42 | F29: 1691 | G29: 11 | H29: 43749 | I29: VLG Film
A30: =IF(B30<>"",ROWS($B$6:B30),"") -> 25 | B30: Vieša paslaptis | C30: Official Secrets | D30: UK, US | E30: 9436.04 | F30: 1584 | G30: 13 | H30: 43742 | I30: ACME Film
A31: =IF(B31<>"",ROWS($B$6:B31),"") -> 26 | B31: Šokis svajonės ritmu 2 | C31: High Strung Free Dance | D31: US, RO | E31: 9421 | F31: 1734 | G31: 13 | H31: 43749 | I31: Garsų pasaulio įrašai
A32: =IF(B32<>"",ROWS($B$6:B32),"") -> 27 | B32: Elniuko Ailo kelionė per Laplandiją | C32: Aïlo: Une odyssée en Laponie | D32: FI, FR | E32: 8076.43 | F32: 2159 | G32: 17 | H32: 43763 | I32: Estinfilms
A33: =IF(B33<>"",ROWS($B$6:B33),"") -> 28 | B33: Informatorius | C33: Three Seconds (Informer) | D33: UK | E33: 7130.65 | F33: 1724 | G33: 5 | H33: 43735 | I33: ACME Film
A34: =IF(B34<>"",ROWS($B$6:B34),"") -> 29 | B34: Kusama | C34: Kusama: Infinity | D34: US | E34: 6972 | F34: 1144 | G34: 2 | H34: 43763 | I34: Kino pasaka
A35: =IF(B35<>"",ROWS($B$6:B35),"") -> 30 | B35: Ar gali išsaugoti paslaptį | C35: Can you keep a secret? | D35: US | E35: 6109 | F35: 1439 | G35: 2 | H35: 43735 | I35: VLG Film
A36: =IF(B36<>"",ROWS($B$6:B36),"") -> 31 | B36: Auksinė pirštinė | C36: Der goldene Handschuh | D36: DE | E36: 4667.8 | F36: 1040 | G36: 8 | H36: 43756 | I36: A-one films
A37: =IF(B37<>"",ROWS($B$6:B37),"") -> 32 | B37: Čia buvo Saša | C37: Čia buvo Saša | D37: LT | E37: 3875 | F37: 935 | G37: 4 | H37: 43693 | I37: Dansu films
A38: =IF(B38<>"",ROWS($B$6:B38),"") -> 33 | B38: Dauntono Abatija | C38: Downton Abbey | D38: UK | E38: 3833.52 | F38: 722 | G38: 7 | H38: 43721 | I38: NCG Distribution / Universal Pictures International
A39: =IF(B39<>"",ROWS($B$6:B39),"") -> 34 | B39: Džono F. Donovano mirtis ir gyvenimas | C39: The death & life of John F. Donovan | D39: UK, CA | E39: 3707.02 | F39: 813 | G39: 8 | H39: 43742 | I39: VLG Film
A40: =IF(B40<>"",ROWS($B$6:B40),"") -> 35 | B40: Terminatorius. Tamsus likimas | C40: Terminator: Dark Fate | D40: US | E40: 3698.11 | F40: 598 | G40: 6 | H40: 43770 | I40: Theatrical Film Distribution / 20th Century Fox
A41: =IF(B41<>"",ROWS($B$6:B41),"") -> 36 | B41: Liūtas karalius | C41: The Lion King | D41: US | E41: 3298.6 | F41: 673 | G41: 5 | H41: 43665 | I41: Theatrical Film Distribution / WDSMPI
A42: =IF(B42<>"",ROWS($B$6:B42),"") -> 37 | B42: Juodojo drakono pėdsakais | C42: Mystery of Iron Mask | D42: RU, CN | E42: 3239 | F42: 714 | G42: 5 | H42: 43735 | I42: Garsų pasaulio įrašai
A43: =IF(B43<>"",ROWS($B$6:B43),"") -> 38 | B43: (Ne) Tikros prancūziškos vestuvės 2 | C43: Qu'est-ce qu'on a fait au Bon Dieu? 2 | D43: FR | E43: 3135.2 | F43: 532 | G43: 3 | H43: 43714 | I43: Kino pasaka
A44: =IF(B44<>"",ROWS($B$6:B44),"") -> 39 | B44: Rembo. Paskutinis kraujas | C44: Rambo V: Last Blood | D44: US | E44: 2782 | F44: 710 | G44: 1 | H44: 43728 | I44: Garsų pasaulio įrašai
A45: =IF(B45<>"",ROWS($B$6:B45),"") -> 40 | B45: Zerovilis | C45: Zeroville | D45: US | E45: 2435.84 | F45: 657 | G45: 7 | H45: 43735 | I45: Travolta
A46: =IF(B46<>"",ROWS($B$6:B46),"") -> 41 | B46: Karo žaidimai | C46: Krig | D46: SE, DE | E46: 2030 | F46: 934 | G46: 1 | H46: 42475 | I46: KC Garsas
A47: =IF(B47<>"",ROWS($B$6:B47),"") -> 42 | B47: Gimtinė | C47: Motherland | D47: LT | E47: 1664.8 | F47: 411 | G47: 2 | H47: 43714 | I47: ACME Film
A48: =IF(B48<>"",ROWS($B$6:B48),"") -> 43 | B48: Medaus šalis | C48: Honeyland | D48: MK | E48: 1469 | F48: 141 | G48: 2 | H48: 43714 | I48: Kino pasaka
A49: =IF(B49<>"",ROWS($B$6:B49),"") -> 44 | B49: Panelė Rūgštynė | C49: Jamais Contente | D49: FR | E49: 1254 | F49: 366 | G49: 1 | H49: 42721 | I49: Skalvijos kino centras
A50: =IF(B50<>"",ROWS($B$6:B50),"") -> 45 | B50: Pavarotti | C50: Pavarotti | D50: UK, US | E50: 1049 | F50: 228 | G50: 1 | H50: 43672 | I50: VLG Film
A51: =IF(B51<>"",ROWS($B$6:B51),"") -> 46 | B51: Kaimynė šnipė | C51: Next Door Spy | D51: DK | E51: 999 | F51: 333 | G51: 1 | H51: 43015 | I51: Skalvijos kino centras
A52: =IF(B52<>"",ROWS($B$6:B52),"") -> 47 | B52: Tamsta Varlius | C52: Meester Kikker | D52: NL | E52: 949 | F52: 329 | G52: 1 | H52: 42654 | I52: Skalvijos kino centras
A53: =IF(B53<>"",ROWS($B$6:B53),"") -> 48 | B53: Neapolio Piranijos | C53: La paranza dei bambini | D53: IT | E53: 927.5 | F53: 181 | G53: 5 | H53: 43756 | I53: VLG Film
A54: =IF(B54<>"",ROWS($B$6:B54),"") -> 49 | B54: Geri berniukai | C54: Good Boys | D54: US | E54: 887 | F54: 160 | G54: 1 | H54: 43700 | I54: NCG Distribution / Universal Pictures International
A55: =IF(B55<>"",ROWS($B$6:B55),"") -> 50 | B55: Žaislų istorija 4 | C55: Toy Story 4 | D55: US | E55: 884.32 | F55: 197 | G55: 4 | H55: 43686 | I55: Theatrical Film Distribution / WDSMPI
A56: =IF(B56<>"",ROWS($B$6:B56),"") -> 51 | B56: Sengirė | C56: Sengirė | D56: LT | E56: 744 | F56: 152 | G56: 2 | H56: 43189 | I56: VšĮ Sengirė
A57: =IF(B57<>"",ROWS($B$6:B57),"") -> 52 | B57: Tėtušio milijonai | C57: Дорогой папа | D57: RU | E57: 689 | F57: 109 | G57: 1 | H57: 43721 | I57: Garsų pasaulio įrašai
A58: =IF(B58<>"",ROWS($B$6:B58),"") -> 53 | B58: Atsargiai, ragana | C58: Zlogonje | D58: MK | E58: 483 | F58: 147 | G58: 1 | H58: 43435 | I58: Skalvijos kino centras
A59: =IF(B59<>"",ROWS($B$6:B59),"") -> 54 | B59: Pakeliui į mokyklą | C59: Sur le Chemin de lʾécole | D59: FR, CN, ZA, BR, CO | E59: 428 | F59: 107 | G59: 1 | H59: 42030 | I59: Skalvijos kino centras
... A61: =IF(B61<>"",ROWS($B$6:B61),"") -> 56 | B61: Animus Animalis (istorija apie žmones, žvėris ir daiktus) (Animus Animalis (A story about People, Animals and Things)) | C61: Animus Animalis (istorija apie žmones, žvėris ir daiktus) (Animus Animalis (A story about People, Animals and Things)) | D61: LT | E61: 309 | F61: 88 | G61: 1 | H61: 43721 | I61: Meno avilys
A62: =IF(B62<>"",ROWS($B$6:B62),"") -> 57 | B62: Lietinga diena Niujorke | C62: A Rainy Day in New York | D62: US | E62: 262 | F62: 45 | G62: 1 | H62: 43679 | I62: ACME Film
A63: =IF(B63<>"",ROWS($B$6:B63),"") -> 58 | B63: Didelis blogas lapinas ir kitos istorijos | C63: Le grand méchant renard et autres contes... | D63: BE, FR | E63: 250 | F63: 50 | G63: 1 | H63: 43379 | I63: Skalvijos kino centras
A64: =IF(B64<>"",ROWS($B$6:B64),"") -> 59 | B64: Gerumo stebuklas | C64: Wonder | D64: US | E64: 214 | F64: 107 | G64: 1 | H64: 43056 | I64: ACME Film
A65: =IF(B65<>"",ROWS($B$6:B65),"") -> 60 | B65: Slėpynės | C65: Ready Or Not | D65: US | E65: 181.5 | F65: 37 | G65: 1 | H65: 43700 | I65: Theatrical Film Distribution / 20th Century Fox
A66: =IF(B66<>"",ROWS($B$6:B66),"") -> 61 | B66: Ekskursantė | C66: Ekskursantė | D66: LT | E66: 150 | F66: 75 | G66: 1 | H66: 41544 | I66: Cinemark
A67: =IF(B67<>"",ROWS($B$6:B67),"") -> 62 | B67: Aušros pažadas | C67: Promise at Dawn | D67: FR | E67: 137.83 | F67: 69 | G67: 1 | H67: 43672 | I67: Best Film
E68: =SUBTOTAL(109,Table3_Spalis[Pajamos]) -> 2681565.1 | F68: =SUBTOTAL(109,Table3_Spalis[Žiūrovų skaičius]) -> 469446

Sheet Lapkritis
A1: ='2019'!A1 -> 2019
A2: ='2019'!A2 -> Lietuvos kino teatruose rodytų filmų TOP
A3: Lapkritis
A5: Eil. Nr. | B5: Filmo pavadinimas | C5: Filmo pavadinimas originalo kalba | D5: Kilmės šalis | E5: Pajamos | F5: Žiūrovų skaičius | G5: Kopijų skaičius | H5: Premjeros data | I5: Platintojas
A6: =IF(B6<>"",ROWS($B$6:B6),"") -> 1 | B6: Pats sau milijonierius | C6: Pats sau milijonierius | D6: LT | E6: 443074.09 | F6: 72330 | G6: 14 | H6: 43756 | I6: Stambus planas
A7: =IF(B7<>"",ROWS($B$6:B7),"") -> 2 | B7: Pasmerkti. Pajūrio džiazas | C7: Pasmerkti. Pajūrio džiazas | D7: LT | E7: 272000 | F7: 43248 | G7: 19 | H7: 43791 | I7: Singing fish
A8: =IF(B8<>"",ROWS($B$6:B8),"") -> 3 | B8: Džokeris | C8: Joker | D8: US, CA | E8: 160714.63 | F8: 25490 | G8: 12 | H8: 43742 | I8: ACME Film / WB
A9: =IF(B9<>"",ROWS($B$6:B9),"") -> 4 | B9: Le Manas'66. Plento karaliai | C9: Ford v. Ferrari | D9: US | E9: 120116.93 | F9: 19413 | G9: 16 | H9: 43794 | I9: Theatrical Film Distribution / 20th Century Fox
A10: =IF(B10<>"",ROWS($B$6:B10),"") -> 5 | B10: Midvėjaus mūšis | C10: Midway | D10: US, CN | E10: 116344.44 | F10: 18351 | G10: 15 | H10: 43777 | I10: ACME Film
A11: =IF(B11<>"",ROWS($B$6:B11),"") -> 6 | B11: Terminatorius. Tamsus likimas | C11: Terminator: Dark Fate | D11: US | E11: 109144.45 | F11: 16936 | G11: 14 | H11: 43770 | I11: Theatrical Film Distribution / 20th Century Fox
A12: =IF(B12<>"",ROWS($B$6:B12),"") -> 7 | B12: Sniego vaikis | C12: Abominable | D12: CN, US | E12: 86890.76 | F12: 17247 | G12: 10 | H12: 43742 | I12: NCG Distribution / Universal Pictures International
A13: =IF(B13<>"",ROWS($B$6:B13),"") -> 8 | B13: Piktadarės istorija 2 | C13: Maleficent: Mistress of Evil | D13: US | E13: 82977.99 | F13: 14223 | G13: 19 | H13: 43763 | I13: Theatrical Film Distribution / WDSMPI
A14: =IF(B14<>"",ROWS($B$6:B14),"") -> 9 | B14: Adamsų šeimynėlė | C14: The Addams Family | D14: US | E14: 82432.42 | F14: 15507 | G14: 16 | H14: 43798 | I14: NCG Distribution / Universal Pictures International
A15: =IF(B15<>"",ROWS($B$6:B15),"") -> 10 | B15: Aviuko Šono filmas. Fermagedonas | C15: Shaun the Sheep 2 (Shaun the Sheep Movie: Farmageddon) | D15: US, UK, FR | E15: 81146.88 | F15: 16833 | G15: 17 | H15: 43784 | I15: ACME Film
A16: =IF(B16<>"",ROWS($B$6:B16),"") -> 11 | B16: Daktaras miegas | C16: Doctor Sleep | D16: US | E16: 77025.58 | F16: 12504 | G16: 14 | H16: 43777 | I16: ACME Film / WB
A17: =IF(B17<>"",ROWS($B$6:B17),"") -> 12 | B17: Monstrų atostogos | C17: Legend of Hallowaiian | D17: US | E17: 58337 | F17: 13422 | G17: 18 | H17: 43770 | I17: Garsų pasaulio įrašai
A18: =IF(B18<>"",ROWS($B$6:B18),"") -> 13 | B18: Mirties APPS'AS | C18: Countdown | D18: US | E18: 48565.58 | F18: 7815 | G18: 8 | H18: 43763 | I18: ACME Film
A19: =IF(B19<>"",ROWS($B$6:B19),"") -> 14 | B19: Manu. Gimęs skraidyti | C19: Manou the Swift | D19: DE | E19: 44437.21 | F19: 9764 | G19: 17 | H19: 43791 | I19: Best Film
A20: =IF(B20<>"",ROWS($B$6:B20),"") -> 15 | B20: Aš esu Leonardo | C20: I, Leonardo | D20: IT | E20: 25556.22 | F20: 5008 | G20: 13 | H20: 43763 | I20: Best Film
A21: =IF(B21<>"",ROWS($B$6:B21),"") -> 16 | B21: Broliai meškinai ir fantastiškas nuotykis | C21: FANTASTICA: Boonie Bears Adventures | D21: CN | E21: 22427.6 | F21: 5003 | G21: 14 | H21: 43777 | I21: Travolta
A22: =IF(B22<>"",ROWS($B$6:B22),"") -> 17 | B22: Žinutė | C22: Текст | D22: RU | E22: 21772 | F22: 3410 | G22: 8 | H22: 43788 | I22: Theatrical Film Distribution
A23: =IF(B23<>"",ROWS($B$6:B23),"") -> 18 | B23: Čarlio angelai | C23: Charlie's Angels | D23: US | E23: 21191.73 | F23: 3850 | G23: 14 | H23: 43784 | I23: ACME Film / SONY
A24: =IF(B24<>"",ROWS($B$6:B24),"") -> 19 | B24: Ištraukti peiliai | C24: Knives Out | D24: US | E24: 19217.06 | F24: 3157 | G24: 12 | H24: 43798 | I24: ACME Film
A25: =IF(B25<>"",ROWS($B$6:B25),"") -> 20 | B25: O tada mes šokome | C25: And Then We Danced | D25: SE, GE, FR | E25: 17189 | F25: 3666 | G25: 8 | H25: 43791 | I25: A-one Films
A26: =IF(B26<>"",ROWS($B$6:B26),"") -> 21 | B26: Sutemose | C26: Sutemose | D26: LT, FR, CZ, RS, PT, LV | E26: 17084.73 | F26: 3384 | G26: 23 | H26: 43798 | I26: Kinema
A27: =IF(B27<>"",ROWS($B$6:B27),"") -> 22 | B27: Troškimų kambarys | C27: The room | D27: FR, LX, BE | E27: 16543.56 | F27: 2810 | G27: 14 | H27: 43770 | I27: VLG Film
A28: =IF(B28<>"",ROWS($B$6:B28),"") -> 23 | B28: Leónė. Bėganti į šviesą | C28: Leónė. Bėganti į šviesą | D28: LT | E28: 15908 | F28: 3191 | G28: 10 | H28: 43770 | I28: Juodas Katinas
A29: =IF(B29<>"",ROWS($B$6:B29),"") -> 24 | B29: 21 tiltas | C29: 21 Bridges | D29: US | E29: 14563.41 | F29: 2425 | G29: 10 | H29: 43791 | I29: ACME Film
A30: =IF(B30<>"",ROWS($B$6:B30),"") -> 25 | B30: Dabar jau skyrybos | C30: Давай разведемся! | D30: RU | E30: 13662 | F30: 2073 | G30: 8 | H30: 43798 | I30: VLG Film
A31: =IF(B31<>"",ROWS($B$6:B31),"") -> 26 | B31: PLAYMOBIL filmas | C31: Playmobil: The Movie | D31: FR, US | E31: 13506.84 | F31: 3035 | G31: 13 | H31: 43763 | I31: ACME Film
A32: =IF(B32<>"",ROWS($B$6:B32),"") -> 27 | B32: Šuniškas pokštas | C32: Trouble | D32: US, CA | E32: 10294.9 | F32: 2091 | G32: 9 | H32: 43749 | I32: ACME Film
A33: =IF(B33<>"",ROWS($B$6:B33),"") -> 28 | B33: Zombių žemė: Kontrolinis šūvis | C33: Zombieland 2 | D33: US | E33: 9300.66 | F33: 1630 | G33: 9 | H33: 43763 | I33: ACME Film / SONY
A34: =IF(B34<>"",ROWS($B$6:B34),"") -> 29 | B34: Devintoji | C34: Девятая | D34: RU | E34: 7365.82 | F34: 1192 | G34: 6 | H34: 43784 | I34: ACME Film
A35: =IF(B35<>"",ROWS($B$6:B35),"") -> 30 | B35: Kokaino baronas | C35: Running with the Devil | D35: US, CO | E35: 7296.39 | F35: 1186 | G35: 9 | H35: 43798 | I35: Travolta
A36: =IF(B36<>"",ROWS($B$6:B36),"") -> 31 | B36: Valstybinės laidotuvės | C36: State Funeral | D36: LT, UA, NL | E36: 7067 | F36: 1554 | G36: 9 | H36: 43791 | I36: Garsų pasaulio įrašai
A37: =IF(B37<>"",ROWS($B$6:B37),"") -> 32 | B37: Forpostas | C37: Аванпост | D37: RU | E37: 6486.88 | F37: 1007 | G37: 4 | H37: 43791 | I37: ACME Film
A38: =IF(B38<>"",ROWS($B$6:B38),"") -> 33 | B38: Elniuko Ailo kelionė per Laplandiją | C38: Aïlo: Une odyssée en Laponie | D38: FI, FR | E38: 6015.3 | F38: 1583 | G38: 11 | H38: 43763 | I38: Estinfilms
A39: =IF(B39<>"",ROWS($B$6:B39),"") -> 34 | B39: Čia buvo Brita Marija | C39: Britt-Marie var här | D39: SE | E39: 5388.95 | F39: 1245 | G39: 10 | H39: 43791 | I39: Estinfilms
A40: =IF(B40<>"",ROWS($B$6:B40),"") -> 35 | B40: Rojaus kalvos | C40: Paradise Hills | D40: ES | E40: 4217.98 | F40: 757 | G40: 10 | H40: 43770 | I40: ACME Film
A41: =IF(B41<>"",ROWS($B$6:B41),"") -> 36 | B41: Kusama | C41: Kusama: Infinity | D41: US | E41: 3958.5 | F41: 964 | G41: 3 | H41: 43763 | I41: Kino pasaka
A42: =IF(B42<>"",ROWS($B$6:B42),"") -> 37 | B42: (Ne) Tikros prancūziškos vestuvės 2 | C42: Qu'est-ce qu'on a fait au Bon Dieu? 2 | D42: FR | E42: 3835.2 | F42: 663 | G42: 1 | H42: 43714 | I42: Kino pasaka
A43: =IF(B43<>"",ROWS($B$6:B43),"") -> 38 | B43: Medaus šalis | C43: Honeyland | D43: MK | E43: 2478 | F43: 547 | G43: 2 | H43: 43714 | I43: Kino pasaka
A44: =IF(B44<>"",ROWS($B$6:B44),"") -> 39 | B44: Panelė Rūgštynė | C44: Jamais Contente | D44: FR | E44: 2234 | F44: 500 | G44: 1 | H44: 42721 | I44: Skalvijos kino centras
A45: =IF(B45<>"",ROWS($B$6:B45),"") -> 40 | B45: Atsargiai, ragana | C45: Zlogonje | D45: MK | E45: 1860 | F45: 530 | G45: 1 | H45: 43435 | I45: Skalvijos kino centras
A46: =IF(B46<>"",ROWS($B$6:B46),"") -> 41 | B46: Šuns tikslas 2 | C46: Molly and Max (A Dog's Journey) | D46: US | E46: 1738.14 | F46: 437 | G46: 3 | H46: 43721 | I46: ACME Film
A47: =IF(B47<>"",ROWS($B$6:B47),"") -> 42 | B47: Vieną kartą Holivude | C47: Once Upon a Time... in Hollywood | D47: US, UK, CN | E47: 1708.77 | F47: 260 | G47: 7 | H47: 43693 | I47: ACME Film / SONY
A48: =IF(B48<>"",ROWS($B$6:B48),"") -> 43 | B48: Piktieji paukščiai. Filmas 2 | C48: The Angry Birds Movie 2 | D48: FI, US | E48: 1637.94 | F48: 345 | G48: 2 | H48: 43700 | I48: ACME Film / SONY
A49: =IF(B49<>"",ROWS($B$6:B49),"") -> 44 | B49: Po vedybų | C49: After the wedding | D49: US | E49: 1590.62 | F49: 401 | G49: 2 | H49: 43749 | I49: VLG Film
A50: =IF(B50<>"",ROWS($B$6:B50),"") -> 45 | B50: Kita tylos pusė | C50: Kita tylos pusė | D50: LT | E50: 1303 | F50: 509 | G50: 4 | H50: 43742 | I50: Garsų pasaulio įrašai
A51: =IF(B51<>"",ROWS($B$6:B51),"") -> 46 | B51: Tamsta Varlius | C51: Meester Kikker | D51: NL | E51: 1070 | F51: 325 | G51: 1 | H51: 42654 | I51: Skalvijos kino centras
A52: =IF(B52<>"",ROWS($B$6:B52),"") -> 47 | B52: Dvynys | C52: Gemini Man | D52: US, CN | E52: 912.2 | F52: 151 | G52: 1 | H52: 43749 | I52: NCG Distribution / Paramount Pictures
A53: =IF(B53<>"",ROWS($B$6:B53),"") -> 48 | B53: Pavarotti | C53: Pavarotti | D53: UK, US | E53: 801 | F53: 186 | G53: 2 | H53: 43672 | I53: VLG Film
A54: =IF(B54<>"",ROWS($B$6:B54),"") -> 49 | B54: Kaimynė šnipė | C54: Next Door Spy | D54: DK | E54: 792 | F54: 327 | G54: 1 | H54: 43015 | I54: Skalvijos kino centras
A55: =IF(B55<>"",ROWS($B$6:B55),"") -> 50 | B55: Dauntono Abatija | C55: Downton Abbey | D55: UK | E55: 740 | F55: 128 | G55: 1 | H55: 43721 | I55: NCG Distribution / Universal Pictures International
A56: =IF(B56<>"",ROWS($B$6:B56),"") -> 51 | B56: Ad Astra | C56: Ad Astra | D56: US | E56: 704.5 | F56: 113 | G56: 1 | H56: 43728 | I56: Theatrical Film Distribution / 20th Century Fox
A57: =IF(B57<>"",ROWS($B$6:B57),"") -> 52 | B57: Mažasis Princas | C57: Le Petit Prince | D57: FR | E57: 578 | F57: 289 | G57: 1 | H57: 42322 | I57: ACME Film
A58: =IF(B58<>"",ROWS($B$6:B58),"") -> 53 | B58: Išklausyk! (Programa vaikams) | C58: Luister | D58: NL | E58: 470 | F58: 193 | G58: 1 | H58: 43366 | I58: Skalvijos kino centras
A59: =IF(B59<>"",ROWS($B$6:B59),"") -> 54 | B59: Didelis blogas lapinas ir kitos istorijos | C59: Le grand méchant renard et autres contes... | D59: BE, FR | E59: 437 | F59: 216 | G59: 1 | H59: 43379 | I59: Skalvijos kino centras
A60: =IF(B60<>"",ROWS($B$6:B60),"") -> 55 | B60: Neapolio Piranijos | C60: La paranza dei bambini | D60: IT | E60: 401 | F60: 99 | G60: 3 | H60: 43756 | I60: VLG Film
... A65: =IF(B65<>"",ROWS($B$6:B65),"") -> 60 | B65: Gerumo stebuklas | C65: Wonder | D65: US | E65: 135 | F65: 27 | G65: 1 | H65: 43056 | I65: ACME Film
A66: =IF(B66<>"",ROWS($B$6:B66),"") -> 61 | B66: Raudonbatė ir 7 Nykštukai | C66: Red Shoes and the Seven Dwarfs | D66: KR | E66: 85 | F66: 19 | G66: 1 | H66: 43735 | I66: ACME Film
A67: =IF(B67<>"",ROWS($B$6:B67),"") -> 62 | B67: Arčiau debesų | C67: Cloudboy | D67: BG, SE, NL, NO | E67: 72 | F67: 36 | G67: 1 | H67: 42988 | I67: Skalvijos kino centras
A68: =IF(B68<>"",ROWS($B$6:B68),"") -> 63 | B68: Jie | C68: Haunt | D68: US | E68: 59 | F68: 12 | G68: 1 | H68: 43756 | I68: Garsų pasaulio įrašai
A69: =IF(B69<>"",ROWS($B$6:B69),"") -> 64 | B69: Gimtinė | C69: Motherland | D69: LT | E69: 50 | F69: 8 | G69: 1 | H69: 43714 | I69: ACME Film
E70: =SUBTOTAL(109,Table3_Lapkritis[Pajamos]) -> 2096145.9 | F70: =SUBTOTAL(109,Table3_Lapkritis[Žiūrovų skaičius]) -> 363997

Sheet Gruodis
A1: ='2019'!A1 -> 2019
A2: ='2019'!A2 -> Lietuvos kino teatruose rodytų filmų TOP
A3: Gruodis
A5: Eil. Nr. | B5: Filmo pavadinimas | C5: Filmo pavadinimas originalo kalba | D5: Kilmės šalis | E5: Pajamos | F5: Žiūrovų skaičius | G5: Kopijų skaičius | H5: Premjeros data | I5: Platintojas
A6: =IF(B6<>"",ROWS($B$6:B6),"") -> 1 | B6: Ledo šalis 2 | C6: Frozen 2 | D6: US | E6: 511960.65 | F6: 99784 | G6: 32 | H6: 43824 | I6: Theatrical Film Distribution / WDSMPI
A7: =IF(B7<>"",ROWS($B$6:B7),"") -> 2 | B7: Džiumandži: Kitas lygis | C7: Jumanji: The Next level (Jumanji 2) | D7: US | E7: 336961.86 | F7: 53687 | G7: 14 | H7: 43805 | I7: ACME Film / SONY
A8: =IF(B8<>"",ROWS($B$6:B8),"") -> 3 | B8: Žvaigždžių karai. Skaivokerio iškilimas | C8: Star Wars: The Rise of Skywalker | D8: US | E8: 231368.27 | F8: 35098 | G8: 25 | H8: 43817 | I8: Theatrical Film Distribution / WDSMPI
A9: =IF(B9<>"",ROWS($B$6:B9),"") -> 4 | B9: Adamsų šeimynėlė | C9: The Addams Family | D9: US | E9: 208075.48 | F9: 42937 | G9: 16 | H9: 43798 | I9: NCG Distribution / Universal Pictures International
A10: =IF(B10<>"",ROWS($B$6:B10),"") -> 5 | B10: Pasmerkti. Pajūrio džiazas | C10: Pasmerkti. Pajūrio džiazas | D10: LT | E10: 167646 | F10: 28475 | G10: 19 | H10: 43791 | I10: Singing fish
A11: =IF(B11<>"",ROWS($B$6:B11),"") -> 6 | B11: Last Christmas | C11: Last Christmas | D11: UK, US | E11: 130457.35 | F11: 20724 | G11: 16 | H11: 43805 | I11: NCG Distribution / Universal Pictures International
A12: =IF(B12<>"",ROWS($B$6:B12),"") -> 7 | B12: Ištraukti peiliai | C12: Knives Out | D12: US | E12: 101931.17 | F12: 17164 | G12: 12 | H12: 43798 | I12: ACME Film
A13: =IF(B13<>"",ROWS($B$6:B13),"") -> 8 | B13: Pašėlęs policininkas: Naujametinis nesusipratimas 2 | C13: Полицейский с Рублевки. Новогодний беспредел 2 | D13: RU | E13: 90139.23 | F13: 14599 | G13: 8 | H13: 43812 | I13: ACME Film
A14: =IF(B14<>"",ROWS($B$6:B14),"") -> 9 | B14: Sukeisti Kalėdų seneliai 2. Pamirštos kalėdos | C14: Santa Swap 2. Forgotten Christmas | D14: NO | E14: 55287.61 | F14: 13062 | G14: 16 | H14: 43819 | I14: Travolta
A15: =IF(B15<>"",ROWS($B$6:B15),"") -> 10 | B15: Pats sau milijonierius | C15: Pats sau milijonierius | D15: LT | E15: 54222.36 | F15: 9094 | G15: 10 | H15: 43756 | I15: Stambus planas
A16: =IF(B16<>"",ROWS($B$6:B16),"") -> 11 | B16: Tarnas | C16: Холоп | D16: RU | E16: 51973 | F16: 8268 | G16: 7 | H16: 43826 | I16: Garsų pasaulio įrašai
A17: =IF(B17<>"",ROWS($B$6:B17),"") -> 12 | B17: Le Manas'66. Plento karaliai | C17: Ford v. Ferrari | D17: US | E17: 43279.29 | F17: 7278 | G17: 9 | H17: 43794 | I17: Theatrical Film Distribution / 20th Century Fox
A18: =IF(B18<>"",ROWS($B$6:B18),"") -> 13 | B18: Drąsusis Mozlis | C18: Mosley | D18: NZ, CN | E18: 39743.28 | F18: 8937 | G18: 17 | H18: 43812 | I18: Theatrical Film Distribution
A19: =IF(B19<>"",ROWS($B$6:B19),"") -> 14 | B19: Sutemose | C19: Sutemose | D19: LT, FR, CZ, RS, PT, LV | E19: 34149.96 | F19: 8065 | G19: 23 | H19: 43798 | I19: Kinema
A20: =IF(B20<>"",ROWS($B$6:B20),"") -> 15 | B20: Orų mergaitė | C20: Wheathering with you | D20: JP | E20: 31798 | F20: 5499 | G20: 19 | H20: 43812 | I20: VLG Film
A21: =IF(B21<>"",ROWS($B$6:B21),"") -> 16 | B21: Nuostabi epocha | C21: La Belle Epoque | D21: FR | E21: 26409 | F21: 4889 | G21: 12 | H21: 43805 | I21: VLG Film
A22: =IF(B22<>"",ROWS($B$6:B22),"") -> 17 | B22: Cats | C22: Cats | D22: UK, US | E22: 22385.86 | F22: 3996 | G22: 16 | H22: 43826 | I22: NCG Distribution / Universal Pictures International
A23: =IF(B23<>"",ROWS($B$6:B23),"") -> 18 | B23: Dabar jau skyrybos | C23: Давай разведемся! | D23: RU | E23: 20525 | F23: 3558 | G23: 8 | H23: 43798 | I23: VLG Film
A24: =IF(B24<>"",ROWS($B$6:B24),"") -> 19 | B24: Tulpės, meilė, garbė ir dviratis | C24: Tulipani: Liefde, eer en een fiets | D24: NL | E24: 19925.69 | F24: 4225 | G24: 10 | H24: 43812 | I24: Artbox
A25: =IF(B25<>"",ROWS($B$6:B25),"") -> 20 | B25: Manu. Gimęs skraidyti | C25: Manou the Swift | D25: DE | E25: 17482 | F25: 4117 | G25: 15 | H25: 43791 | I25: Best Film
A26: =IF(B26<>"",ROWS($B$6:B26),"") -> 21 | B26: Aviuko Šono filmas. Fermagedonas | C26: Shaun the Sheep 2 (Shaun the Sheep Movie: Farmageddon) | D26: US, UK, FR | E26: 14656.55 | F26: 3096 | G26: 10 | H26: 43784 | I26: ACME Film
A27: =IF(B27<>"",ROWS($B$6:B27),"") -> 22 | B27: Srovių karas | C27: The Current War | D27: US | E27: 12552 | F27: 2254 | G27: 12 | H27: 43805 | I27: Garsų pasaulio įrašai
A28: =IF(B28<>"",ROWS($B$6:B28),"") -> 23 | B28: Naujokas | C28: Le Nouveau | D28: FR | E28: 11200 | F28: 3789 | G28: 2 | H28: 43189 | I28: Kauno kino centras "Romuva"
A29: =IF(B29<>"",ROWS($B$6:B29),"") -> 24 | B29: Džokeris | C29: Joker | D29: US, CA | E29: 10311.38 | F29: 1749 | G29: 5 | H29: 43742 | I29: ACME Film / WB
A30: =IF(B30<>"",ROWS($B$6:B30),"") -> 25 | B30: Valstybinės laidotuvės | C30: State Funeral | D30: LT, UA, NL | E30: 6392 | F30: 1611 | G30: 5 | H30: 43791 | I30: Garsų pasaulio įrašai
A31: =IF(B31<>"",ROWS($B$6:B31),"") -> 26 | B31: Kokaino baronas | C31: Running with the Devil | D31: US, CO | E31: 5054 | F31: 804 | G31: 9 | H31: 43798 | I31: Travolta
A32: =IF(B32<>"",ROWS($B$6:B32),"") -> 27 | B32: Sniego vaikis | C32: Abominable | D32: CN, US | E32: 5049.9 | F32: 1124 | G32: 6 | H32: 43742 | I32: NCG Distribution / Universal Pictures International
A33: =IF(B33<>"",ROWS($B$6:B33),"") -> 28 | B33: Grinčas | C33: The Grinch | D33: US | E33: 4755.3 | F33: 2532 | G33: 1 | H33: 43434 | I33: NCG Distribution / Universal Pictures International
A34: =IF(B34<>"",ROWS($B$6:B34),"") -> 29 | B34: Nepaprasta Remio kelionė | C34: Rémi sans famille | D34: FR | E34: 4701.57 | F34: 1648 | G34: 2 | H34: 43707 | I34: Estinfilms
A35: =IF(B35<>"",ROWS($B$6:B35),"") -> 30 | B35: Sibilės vilionės | C35: Sibyl | D35: FR | E35: 4453 | F35: 1025 | G35: 4 | H35: 43826 | I35: A-one films
A36: =IF(B36<>"",ROWS($B$6:B36),"") -> 31 | B36: Daktaras miegas | C36: Doctor Sleep | D36: US | E36: 4443.55 | F36: 774 | G36: 4 | H36: 43777 | I36: ACME Film / WB
A37: =IF(B37<>"",ROWS($B$6:B37),"") -> 32 | B37: Vienišos širdys | C37: Someone Somewhere | D37: FR, BE | E37: 4231 | F37: 860 | G37: 11 | H37: 43819 | I37: VLG Film
A38: =IF(B38<>"",ROWS($B$6:B38),"") -> 33 | B38: Magiška dėžutė | C38: Den magiske juleæske | D38: SE, DK | E38: 3602 | F38: 1715 | G38: 1 | H38: 43084 | I38: KC Garsas
A39: =IF(B39<>"",ROWS($B$6:B39),"") -> 34 | B39: Aeronautai | C39: Aeronauts | D39: UK, US | E39: 3532.26 | F39: 627 | G39: 5 | H39: 43805 | I39: ACME Film
A40: =IF(B40<>"",ROWS($B$6:B40),"") -> 35 | B40: Elniuko Ailo kelionė per Laplandiją | C40: Aïlo: Une odyssée en Laponie | D40: FI, FR | E40: 3505.5 | F40: 928 | G40: 3 | H40: 43763 | I40: Estinfilms
A41: =IF(B41<>"",ROWS($B$6:B41),"") -> 36 | B41: Zombi vaikas | C41: Zombi | D41: FR | E41: 2187 | F41: 557 | G41: 4 | H41: 43812 | I41: A-one films
A42: =IF(B42<>"",ROWS($B$6:B42),"") -> 37 | B42: Partenonas | C42: Partenonas | D42: LT, GR, FR, TR, UA | E42: 2186 | F42: 517 | G42: 9 | H42: 43805 | I42: Garsų pasaulio įrašai
A43: =IF(B43<>"",ROWS($B$6:B43),"") -> 38 | B43: Midvėjaus mūšis | C43: Midway | D43: US, CN | E43: 2154.02 | F43: 357 | G43: 3 | H43: 43777 | I43: ACME Film
A44: =IF(B44<>"",ROWS($B$6:B44),"") -> 39 | B44: Aš esu Leonardo | C44: I, Leonardo | D44: IT | E44: 1870.22 | F44: 713 | G44: 3 | H44: 43763 | I44: Best Film
A45: =IF(B45<>"",ROWS($B$6:B45),"") -> 40 | B45: Bohemijos rapsodija | C45: Bohemian Rhapsody | D45: UK. US | E45: 1624.5 | F45: 187 | G45: 1 | H45: 43406 | I45: Theatrical Film Distribution / 20th Century Fox
A46: =IF(B46<>"",ROWS($B$6:B46),"") -> 41 | B46: Pavarotti | C46: Pavarotti | D46: UK, US | E46: 1368 | F46: 367 | G46: 2 | H46: 43672 | I46: VLG Film
A47: =IF(B47<>"",ROWS($B$6:B47),"") -> 42 | B47: 21 tiltas | C47: 21 Bridges | D47: US | E47: 1153.69 | F47: 214 | G47: 4 | H47: 43791 | I47: ACME Film
A48: =IF(B48<>"",ROWS($B$6:B48),"") -> 43 | B48: Piktadarės istorija 2 | C48: Maleficent: Mistress of Evil | D48: US | E48: 827.28 | F48: 148 | G48: 3 | H48: 43763 | I48: Theatrical Film Distribution / WDSMPI
A49: =IF(B49<>"",ROWS($B$6:B49),"") -> 44 | B49: Panelė Rūgštynė | C49: Jamais Contente | D49: FR | E49: 805 | F49: 265 | G49: 1 | H49: 42721 | I49: Skalvijos kino centras
A50: =IF(B50<>"",ROWS($B$6:B50),"") -> 45 | B50: Išsaugotas | C50: Keeper | D50: FR | E50: 680 | F50: 349 | G50: 1 | H50: 42475 | I50: KC Garsas
A51: =IF(B51<>"",ROWS($B$6:B51),"") -> 46 | B51: Like VIRUSAS | C51: Pew Pew Pew | D51: SE | E51: 651 | F51: 283 | G51: 1 | H51: 43812 | I51: KC Garsas
A52: =IF(B52<>"",ROWS($B$6:B52),"") -> 47 | B52: Šuns tikslas 2 | C52: Molly and Max (A Dog's Journey) | D52: US | E52: 638 | F52: 236 | G52: 2 | H52: 43721 | I52: ACME Film
A53: =IF(B53<>"",ROWS($B$6:B53),"") -> 48 | B53: Kurjerė | C53: The Courier | D53: UK, US | E53: 596.34 | F53: 105 | G53: 1 | H53: 43812 | I53: VLG Film
A54: =IF(B54<>"",ROWS($B$6:B54),"") -> 49 | B54: Arčiau debesų | C54: Cloudboy | D54: BG, SE, NL, NO | E54: 524 | F54: 249 | G54: 1 | H54: 42988 | I54: Skalvijos kino centras
A55: =IF(B55<>"",ROWS($B$6:B55),"") -> 50 | B55: Vieša paslaptis | C55: Official Secrets | D55: UK, US | E55: 500 | F55: 110 | G55: 1 | H55: 43742 | I55: ACME Film
A56: =IF(B56<>"",ROWS($B$6:B56),"") -> 51 | B56: Kaimynė šnipė | C56: Next Door Spy | D56: DK | E56: 441 | F56: 174 | G56: 1 | H56: 43015 | I56: Skalvijos kino centras
A57: =IF(B57<>"",ROWS($B$6:B57),"") -> 52 | B57: Baseino valdovai | C57: Sink or Swim | D57: FR | E57: 399.89 | F57: 63 | G57: 1 | H57: 43525 | I57: Best Film
A58: =IF(B58<>"",ROWS($B$6:B58),"") -> 53 | B58: Ralfas griovėjas 2 | C58: Ralph Breaks the Internet: Wreck-It Ralph 2 | D58: US | E58: 347 | F58: 112 | G58: 2 | H58: 43476 | I58: Theatrical Film Distribution / WDSMPI
A59: =IF(B59<>"",ROWS($B$6:B59),"") -> 54 | B59: Čia buvo Brita Marija | C59: Britt-Marie var här | D59: SE | E59: 316.95 | F59: 86 | G59: 2 | H59: 43791 | I59: Estinfilms
A60: =IF(B60<>"",ROWS($B$6:B60),"") -> 55 | B60: Dauntono Abatija | C60: Downton Abbey | D60: UK | E60: 316 | F60: 57 | G60: 1 | H60: 43721 | I60: NCG Distribution / Universal Pictures International
A61: =IF(B61<>"",ROWS($B$6:B61),"") -> 56 | B61: Didelis blogas lapinas ir kitos istorijos | C61: Le grand méchant renard et autres contes... | D61: BE, FR | E61: 303 | F61: 81 | G61: 1 | H61: 43379 | I61: Skalvijos kino centras
A62: =IF(B62<>"",ROWS($B$6:B62),"") -> 57 | B62: Melagiai | C62: Melagiai | D62: LT | E62: 300 | F62: 180 | G62: 3 | H62: 43413 | I62: Film Jam
A63: =IF(B63<>"",ROWS($B$6:B63),"") -> 58 | B63: Atsargiai, ragana | C63: Zlogonje | D63: MK | E63: 289 | F63: 113 | G63: 1 | H63: 43435 | I63: Skalvijos kino centras
A64: =IF(B64<>"",ROWS($B$6:B64),"") -> 59 | B64: Forpostas | C64: Аванпост | D64: RU | E64: 276.8 | F64: 57 | G64: 1 | H64: 43791 | I64: ACME Film
A65: =IF(B65<>"",ROWS($B$6:B65),"") -> 60 | B65: Mažoji pėda | C65: Smallfoot | D65: US | E65: 272.5 | F65: 99 | G65: 1 | H65: 43392 | I65: ACME Film / WB
A66: =IF(B66<>"",ROWS($B$6:B66),"") -> 61 | B66: 12 kėdžių | C66: 12 kėdžių | D66: LT | E66: 250 | F66: 68 | G66: 2 | H66: 42727 | I66: Film Jam
A67: =IF(B67<>"",ROWS($B$6:B67),"") -> 62 | B67: Animus Animalis (istorija apie žmones, žvėris ir daiktus) (Animus Animalis (A story about People, Animals and Things)) | C67: Animus Animalis (istorija apie žmones, žvėris ir daiktus) (Animus Animalis (A story about People, Animals and Things)) | D67: LT | E67: 225.5 | F67: 60 | G67: 1 | H67: 43721 | I67: Meno avilys
A68: =IF(B68<>"",ROWS($B$6:B68),"") -> 63 | B68: Rūgštus miškas | C68: ACID FOREST | D68: LT | E68: 213 | F68: 60 | G68: 1 | H68: 43560 | I68: Neon Realism
A69: =IF(B69<>"",ROWS($B$6:B69),"") -> 64 | B69: (Ne) Tikros prancūziškos vestuvės 2 | C69: Qu'est-ce qu'on a fait au Bon Dieu? 2 | D69: FR | E69: 204.2 | F69: 31 | G69: 1 | H69: 43714 | I69: Kino pasaka
A70: =IF(B70<>"",ROWS($B$6:B70),"") -> 65 | B70: Kusama | C70: Kusama: Infinity | D70: US | E70: 187.5 | F70: 54 | G70: 1 | H70: 43763 | I70: Kino pasaka
A71: =IF(B71<>"",ROWS($B$6:B71),"") -> 66 | B71: Belos kelionė namo | C71: Dog's Way Home | D71: US | E71: 176.5 | F71: 67 | G71: 1 | H71: 43490 | I71: ACME Film / SONY
A72: =IF(B72<>"",ROWS($B$6:B72),"") -> 67 | B72: Tamsta Varlius | C72: Meester Kikker | D72: NL | E72: 148 | F72: 74 | G72: 1 | H72: 42654 | I72: Skalvijos kino centras
A73: =IF(B73<>"",ROWS($B$6:B73),"") -> 68 | B73: Išklausyk! (Programa vaikams) | C73: Luister | D73: NL | E73: 146 | F73: 43 | G73: 1 | H73: 43366 | I73: Skalvijos kino centras
A74: =IF(B74<>"",ROWS($B$6:B74),"") -> 69 | B74: Kiaurymė | C74: The Hole In The Ground | D74: IE | E74: 130 | F74: 26 | G74: 1 | H74: 43525 | I74: Theatrical Film Distribution
A75: =IF(B75<>"",ROWS($B$6:B75),"") -> 70 | B75: Žinutė | C75: Текст | D75: RU | E75: 120.5 | F75: 35 | G75: 1 | H75: 43788 | I75: Theatrical Film Distribution
A76: =IF(B76<>"",ROWS($B$6:B76),"") -> 71 | B76: Medaus šalis | C76: Honeyland | D76: MK | E76: 110 | F76: 26 | G76: 1 | H76: 43714 | I76: Kino pasaka
A77: =IF(B77<>"",ROWS($B$6:B77),"") -> 72 | B77: Keliaujantys paukščiai | C77: Les oiseaux de passage | D77: BE, FR | E77: 108 | F77: 27 | G77: 1 | H77: 42301 | I77: Skalvijos kino centras
... A80: =IF(B80<>"",ROWS($B$6:B80),"") -> 75 | B80: Sengirė | C80: Sengirė | D80: LT | E80: 67.5 | F80: 19 | G80: 2 | H80: 43189 | I80: VšĮ Sengirė
A81: =IF(B81<>"",ROWS($B$6:B81),"") -> 76 | B81: Raudonbatė ir 7 Nykštukai | C81: Red Shoes and the Seven Dwarfs | D81: KR | E81: 61 | F81: 15 | G81: 1 | H81: 43735 | I81: ACME Film
A82: =IF(B82<>"",ROWS($B$6:B82),"") -> 77 | B82: Kita tylos pusė | C82: Kita tylos pusė | D82: LT | E82: 21 | F82: 7 | G82: 1 | H82: 43742 | I82: Garsų pasaulio įrašai
E83: =SUBTOTAL(109,Table3_Gruodis[Pajamos]) -> 2317548.5 | F83: =SUBTOTAL(109,Table3_Gruodis[Žiūrovų skaičius]) -> 424364
